BEGIN:VCALENDAR
VERSION:2.0
PRODID:-//Cambridge Common Writers - ECPv6.15.20//NONSGML v1.0//EN
CALSCALE:GREGORIAN
METHOD:PUBLISH
X-WR-CALNAME:Cambridge Common Writers
X-ORIGINAL-URL:https://cambridgecommonwriters.org
X-WR-CALDESC:Events for Cambridge Common Writers
REFRESH-INTERVAL;VALUE=DURATION:PT1H
X-Robots-Tag:noindex
X-PUBLISHED-TTL:PT1H
BEGIN:VTIMEZONE
TZID:America/New_York
BEGIN:DAYLIGHT
TZOFFSETFROM:-0500
TZOFFSETTO:-0400
TZNAME:EDT
DTSTART:20250309T070000
END:DAYLIGHT
BEGIN:STANDARD
TZOFFSETFROM:-0400
TZOFFSETTO:-0500
TZNAME:EST
DTSTART:20251102T060000
END:STANDARD
BEGIN:DAYLIGHT
TZOFFSETFROM:-0500
TZOFFSETTO:-0400
TZNAME:EDT
DTSTART:20260308T070000
END:DAYLIGHT
BEGIN:STANDARD
TZOFFSETFROM:-0400
TZOFFSETTO:-0500
TZNAME:EST
DTSTART:20261101T060000
END:STANDARD
BEGIN:DAYLIGHT
TZOFFSETFROM:-0500
TZOFFSETTO:-0400
TZNAME:EDT
DTSTART:20270314T070000
END:DAYLIGHT
BEGIN:STANDARD
TZOFFSETFROM:-0400
TZOFFSETTO:-0500
TZNAME:EST
DTSTART:20271107T060000
END:STANDARD
END:VTIMEZONE
BEGIN:VEVENT
DTSTART;TZID=America/New_York:20260221T150000
DTEND;TZID=America/New_York:20260221T160000
DTSTAMP:20260420T070440
CREATED:20260203T214921Z
LAST-MODIFIED:20260219T010346Z
UID:12798-1771686000-1771689600@cambridgecommonwriters.org
SUMMARY:Book Launch with Cynthia Platt: Bunny in Disguise
DESCRIPTION:Join Whitelam Books to celebrate Cynthia Platt’s (WFYP\, June 2014) NEW picture book\, Bunny in Disguise!Egg hunt’s starting at high noon!That bunny has to hide eggs soon!We must act now or they’ll be latefor this important Easter date!The Easter Bunny is late! Can a group of creative kids help this iconic rabbit get to the town’s egg hunt in time all while keeping the famous bunny incognito and out of sight? The kids need to work together and hop to it if they’re going to pull this off and save the holiday. \n\n\n\n\n\n\n\nThis is a perfectly funny and sweet read-aloud tale to share in every Easter basket!
URL:https://cambridgecommonwriters.org/calendar/book-launch-with-author-cynthia-platt-bunny-in-disguise/
LOCATION:Whitelam Books\, 610 Main Street\, Reading\, Massachusetts\, 01867\, United States
CATEGORIES:Alum Event
ATTACH;FMTTYPE=image/jpeg:https://cambridgecommonwriters.org/wp-content/uploads/2026/01/Bunny-in-Disguise.jpg
ORGANIZER;CN="Whitelam Books":MAILTO:whitelambooks@gmail.com
END:VEVENT
END:VCALENDAR