BEGIN:VCALENDAR
VERSION:2.0
PRODID:-//Cambridge Common Writers - ECPv6.15.20//NONSGML v1.0//EN
CALSCALE:GREGORIAN
METHOD:PUBLISH
X-WR-CALNAME:Cambridge Common Writers
X-ORIGINAL-URL:https://cambridgecommonwriters.org
X-WR-CALDESC:Events for Cambridge Common Writers
REFRESH-INTERVAL;VALUE=DURATION:PT1H
X-Robots-Tag:noindex
X-PUBLISHED-TTL:PT1H
BEGIN:VTIMEZONE
TZID:America/New_York
BEGIN:DAYLIGHT
TZOFFSETFROM:-0500
TZOFFSETTO:-0400
TZNAME:EDT
DTSTART:20250309T070000
END:DAYLIGHT
BEGIN:STANDARD
TZOFFSETFROM:-0400
TZOFFSETTO:-0500
TZNAME:EST
DTSTART:20251102T060000
END:STANDARD
BEGIN:DAYLIGHT
TZOFFSETFROM:-0500
TZOFFSETTO:-0400
TZNAME:EDT
DTSTART:20260308T070000
END:DAYLIGHT
BEGIN:STANDARD
TZOFFSETFROM:-0400
TZOFFSETTO:-0500
TZNAME:EST
DTSTART:20261101T060000
END:STANDARD
BEGIN:DAYLIGHT
TZOFFSETFROM:-0500
TZOFFSETTO:-0400
TZNAME:EDT
DTSTART:20270314T070000
END:DAYLIGHT
BEGIN:STANDARD
TZOFFSETFROM:-0400
TZOFFSETTO:-0500
TZNAME:EST
DTSTART:20271107T060000
END:STANDARD
END:VTIMEZONE
BEGIN:VEVENT
DTSTART;TZID=America/New_York:20260217T183000
DTEND;TZID=America/New_York:20260217T203000
DTSTAMP:20260420T070402
CREATED:20260203T215929Z
LAST-MODIFIED:20260203T215931Z
UID:12801-1771353000-1771360200@cambridgecommonwriters.org
SUMMARY:Artful Connections: With Ben Keyes and Amy Asherah
DESCRIPTION:ARTFUL CONNECTIONS is a social justice-lensed event where artists offer music\, poetry\, readings\, and spoken word. Join this month’s co-hosts\, Ben Keyes and Amy Asherah (Nonfiction\, January 2023)\, for an evening presentation\, performance\, and discussion. Guests are welcome to add their words\, music\, and art to the conversation. Refreshments are available.  \n\n\n\nThis series is a collaboration between the Hopkinton Freedom Team and the Hopkinton Center for the Arts\, with support from Riverside Properties\, the Massachusetts Cultural Council\, the Hopkinton Cultural Council\, and Hopkinton Youth and Family Services. \n\n\n\nBen Keyes grew up in Southborough\, Massachusetts. He attended Brown University\, where he studied ethnomusicology and later received his Master’s degree in Theology and the Arts from Regent College (Vancouver\, B.C.). Ben and his wife Nickaela are now co-directors of the Southborough L’Abri Fellowship\, where he cooks for the guests\, tutors students\, gives lectures\, splits wood\, and thinks about God and art. They have two daughters and a son. \n\n\n\nAmy Asherah is a poet\, writer\, and writing instructor. Her work has been published in Modern Love (NY Times)\, Boulevard\, CALYX Journal\, and other places. Amy completed two apprenticeships in herbal medicine and co-founded the Common Street Spiritual Center in Natick\, MA. She is a mother of four daughters.
URL:https://cambridgecommonwriters.org/calendar/artful-connections-with-ben-keyes-and-amy-asherah/
LOCATION:Hopkinton Center for the Arts\, 98 Hayden Rowe St\, Hopkinton\, Massachusetts\, 01748\, United States
CATEGORIES:Alum Event
ATTACH;FMTTYPE=image/jpeg:https://cambridgecommonwriters.org/wp-content/uploads/2026/02/Screenshot-2026-02-03-at-4.59.09-PM.jpg
ORGANIZER;CN="Hopkinton Freedom Team and the Hopkinton Center for the Arts":MAILTO:info@hopartscenter.org
END:VEVENT
END:VCALENDAR