BEGIN:VCALENDAR
VERSION:2.0
PRODID:-//Cambridge Common Writers - ECPv6.15.20//NONSGML v1.0//EN
CALSCALE:GREGORIAN
METHOD:PUBLISH
X-ORIGINAL-URL:https://cambridgecommonwriters.org
X-WR-CALDESC:Events for Cambridge Common Writers
REFRESH-INTERVAL;VALUE=DURATION:PT1H
X-Robots-Tag:noindex
X-PUBLISHED-TTL:PT1H
BEGIN:VTIMEZONE
TZID:Europe/London
BEGIN:DAYLIGHT
TZOFFSETFROM:+0000
TZOFFSETTO:+0100
TZNAME:BST
DTSTART:20240331T010000
END:DAYLIGHT
BEGIN:STANDARD
TZOFFSETFROM:+0100
TZOFFSETTO:+0000
TZNAME:GMT
DTSTART:20241027T010000
END:STANDARD
BEGIN:DAYLIGHT
TZOFFSETFROM:+0000
TZOFFSETTO:+0100
TZNAME:BST
DTSTART:20250330T010000
END:DAYLIGHT
BEGIN:STANDARD
TZOFFSETFROM:+0100
TZOFFSETTO:+0000
TZNAME:GMT
DTSTART:20251026T010000
END:STANDARD
BEGIN:DAYLIGHT
TZOFFSETFROM:+0000
TZOFFSETTO:+0100
TZNAME:BST
DTSTART:20260329T010000
END:DAYLIGHT
BEGIN:STANDARD
TZOFFSETFROM:+0100
TZOFFSETTO:+0000
TZNAME:GMT
DTSTART:20261025T010000
END:STANDARD
END:VTIMEZONE
BEGIN:VTIMEZONE
TZID:America/New_York
BEGIN:DAYLIGHT
TZOFFSETFROM:-0500
TZOFFSETTO:-0400
TZNAME:EDT
DTSTART:20240310T070000
END:DAYLIGHT
BEGIN:STANDARD
TZOFFSETFROM:-0400
TZOFFSETTO:-0500
TZNAME:EST
DTSTART:20241103T060000
END:STANDARD
BEGIN:DAYLIGHT
TZOFFSETFROM:-0500
TZOFFSETTO:-0400
TZNAME:EDT
DTSTART:20250309T070000
END:DAYLIGHT
BEGIN:STANDARD
TZOFFSETFROM:-0400
TZOFFSETTO:-0500
TZNAME:EST
DTSTART:20251102T060000
END:STANDARD
BEGIN:DAYLIGHT
TZOFFSETFROM:-0500
TZOFFSETTO:-0400
TZNAME:EDT
DTSTART:20260308T070000
END:DAYLIGHT
BEGIN:STANDARD
TZOFFSETFROM:-0400
TZOFFSETTO:-0500
TZNAME:EST
DTSTART:20261101T060000
END:STANDARD
END:VTIMEZONE
BEGIN:VEVENT
DTSTART;TZID=Europe/London:20251023T190000
DTEND;TZID=Europe/London:20251023T203000
DTSTAMP:20260420T141202
CREATED:20250926T145429Z
LAST-MODIFIED:20251002T221138Z
UID:12343-1761246000-1761251400@cambridgecommonwriters.org
SUMMARY:Ever Since We Small: An Evening with Celeste Mohammed in Leeds
DESCRIPTION:Celeste Mohammad (Fiction\, June 2016) will be in conversation with Emily Zobel Marshall at Waterstones\, Leeds to celebrate the release of her new novel\, Ever Since We Small.
URL:https://cambridgecommonwriters.org/calendar/ever-since-we-small-an-evening-with-celeste-mohammed-in-leeds/
LOCATION:Waterstones\, Leeds\, 93-97 Albion Street\, Leeds\, LS1 5AP\, United Kingdom
CATEGORIES:Alum Event
ATTACH;FMTTYPE=image/jpeg:https://cambridgecommonwriters.org/wp-content/uploads/2021/12/Celeste-Mohammed-Edit-1024x1024-1.jpg
ORGANIZER;CN="Jacaranda Books":MAILTO:office@jacarandabooksartmusic.co.uk
END:VEVENT
BEGIN:VEVENT
DTSTART;TZID=America/New_York:20251023T200000
DTEND;TZID=America/New_York:20251023T230000
DTSTAMP:20260420T141202
CREATED:20251017T152611Z
LAST-MODIFIED:20251017T152616Z
UID:12435-1761249600-1761260400@cambridgecommonwriters.org
SUMMARY:Poetry Reading with Frances Donovan
DESCRIPTION:Hear poet Frances Donovan (Poetry\, June 2019) and others at Square Root Readings: Rozzie Poets Edition & Open Mic.  \n\n\n\nBooks for sale before the event at Rozzie Bound.
URL:https://cambridgecommonwriters.org/calendar/poetry-reading-with-frances-donovan/
LOCATION:Square Root\, 2 Corinth St\, ROSLINDALE\, Massachusetts\, 02131\, United States
CATEGORIES:Alum Event
ATTACH;FMTTYPE=image/jpeg:https://cambridgecommonwriters.org/wp-content/uploads/2022/06/Frances-Donovan.jpg
ORGANIZER;CN="Rozzie Bound Co-op":MAILTO:Info@RozzieBound.com
END:VEVENT
END:VCALENDAR