BEGIN:VCALENDAR
VERSION:2.0
PRODID:-//Cambridge Common Writers - ECPv6.15.20//NONSGML v1.0//EN
CALSCALE:GREGORIAN
METHOD:PUBLISH
X-ORIGINAL-URL:https://cambridgecommonwriters.org
X-WR-CALDESC:Events for Cambridge Common Writers
REFRESH-INTERVAL;VALUE=DURATION:PT1H
X-Robots-Tag:noindex
X-PUBLISHED-TTL:PT1H
BEGIN:VTIMEZONE
TZID:Europe/London
BEGIN:DAYLIGHT
TZOFFSETFROM:+0000
TZOFFSETTO:+0100
TZNAME:BST
DTSTART:20240331T010000
END:DAYLIGHT
BEGIN:STANDARD
TZOFFSETFROM:+0100
TZOFFSETTO:+0000
TZNAME:GMT
DTSTART:20241027T010000
END:STANDARD
BEGIN:DAYLIGHT
TZOFFSETFROM:+0000
TZOFFSETTO:+0100
TZNAME:BST
DTSTART:20250330T010000
END:DAYLIGHT
BEGIN:STANDARD
TZOFFSETFROM:+0100
TZOFFSETTO:+0000
TZNAME:GMT
DTSTART:20251026T010000
END:STANDARD
BEGIN:DAYLIGHT
TZOFFSETFROM:+0000
TZOFFSETTO:+0100
TZNAME:BST
DTSTART:20260329T010000
END:DAYLIGHT
BEGIN:STANDARD
TZOFFSETFROM:+0100
TZOFFSETTO:+0000
TZNAME:GMT
DTSTART:20261025T010000
END:STANDARD
END:VTIMEZONE
BEGIN:VEVENT
DTSTART;TZID=Europe/London:20251015T183000
DTEND;TZID=Europe/London:20251015T220000
DTSTAMP:20260420T141404
CREATED:20250925T215949Z
LAST-MODIFIED:20251002T220453Z
UID:12312-1760553000-1760565600@cambridgecommonwriters.org
SUMMARY:EVER SINCE WE SMALL Launch Party with Celeste Mohammed
DESCRIPTION:Join Celeste Mohammed (Fiction\, June 2016) and the Shelf Interest Bookclub for an evening of conversation\, books\, drinks and music as they discuss her second novel-in-stories\, Ever Since We Small. \n\n\n\nThis London event kicks off a UK-wide tour and is a chance for long-term fans of Celeste Mohammed’s work to meet the author in person and celebrate her triumphant second offering. \n\n\n\n\n\n\n\nCopies of Ever Since We Small will be on sale all night at a special pre-publication date 10% off\, with author signings to follow the in-conversation.
URL:https://cambridgecommonwriters.org/calendar/ever-since-we-small-launch-party-with-celeste-mohammed/
LOCATION:Carmelite House\, 8 Carmelite St\, Temple\, London\, EC4Y 0DZ\, United Kingdom
CATEGORIES:Alum Event
ATTACH;FMTTYPE=image/jpeg:https://cambridgecommonwriters.org/wp-content/uploads/2023/05/Celeste-Mohammed-Edit-1024x1024-1.jpg
END:VEVENT
END:VCALENDAR