BEGIN:VCALENDAR
VERSION:2.0
PRODID:-//Cambridge Common Writers - ECPv6.15.20//NONSGML v1.0//EN
CALSCALE:GREGORIAN
METHOD:PUBLISH
X-WR-CALNAME:Cambridge Common Writers
X-ORIGINAL-URL:https://cambridgecommonwriters.org
X-WR-CALDESC:Events for Cambridge Common Writers
REFRESH-INTERVAL;VALUE=DURATION:PT1H
X-Robots-Tag:noindex
X-PUBLISHED-TTL:PT1H
BEGIN:VTIMEZONE
TZID:America/New_York
BEGIN:DAYLIGHT
TZOFFSETFROM:-0500
TZOFFSETTO:-0400
TZNAME:EDT
DTSTART:20240310T070000
END:DAYLIGHT
BEGIN:STANDARD
TZOFFSETFROM:-0400
TZOFFSETTO:-0500
TZNAME:EST
DTSTART:20241103T060000
END:STANDARD
BEGIN:DAYLIGHT
TZOFFSETFROM:-0500
TZOFFSETTO:-0400
TZNAME:EDT
DTSTART:20250309T070000
END:DAYLIGHT
BEGIN:STANDARD
TZOFFSETFROM:-0400
TZOFFSETTO:-0500
TZNAME:EST
DTSTART:20251102T060000
END:STANDARD
BEGIN:DAYLIGHT
TZOFFSETFROM:-0500
TZOFFSETTO:-0400
TZNAME:EDT
DTSTART:20260308T070000
END:DAYLIGHT
BEGIN:STANDARD
TZOFFSETFROM:-0400
TZOFFSETTO:-0500
TZNAME:EST
DTSTART:20261101T060000
END:STANDARD
END:VTIMEZONE
BEGIN:VEVENT
DTSTART;TZID=America/New_York:20251014T200000
DTEND;TZID=America/New_York:20251014T210000
DTSTAMP:20260420T140844
CREATED:20251012T195129Z
LAST-MODIFIED:20251012T195133Z
UID:12430-1760472000-1760475600@cambridgecommonwriters.org
SUMMARY:What The Universe Is: Cindy Veach and July Westhale
DESCRIPTION:Join poets Cindy Veach and July Westhale (Poetry\, June 2013) for the latest session of What The Universe Is\, the online poetry reading series founded by Michael Mercurio (Poetry\, January 2017). \n\n\n\nCindy Veach is the author of three full-length poetry collections: Monster Galaxy; Her Kind; and Gloved Against Blood. She is also the author of the chapbook\, Innocents. Her poems have appeared in The Academy of American Poets Poem-a-Day Series\, AGNI\, Chicago Review\, Prairie Schooner\, Poet Lore\, Michigan Quarterly Review\, Diode\, The Journal\, Nimrod\, North American Review\, Verse Daily\, and elsewhere. Cindy received an MFA from the University of Oregon where she was a graduate teaching fellow and an assistant poetry editor for Northwest Review. She is co-poetry editor of MER (Mom Egg Review). \n\n\n\nJuly Westhale’s books include moon moon\, Trailer Trash\, Unmade Hearts\, and Via Negativa. Ocean Vuong chose Westhale as the 2018 University of Arizona Poetry Center Fellow. Their translation of the Chilean poet Rolando Cardenas’ collected works was selected for the 2026 Unsung Masters Series (forthcoming from Pleiades Press). They have work in McSweeney’s\, DIAGRAM\, The National Poetry Review\, Prairie Schooner\, CALYX\, Hayden’s Ferry Review\, and The Huffington Post\, among others.
URL:https://cambridgecommonwriters.org/calendar/what-the-universe-is-cindy-veach-and-july-westhale/
LOCATION:Online Zoom Event
CATEGORIES:Alum Event
ATTACH;FMTTYPE=image/jpeg:https://cambridgecommonwriters.org/wp-content/uploads/2025/10/Screenshot-2025-10-12-at-3.51.09-PM.jpg
END:VEVENT
END:VCALENDAR