BEGIN:VCALENDAR
VERSION:2.0
PRODID:-//Cambridge Common Writers - ECPv6.15.20//NONSGML v1.0//EN
CALSCALE:GREGORIAN
METHOD:PUBLISH
X-ORIGINAL-URL:https://cambridgecommonwriters.org
X-WR-CALDESC:Events for Cambridge Common Writers
REFRESH-INTERVAL;VALUE=DURATION:PT1H
X-Robots-Tag:noindex
X-PUBLISHED-TTL:PT1H
BEGIN:VTIMEZONE
TZID:America/New_York
BEGIN:DAYLIGHT
TZOFFSETFROM:-0500
TZOFFSETTO:-0400
TZNAME:EDT
DTSTART:20240310T070000
END:DAYLIGHT
BEGIN:STANDARD
TZOFFSETFROM:-0400
TZOFFSETTO:-0500
TZNAME:EST
DTSTART:20241103T060000
END:STANDARD
BEGIN:DAYLIGHT
TZOFFSETFROM:-0500
TZOFFSETTO:-0400
TZNAME:EDT
DTSTART:20250309T070000
END:DAYLIGHT
BEGIN:STANDARD
TZOFFSETFROM:-0400
TZOFFSETTO:-0500
TZNAME:EST
DTSTART:20251102T060000
END:STANDARD
BEGIN:DAYLIGHT
TZOFFSETFROM:-0500
TZOFFSETTO:-0400
TZNAME:EDT
DTSTART:20260308T070000
END:DAYLIGHT
BEGIN:STANDARD
TZOFFSETFROM:-0400
TZOFFSETTO:-0500
TZNAME:EST
DTSTART:20261101T060000
END:STANDARD
END:VTIMEZONE
BEGIN:VEVENT
DTSTART;TZID=America/New_York:20250709T190000
DTEND;TZID=America/New_York:20250709T200000
DTSTAMP:20260420T194844
CREATED:20250706T175655Z
LAST-MODIFIED:20250706T175657Z
UID:11892-1752087600-1752091200@cambridgecommonwriters.org
SUMMARY:Jiwon Choi\, Frances Donovan and Gloria A. Monaghan with an introduction by Eileen Cleary and Mark Pawlak
DESCRIPTION:Join the Grolier Poetry Book Shop (in-person or virtually) to hear readings from authors Jiwon Choi\, Frances Donovan (Poetry\, June 2019)\, and Gloria A. Monaghan. Eileen Cleary (Poetry\, June 2016) and Mark Pawlak are giving the introductions.
URL:https://cambridgecommonwriters.org/calendar/jiwon-choi-frances-donovan-and-gloria-a-monaghan-with-an-introduction-by-eileen-cleary-and-mark-pawlak/
LOCATION:Grolier Poetry Book Shop\, 6 Plympton Street\, Cambridge\, Massachusetts\, 02138\, United States
CATEGORIES:Alum Event
ATTACH;FMTTYPE=image/jpeg:https://cambridgecommonwriters.org/wp-content/uploads/2020/03/Frances-Donovan-scaled.jpg
END:VEVENT
END:VCALENDAR