BEGIN:VCALENDAR
VERSION:2.0
PRODID:-//Cambridge Common Writers - ECPv6.15.20//NONSGML v1.0//EN
CALSCALE:GREGORIAN
METHOD:PUBLISH
X-WR-CALNAME:Cambridge Common Writers
X-ORIGINAL-URL:https://cambridgecommonwriters.org
X-WR-CALDESC:Events for Cambridge Common Writers
REFRESH-INTERVAL;VALUE=DURATION:PT1H
X-Robots-Tag:noindex
X-PUBLISHED-TTL:PT1H
BEGIN:VTIMEZONE
TZID:America/New_York
BEGIN:DAYLIGHT
TZOFFSETFROM:-0500
TZOFFSETTO:-0400
TZNAME:EDT
DTSTART:20240310T070000
END:DAYLIGHT
BEGIN:STANDARD
TZOFFSETFROM:-0400
TZOFFSETTO:-0500
TZNAME:EST
DTSTART:20241103T060000
END:STANDARD
BEGIN:DAYLIGHT
TZOFFSETFROM:-0500
TZOFFSETTO:-0400
TZNAME:EDT
DTSTART:20250309T070000
END:DAYLIGHT
BEGIN:STANDARD
TZOFFSETFROM:-0400
TZOFFSETTO:-0500
TZNAME:EST
DTSTART:20251102T060000
END:STANDARD
BEGIN:DAYLIGHT
TZOFFSETFROM:-0500
TZOFFSETTO:-0400
TZNAME:EDT
DTSTART:20260308T070000
END:DAYLIGHT
BEGIN:STANDARD
TZOFFSETFROM:-0400
TZOFFSETTO:-0500
TZNAME:EST
DTSTART:20261101T060000
END:STANDARD
END:VTIMEZONE
BEGIN:VEVENT
DTSTART;TZID=America/New_York:20250630T190000
DTEND;TZID=America/New_York:20250630T200000
DTSTAMP:20260420T194454
CREATED:20250601T212924Z
LAST-MODIFIED:20250601T212925Z
UID:11853-1751310000-1751313600@cambridgecommonwriters.org
SUMMARY:Queer Poetry Night w/ Max McDonough & July Westhale: Python with a Dog Inside It & moon moon
DESCRIPTION:Join Max McDonough and July Westhale (Poetry\, June 2013) for a queer poetry night with readings from their books\, Python with a Dog Inside It and moon moon\, respectively. \n\n\n\nMax McDonough is a writer from South Jersey. His work has appeared in The New York Times\, AGNI\, Ecotone\, Northwest Review\, Best New Poets\, The Adroit Journal\, Alaska Quarterly Review\, and T Magazine\, among others. Python with a Dog Inside It\, winner of the St. Lawrence Book Award\, is his debut collection. \n\n\n\nPoet and translator July Westhale was born in the American Southwest. Their books include moon moon\, Trailer Trash\, Unmade Hearts\, and Via Negativa\, which Publishers Weekly called “stunning” in a starred review. Ocean Vuong chose Westhale as the 2018 University of Arizona Poetry Center Fellow. Their translation of the Chilean poet Rolando Cardenas’ collected works was selected for the 2026 Unsung Masters Series (forthcoming from Pleiades Press). They have work in McSweeney’s\, DIAGRAM\, The National Poetry Review\, Prairie Schooner\, CALYX\, Hayden’s Ferry Review\, and The Huffington Post\, among others. July is represented by Carolyn Forde at Transatlantic and lives in Tucson\, where they are adapting their novel to film.
URL:https://cambridgecommonwriters.org/calendar/queer-poetry-night-w-max-mcdonough-july-westhale-python-with-a-dog-inside-it-moon-moon/
LOCATION:Books Are Magic Smith\, 225 Smith Street\, Brooklyn\, New York\, 11231\, United States
CATEGORIES:Alum Event
ATTACH;FMTTYPE=image/jpeg:https://cambridgecommonwriters.org/wp-content/uploads/2021/04/July-Westhale-1024x682-1.jpg
ORGANIZER;CN="Books Are Magic":MAILTO:hello@booksaremagic.net
END:VEVENT
END:VCALENDAR