BEGIN:VCALENDAR
VERSION:2.0
PRODID:-//Cambridge Common Writers - ECPv6.15.20//NONSGML v1.0//EN
CALSCALE:GREGORIAN
METHOD:PUBLISH
X-ORIGINAL-URL:https://cambridgecommonwriters.org
X-WR-CALDESC:Events for Cambridge Common Writers
REFRESH-INTERVAL;VALUE=DURATION:PT1H
X-Robots-Tag:noindex
X-PUBLISHED-TTL:PT1H
BEGIN:VTIMEZONE
TZID:America/New_York
BEGIN:DAYLIGHT
TZOFFSETFROM:-0500
TZOFFSETTO:-0400
TZNAME:EDT
DTSTART:20240310T070000
END:DAYLIGHT
BEGIN:STANDARD
TZOFFSETFROM:-0400
TZOFFSETTO:-0500
TZNAME:EST
DTSTART:20241103T060000
END:STANDARD
BEGIN:DAYLIGHT
TZOFFSETFROM:-0500
TZOFFSETTO:-0400
TZNAME:EDT
DTSTART:20250309T070000
END:DAYLIGHT
BEGIN:STANDARD
TZOFFSETFROM:-0400
TZOFFSETTO:-0500
TZNAME:EST
DTSTART:20251102T060000
END:STANDARD
BEGIN:DAYLIGHT
TZOFFSETFROM:-0500
TZOFFSETTO:-0400
TZNAME:EDT
DTSTART:20260308T070000
END:DAYLIGHT
BEGIN:STANDARD
TZOFFSETFROM:-0400
TZOFFSETTO:-0500
TZNAME:EST
DTSTART:20261101T060000
END:STANDARD
END:VTIMEZONE
BEGIN:VEVENT
DTSTART;TZID=America/New_York:20250617T190000
DTEND;TZID=America/New_York:20250617T203000
DTSTAMP:20260420T214728
CREATED:20250601T210442Z
LAST-MODIFIED:20250601T210444Z
UID:11843-1750186800-1750192200@cambridgecommonwriters.org
SUMMARY:Writing Picture Book Memoirs with Andrea Wang\, Author of “Watercress”
DESCRIPTION:Using her own Newbery Honor and Caldecott-winning picture book\, Watercress\, as well as books by others as examples\, Andrea Wang (WFYP\, June 2011) will discuss the differences and similarities between fiction PBs and memoirs\, including elements such as plot\, structure\, theme\, and research. Andrea will also talk about some of the methods she’s used to mine her life for emotion and conflict\, and how she has applied them to her own work. She will lead attendees in some guided free-writing exercises\, so come prepared to write! She’ll also offer suggestions on how to incorporate the results of your free-writing into your works-in-progress\, whether they’re memoirs or not. This event will be recorded\, and a replay will be available for 30 days after the live event.
URL:https://cambridgecommonwriters.org/calendar/writing-picture-book-memoirs-with-andrea-wang-author-of-watercress/
LOCATION:Online Event
CATEGORIES:Alum Event
ATTACH;FMTTYPE=image/jpeg:https://cambridgecommonwriters.org/wp-content/uploads/2021/01/Andrea-Wang.jpg
END:VEVENT
END:VCALENDAR