BEGIN:VCALENDAR
VERSION:2.0
PRODID:-//Cambridge Common Writers - ECPv6.15.20//NONSGML v1.0//EN
CALSCALE:GREGORIAN
METHOD:PUBLISH
X-ORIGINAL-URL:https://cambridgecommonwriters.org
X-WR-CALDESC:Events for Cambridge Common Writers
REFRESH-INTERVAL;VALUE=DURATION:PT1H
X-Robots-Tag:noindex
X-PUBLISHED-TTL:PT1H
BEGIN:VTIMEZONE
TZID:America/New_York
BEGIN:DAYLIGHT
TZOFFSETFROM:-0500
TZOFFSETTO:-0400
TZNAME:EDT
DTSTART:20240310T070000
END:DAYLIGHT
BEGIN:STANDARD
TZOFFSETFROM:-0400
TZOFFSETTO:-0500
TZNAME:EST
DTSTART:20241103T060000
END:STANDARD
BEGIN:DAYLIGHT
TZOFFSETFROM:-0500
TZOFFSETTO:-0400
TZNAME:EDT
DTSTART:20250309T070000
END:DAYLIGHT
BEGIN:STANDARD
TZOFFSETFROM:-0400
TZOFFSETTO:-0500
TZNAME:EST
DTSTART:20251102T060000
END:STANDARD
BEGIN:DAYLIGHT
TZOFFSETFROM:-0500
TZOFFSETTO:-0400
TZNAME:EDT
DTSTART:20260308T070000
END:DAYLIGHT
BEGIN:STANDARD
TZOFFSETFROM:-0400
TZOFFSETTO:-0500
TZNAME:EST
DTSTART:20261101T060000
END:STANDARD
END:VTIMEZONE
BEGIN:VEVENT
DTSTART;TZID=America/New_York:20250512T190000
DTEND;TZID=America/New_York:20250512T210000
DTSTAMP:20260421T001115
CREATED:20250503T191108Z
LAST-MODIFIED:20250503T192112Z
UID:11630-1747076400-1747083600@cambridgecommonwriters.org
SUMMARY:Romantasy Panel: An Evening With Axie Oh\, D.L. Taylor\, and Mary E. Pearson
DESCRIPTION:Books & Books is proud to present a Romantasy Panel featuring the works of Axie Oh (WFYP\, June 2017) and D.L. Taylor\, and Mary E. Pearson. \n\n\n\nThis event is free and open to the public. Books will be available for purchase the night of the event. RSVP requested. \n\n\n\n\n\n\n\nAbout The Authors\n\n\n\nAxie Oh is the New York Times bestselling author of The Girl Who Fell Beneath the Sea\, the Floating World duology\, XOXO and ASAP\, and the Rebel Seoul series. Born in New York City and raised in New Jersey\, she studied Korean history and creative writing as an undergrad at the University of California San Diego and holds an MFA in Writing for Young People from Lesley University. Her passions include K-pop\, anime\, stationery supplies\, and milk tea\, and she currently resides in Las Vegas\, Nevada\, with her dogs\, Toro and Leila. \n\n\n\nD.L. Taylor is an attorney by trade. She’s worked in criminal defense and civil non-profit law\, but writing has always had a special hold on her heart. Though she hails from the sunny lands of California\, she married a Midwestern boy and ended up settling down outside Chicago. She has three kids\, two cats\, and minimal sanity\, but in the quiet hours before dawn she likes to write about magic\, mischief\, and moral quandaries. The Beasts We Bury is her YA debut. \n\n\n\nMary E. Pearson is the author of many novels for teens\, including Dance of Thieves\, Vow of Thieves\, the New York Times–bestselling Remnant Chronicles—The Kiss of Deception\, The Heart of Betrayal\, and The Beauty of Darkness—and the acclaimed Jenna Fox Chronicles. She writes full-time from her home in Carlsbad\, California.
URL:https://cambridgecommonwriters.org/calendar/romantasy-panel-an-evening-with-axie-oh-d-l-taylor-and-mary-e-pearson/
LOCATION:Books & Books in Coral Gables\, 265 Aragon Ave\, Coral Gables\, Florida\, 33134\, United States
CATEGORIES:Alum Event
ATTACH;FMTTYPE=image/jpeg:https://cambridgecommonwriters.org/wp-content/uploads/2025/05/Screenshot-2025-05-03-at-3.20.11 PM.jpg
END:VEVENT
END:VCALENDAR