BEGIN:VCALENDAR
VERSION:2.0
PRODID:-//Cambridge Common Writers - ECPv6.15.20//NONSGML v1.0//EN
CALSCALE:GREGORIAN
METHOD:PUBLISH
X-WR-CALNAME:Cambridge Common Writers
X-ORIGINAL-URL:https://cambridgecommonwriters.org
X-WR-CALDESC:Events for Cambridge Common Writers
REFRESH-INTERVAL;VALUE=DURATION:PT1H
X-Robots-Tag:noindex
X-PUBLISHED-TTL:PT1H
BEGIN:VTIMEZONE
TZID:America/New_York
BEGIN:DAYLIGHT
TZOFFSETFROM:-0500
TZOFFSETTO:-0400
TZNAME:EDT
DTSTART:20240310T070000
END:DAYLIGHT
BEGIN:STANDARD
TZOFFSETFROM:-0400
TZOFFSETTO:-0500
TZNAME:EST
DTSTART:20241103T060000
END:STANDARD
BEGIN:DAYLIGHT
TZOFFSETFROM:-0500
TZOFFSETTO:-0400
TZNAME:EDT
DTSTART:20250309T070000
END:DAYLIGHT
BEGIN:STANDARD
TZOFFSETFROM:-0400
TZOFFSETTO:-0500
TZNAME:EST
DTSTART:20251102T060000
END:STANDARD
BEGIN:DAYLIGHT
TZOFFSETFROM:-0500
TZOFFSETTO:-0400
TZNAME:EDT
DTSTART:20260308T070000
END:DAYLIGHT
BEGIN:STANDARD
TZOFFSETFROM:-0400
TZOFFSETTO:-0500
TZNAME:EST
DTSTART:20261101T060000
END:STANDARD
END:VTIMEZONE
BEGIN:VEVENT
DTSTART;TZID=America/New_York:20250412T143000
DTEND;TZID=America/New_York:20250416T153000
DTSTAMP:20260421T020433
CREATED:20250401T005147Z
LAST-MODIFIED:20250401T005256Z
UID:11533-1744468200-1744817400@cambridgecommonwriters.org
SUMMARY:Reclaiming Our Voices: Poetry\, Identity\, and the Power of Community with Enzo Silon Surin
DESCRIPTION:S.U.R.E. Diversity and Award-winning author and educator Enzo Silon Surin (Poetry\, 2012) invites educators\, book clubs\, and local groups from Lynn and Swampscott to engage in meaningful conversations about identity\, belonging\, and community through the lens of poetry and storytelling. \n\n\n\nInspired by the themes explored in American Scapegoat\, each 60 to 70-minute session includes a book discussion followed by a generative writing workshop. This gives participants a deeper understanding of their personal stories and roles within their communities. \n\n\n\nReclaiming Our Voices: Poetry\, Identity\, and the Power of Community \n\n\n\nApril 12\, 2025 – Adult Discussion with groups from Lynn and Swampscott with Enzo \n\n\n\nApril 16\, 2025 – High School Discussion with groups from Lynn and Swampscott with Enzo
URL:https://cambridgecommonwriters.org/calendar/reclaiming-our-voices-poetry-identity-and-the-power-of-community-with-enzo-silon-surin/
LOCATION:Lynn Museum & Arts Center\, 590 Washington Street\, Lynn\, Massachusetts\, 01901\, United States
CATEGORIES:Alum Event
ATTACH;FMTTYPE=image/jpeg:https://cambridgecommonwriters.org/wp-content/uploads/2023/02/American-Scapegoat.jpeg
END:VEVENT
END:VCALENDAR