BEGIN:VCALENDAR
VERSION:2.0
PRODID:-//Cambridge Common Writers - ECPv6.15.20//NONSGML v1.0//EN
CALSCALE:GREGORIAN
METHOD:PUBLISH
X-WR-CALNAME:Cambridge Common Writers
X-ORIGINAL-URL:https://cambridgecommonwriters.org
X-WR-CALDESC:Events for Cambridge Common Writers
REFRESH-INTERVAL;VALUE=DURATION:PT1H
X-Robots-Tag:noindex
X-PUBLISHED-TTL:PT1H
BEGIN:VTIMEZONE
TZID:America/New_York
BEGIN:DAYLIGHT
TZOFFSETFROM:-0500
TZOFFSETTO:-0400
TZNAME:EDT
DTSTART:20240310T070000
END:DAYLIGHT
BEGIN:STANDARD
TZOFFSETFROM:-0400
TZOFFSETTO:-0500
TZNAME:EST
DTSTART:20241103T060000
END:STANDARD
BEGIN:DAYLIGHT
TZOFFSETFROM:-0500
TZOFFSETTO:-0400
TZNAME:EDT
DTSTART:20250309T070000
END:DAYLIGHT
BEGIN:STANDARD
TZOFFSETFROM:-0400
TZOFFSETTO:-0500
TZNAME:EST
DTSTART:20251102T060000
END:STANDARD
BEGIN:DAYLIGHT
TZOFFSETFROM:-0500
TZOFFSETTO:-0400
TZNAME:EDT
DTSTART:20260308T070000
END:DAYLIGHT
BEGIN:STANDARD
TZOFFSETFROM:-0400
TZOFFSETTO:-0500
TZNAME:EST
DTSTART:20261101T060000
END:STANDARD
END:VTIMEZONE
BEGIN:VEVENT
DTSTART;TZID=America/New_York:20250320T193000
DTEND;TZID=America/New_York:20250320T203000
DTSTAMP:20260421T040418
CREATED:20250220T220952Z
LAST-MODIFIED:20250220T221034Z
UID:11373-1742499000-1742502600@cambridgecommonwriters.org
SUMMARY:CCW Presents: To Die Is Different Than Supposed by Alissa Butterworth\, Book Launch
DESCRIPTION:Join us for a virtual celebration of Alissa Butterworth’s (Fiction\, June 2012) debut novel\, To Die Is Different Than Supposed! Registration required. \n\n\n\n\n\n\n\nWe died by bicycle\, by a breakfast gone bad\, by a fist\, a broken promise\, a rowboat\, letters no one else was supposed to see.Twenty years ago\, the Gable family was nearly perfect—five siblings growing up in an old farmhouse in Pennsylvania with supposedly loving parents. But when a series of devastating events rocks the family—a house fire\, the death of their young brother\, infidelity\, and betrayal—the siblings are left shattered and lost.Jackson is the oldest\, the distant wanderer. Lex is trapped on the other side\, desperately trying to communicate. Adrian is on the verge of a breakdown. Ella is haunted\, finding comfort in a familiar ghost. Remy is the embittered “good” son. And Calvin is the youngest\, the half-brother trying to make sense of inherited pain.When the estranged siblings come together for their father’s funeral\, they must reckon with his legacy of abuse and abandonment\, and with the secrets they kept from each other for so long. Will Jackson find it in himself to tell the horrific story the family most needs to hear? Or will they all be forever trapped by their complicated pasts\, unable to move into a more hopeful and united future?
URL:https://cambridgecommonwriters.org/calendar/ccw-presents-to-die-is-different-than-supposed-by-alissa-butterworth-book-launch/
LOCATION:Online Zoom Event
CATEGORIES:Alum Event,CCW Event
ATTACH;FMTTYPE=image/jpeg:https://cambridgecommonwriters.org/wp-content/uploads/2025/02/@CCWALUM-3.jpg
ORGANIZER;CN="Cambridge Common Writers":MAILTO:lesleycambridgecommon@gmail.com
END:VEVENT
END:VCALENDAR