BEGIN:VCALENDAR
VERSION:2.0
PRODID:-//Cambridge Common Writers - ECPv6.15.20//NONSGML v1.0//EN
CALSCALE:GREGORIAN
METHOD:PUBLISH
X-ORIGINAL-URL:https://cambridgecommonwriters.org
X-WR-CALDESC:Events for Cambridge Common Writers
REFRESH-INTERVAL;VALUE=DURATION:PT1H
X-Robots-Tag:noindex
X-PUBLISHED-TTL:PT1H
BEGIN:VTIMEZONE
TZID:America/New_York
BEGIN:DAYLIGHT
TZOFFSETFROM:-0500
TZOFFSETTO:-0400
TZNAME:EDT
DTSTART:20230312T070000
END:DAYLIGHT
BEGIN:STANDARD
TZOFFSETFROM:-0400
TZOFFSETTO:-0500
TZNAME:EST
DTSTART:20231105T060000
END:STANDARD
BEGIN:DAYLIGHT
TZOFFSETFROM:-0500
TZOFFSETTO:-0400
TZNAME:EDT
DTSTART:20240310T070000
END:DAYLIGHT
BEGIN:STANDARD
TZOFFSETFROM:-0400
TZOFFSETTO:-0500
TZNAME:EST
DTSTART:20241103T060000
END:STANDARD
BEGIN:DAYLIGHT
TZOFFSETFROM:-0500
TZOFFSETTO:-0400
TZNAME:EDT
DTSTART:20250309T070000
END:DAYLIGHT
BEGIN:STANDARD
TZOFFSETFROM:-0400
TZOFFSETTO:-0500
TZNAME:EST
DTSTART:20251102T060000
END:STANDARD
END:VTIMEZONE
BEGIN:VEVENT
DTSTART;TZID=America/New_York:20241204T190000
DTEND;TZID=America/New_York:20241204T203000
DTSTAMP:20260421T095410
CREATED:20241126T005528Z
LAST-MODIFIED:20241126T005531Z
UID:10985-1733338800-1733344200@cambridgecommonwriters.org
SUMMARY:The Making of a Picture Book: From Concept to Completion with Deborah Sosin
DESCRIPTION:Have you always wondered what’s involved in writing a picture book? In this Zoominar with Deborah Sosin (Nonfiction\, January 2015)\, you’ll review the step-by-step process that led to the publication of Charlotte and the Quiet Place (Parallax Press\, 2015). You’ll review the earliest scribbled notes through to the finished product and explore the joys and challenges of revising. You’ll also discuss the evolution of Sara Woolley’s vibrant illustrations and see how the art and words interact. Open to all lovers of picture books and the creative process! Q&A to follow.
URL:https://cambridgecommonwriters.org/calendar/the-making-of-a-picture-book-from-concept-to-completion-with-deborah-sosin-3/
LOCATION:Online Zoom Event
CATEGORIES:Alum Event
ATTACH;FMTTYPE=image/jpeg:https://cambridgecommonwriters.org/wp-content/uploads/2020/03/Deborah-Sosin.jpg
END:VEVENT
END:VCALENDAR