BEGIN:VCALENDAR
VERSION:2.0
PRODID:-//Cambridge Common Writers - ECPv6.15.20//NONSGML v1.0//EN
CALSCALE:GREGORIAN
METHOD:PUBLISH
X-WR-CALNAME:Cambridge Common Writers
X-ORIGINAL-URL:https://cambridgecommonwriters.org
X-WR-CALDESC:Events for Cambridge Common Writers
REFRESH-INTERVAL;VALUE=DURATION:PT1H
X-Robots-Tag:noindex
X-PUBLISHED-TTL:PT1H
BEGIN:VTIMEZONE
TZID:America/New_York
BEGIN:DAYLIGHT
TZOFFSETFROM:-0500
TZOFFSETTO:-0400
TZNAME:EDT
DTSTART:20230312T070000
END:DAYLIGHT
BEGIN:STANDARD
TZOFFSETFROM:-0400
TZOFFSETTO:-0500
TZNAME:EST
DTSTART:20231105T060000
END:STANDARD
BEGIN:DAYLIGHT
TZOFFSETFROM:-0500
TZOFFSETTO:-0400
TZNAME:EDT
DTSTART:20240310T070000
END:DAYLIGHT
BEGIN:STANDARD
TZOFFSETFROM:-0400
TZOFFSETTO:-0500
TZNAME:EST
DTSTART:20241103T060000
END:STANDARD
BEGIN:DAYLIGHT
TZOFFSETFROM:-0500
TZOFFSETTO:-0400
TZNAME:EDT
DTSTART:20250309T070000
END:DAYLIGHT
BEGIN:STANDARD
TZOFFSETFROM:-0400
TZOFFSETTO:-0500
TZNAME:EST
DTSTART:20251102T060000
END:STANDARD
END:VTIMEZONE
BEGIN:VEVENT
DTSTART;TZID=America/New_York:20241115T180000
DTEND;TZID=America/New_York:20241115T200000
DTSTAMP:20260421T120117
CREATED:20241007T011720Z
LAST-MODIFIED:20241007T011722Z
UID:10861-1731693600-1731700800@cambridgecommonwriters.org
SUMMARY:What Artists See: The Violence Within with Megan Doney
DESCRIPTION:Save the date for two Northern Virginia book launches by Amanda Newell\, and Megan Doney (WFYP\, June 2008) at Mason Exhibitions\, Arlington. \n\n\n\nAmanda Newell’s new book is: Postmortem Say – published by Červená Barva Press \n\n\n\nMegan Doney’s new book is: Unarmed: An American Educator’s Memoir – published by Washington Writers’ Publishing House \n\n\n\nThe backdrop of this event is Mason’s collaboration with South African print-making. The event will include readings\, and participation by the audience. Themes include gun violence\, and how we perceive threats to our selves and our societies. The framing of South African and American artists and audiences will allow for an international exploration of creativity and violence.  \n\n\n\nThis exhibition is a traveling exhibition. Mason Exhibitions Arlington programs are created under the leadership of Alissa Maru. For more about the exhibition’s launch in Fairfax\, click here. Curation by Alissa Maru\, LaNitra Berger and her students. The exhibition will add new work when it comes to the Mason -Arlington. \n\n\n\n Collaborators include: Washington Writers’ Publishing House.
URL:https://cambridgecommonwriters.org/calendar/what-artists-see-the-violence-within-with-megan-doney/
LOCATION:Mason Exhibitions\, 3601 North Fairfax Dr\, Arlington\, Virginia\, 22201\, United States
CATEGORIES:Alum Event
ATTACH;FMTTYPE=image/jpeg:https://cambridgecommonwriters.org/wp-content/uploads/2024/09/Megan-Doney.jpg
ORGANIZER;CN="Alan Cheuse International Writers Center":MAILTO:cheuse@gmu.edu
END:VEVENT
END:VCALENDAR