BEGIN:VCALENDAR
VERSION:2.0
PRODID:-//Cambridge Common Writers - ECPv6.15.20//NONSGML v1.0//EN
CALSCALE:GREGORIAN
METHOD:PUBLISH
X-ORIGINAL-URL:https://cambridgecommonwriters.org
X-WR-CALDESC:Events for Cambridge Common Writers
REFRESH-INTERVAL;VALUE=DURATION:PT1H
X-Robots-Tag:noindex
X-PUBLISHED-TTL:PT1H
BEGIN:VTIMEZONE
TZID:Europe/Paris
BEGIN:DAYLIGHT
TZOFFSETFROM:+0100
TZOFFSETTO:+0200
TZNAME:CEST
DTSTART:20230326T010000
END:DAYLIGHT
BEGIN:STANDARD
TZOFFSETFROM:+0200
TZOFFSETTO:+0100
TZNAME:CET
DTSTART:20231029T010000
END:STANDARD
BEGIN:DAYLIGHT
TZOFFSETFROM:+0100
TZOFFSETTO:+0200
TZNAME:CEST
DTSTART:20240331T010000
END:DAYLIGHT
BEGIN:STANDARD
TZOFFSETFROM:+0200
TZOFFSETTO:+0100
TZNAME:CET
DTSTART:20241027T010000
END:STANDARD
BEGIN:DAYLIGHT
TZOFFSETFROM:+0100
TZOFFSETTO:+0200
TZNAME:CEST
DTSTART:20250330T010000
END:DAYLIGHT
BEGIN:STANDARD
TZOFFSETFROM:+0200
TZOFFSETTO:+0100
TZNAME:CET
DTSTART:20251026T010000
END:STANDARD
END:VTIMEZONE
BEGIN:VEVENT
DTSTART;TZID=Europe/Paris:20241109T170000
DTEND;TZID=Europe/Paris:20241109T190000
DTSTAMP:20260421T115038
CREATED:20241108T012234Z
LAST-MODIFIED:20241108T012237Z
UID:10952-1731171600-1731178800@cambridgecommonwriters.org
SUMMARY:Around the World Book Signing with Jorge Armenteros
DESCRIPTION:Visit the English bookshop Librairie Masséna Around the World (58 Rue Gioffredo) in Nice\, France on Saturday 9th November from 5pm to 7pm when author Jorge Armenteros (Fiction\, June 2012) will be signing copies of his latest book – The Curvature of an Absence. \n\n\n\n\n\n\n\nAt the edge of a vanishing sea and under the light of a fading sun\, two writers struggle to understand the sudden absence of affective and natural elements from their lives. As they seek a beautiful but rather elusive presence\, they are forced to confront that which is no longer there. To unravel the mysterious absences\, they embark on the improbable project of writing a book. Their erratic journey produces a book that reveals nothing and everything\, but above all\, that reflects the ardent light of a nascent understanding. \n\n\n\nJorge Armenteros was born in 1961 in Havana. Persecuted by the regime\, his family sought asylum as political refugees in Madrid. Soon after\, the USA granted his family entry and they transitioned through Tampa before settling in Puerto Rico. He was the first student in his school to be accepted to Harvard University. There he took several courses in Spanish and Latin American Literature while completing his biomedical engineering degree. Literature\, nonetheless\, was breathing inside of him. So\, he decided to pursue an MFA in creative writing at Lesley University in Cambridge. The Curvature of an Absence is his seventh novel.
URL:https://cambridgecommonwriters.org/calendar/around-the-world-book-signing-with-jorge-armenteros/
LOCATION:Librairie Masséna\, 55\, rue Gioffredo\, Nice\, 06000\, France
CATEGORIES:Alum Event
ATTACH;FMTTYPE=image/jpeg:https://cambridgecommonwriters.org/wp-content/uploads/2024/09/Curvature-of-an-Absence.jpg
END:VEVENT
END:VCALENDAR