BEGIN:VCALENDAR
VERSION:2.0
PRODID:-//Cambridge Common Writers - ECPv6.15.20//NONSGML v1.0//EN
CALSCALE:GREGORIAN
METHOD:PUBLISH
X-WR-CALNAME:Cambridge Common Writers
X-ORIGINAL-URL:https://cambridgecommonwriters.org
X-WR-CALDESC:Events for Cambridge Common Writers
REFRESH-INTERVAL;VALUE=DURATION:PT1H
X-Robots-Tag:noindex
X-PUBLISHED-TTL:PT1H
BEGIN:VTIMEZONE
TZID:America/New_York
BEGIN:DAYLIGHT
TZOFFSETFROM:-0500
TZOFFSETTO:-0400
TZNAME:EDT
DTSTART:20230312T070000
END:DAYLIGHT
BEGIN:STANDARD
TZOFFSETFROM:-0400
TZOFFSETTO:-0500
TZNAME:EST
DTSTART:20231105T060000
END:STANDARD
BEGIN:DAYLIGHT
TZOFFSETFROM:-0500
TZOFFSETTO:-0400
TZNAME:EDT
DTSTART:20240310T070000
END:DAYLIGHT
BEGIN:STANDARD
TZOFFSETFROM:-0400
TZOFFSETTO:-0500
TZNAME:EST
DTSTART:20241103T060000
END:STANDARD
BEGIN:DAYLIGHT
TZOFFSETFROM:-0500
TZOFFSETTO:-0400
TZNAME:EDT
DTSTART:20250309T070000
END:DAYLIGHT
BEGIN:STANDARD
TZOFFSETFROM:-0400
TZOFFSETTO:-0500
TZNAME:EST
DTSTART:20251102T060000
END:STANDARD
END:VTIMEZONE
BEGIN:VEVENT
DTSTART;TZID=America/New_York:20240929T000000
DTEND;TZID=America/New_York:20241103T235959
DTSTAMP:20260421T133810
CREATED:20240916T003950Z
LAST-MODIFIED:20240916T003953Z
UID:10715-1727568000-1730678399@cambridgecommonwriters.org
SUMMARY:ENTROPY Workshop with L Scully
DESCRIPTION:ENTROPY is a five week\, virtual\, generative writing workshop hosted by L Scully (Nonfiction\, January 2023).  \n\n\n\nWe are living in a conundrum of degradation. Our bodies age\, the State is falling\, disorder(s) run rampant in our minds. God feels random and chaos feels inevitable. There is no choice but to write toward uncertainty. Cope\, world-build\, freak out\, investigate together.  \n\n\n\nThe structure of this workshop is a weekly meeting of two hours and includes two separate section groups to accommodate scheduling. Each week we will produce the beginnings of 2+ new pieces of writing based on original prompts provided by L live and in session. There is also opportunity to share our collective woes\, check in\, and meet writing partners. One piece of your choice will be critiqued by the group in a supportive and curious environment. We welcome new and seasoned writers alike\, as well as anyone who wants to get into a regular and dedicated creative practice. Classes will be held over GoogleMeet. \n\n\n\nSuggested sliding scale is $150-250 for the five week course. If the proposed payment scale is not reasonable for your situation\, please email L to work something out at leighahscully@gmail.com. They would love to work with you. \n\n\n\nSection A: Sundays Sept. 29 – Nov. 32-4pm EST (no class 10/13\, lesbian wedding)Section B: Wednesdays Oct. 3 – Oct. 306-8pm EST
URL:https://cambridgecommonwriters.org/calendar/entropy-workshop-with-l-scully/
LOCATION:Online Event
CATEGORIES:Alum Event
ATTACH;FMTTYPE=image/jpeg:https://cambridgecommonwriters.org/wp-content/uploads/2023/01/L-Scully.jpeg
END:VEVENT
BEGIN:VEVENT
DTSTART;TZID=America/New_York:20241026T100000
DTEND;TZID=America/New_York:20241026T123000
DTSTAMP:20260421T133810
CREATED:20241017T211606Z
LAST-MODIFIED:20241017T211608Z
UID:10883-1729936800-1729945800@cambridgecommonwriters.org
SUMMARY:Survival on the Page: Poetry to Empower US
DESCRIPTION:Come join Facilitator Ella Nathanael Alkiewicz (she/her) (Nonfiction\, June 2018) for this workshop on Saturday\, Oct. 26th. Bring your pen and paper. Attendees will visit across the rectangles and hear stories\, jam a little\, and then write. Each participant will have the option to read aloud their work for two-minutes. It’s a safe space for QTBIPOC womxn Survivors. \n\n\n\nAlkiewicz\, a Labrador Inuk\, is a Survivor and remade her life in the Connecticut River Valley. She has taught classes for the Edmonton LifeLong Learners\, Mt. Holyoke College\, North American Indian Center of Boston and recently at The Parlor Room. Alkiewicz\, a Nunatsiavut Beneficiary and dual citizen\, has been published in DarkWinter Literary Magazine\, Inuktitut\, Leaflit\, and more. Her new business\, Ella Alk Inuk LLC\, is in Northampton where she sells her Inuit art and teaches. She enjoys being with her family\, kayaking\, laughing\, painting\, watching sports\, and writing. \n\n\n\nPhoto credit:EAlkiewicz.jpeg by Chris Alkiewicz\, 2022.
URL:https://cambridgecommonwriters.org/calendar/survival-on-the-page-poetry-to-empower-us/
LOCATION:Online Event
CATEGORIES:Alum Event
ATTACH;FMTTYPE=image/jpeg:https://cambridgecommonwriters.org/wp-content/uploads/2024/10/Screenshot-2024-10-17-at-5.15.28 PM.jpg
ORGANIZER;CN="Cambridge Women's Center":MAILTO:info@cambridgewomenscenter.org
END:VEVENT
END:VCALENDAR