BEGIN:VCALENDAR
VERSION:2.0
PRODID:-//Cambridge Common Writers - ECPv6.15.20//NONSGML v1.0//EN
CALSCALE:GREGORIAN
METHOD:PUBLISH
X-ORIGINAL-URL:https://cambridgecommonwriters.org
X-WR-CALDESC:Events for Cambridge Common Writers
REFRESH-INTERVAL;VALUE=DURATION:PT1H
X-Robots-Tag:noindex
X-PUBLISHED-TTL:PT1H
BEGIN:VTIMEZONE
TZID:America/New_York
BEGIN:DAYLIGHT
TZOFFSETFROM:-0500
TZOFFSETTO:-0400
TZNAME:EDT
DTSTART:20230312T070000
END:DAYLIGHT
BEGIN:STANDARD
TZOFFSETFROM:-0400
TZOFFSETTO:-0500
TZNAME:EST
DTSTART:20231105T060000
END:STANDARD
BEGIN:DAYLIGHT
TZOFFSETFROM:-0500
TZOFFSETTO:-0400
TZNAME:EDT
DTSTART:20240310T070000
END:DAYLIGHT
BEGIN:STANDARD
TZOFFSETFROM:-0400
TZOFFSETTO:-0500
TZNAME:EST
DTSTART:20241103T060000
END:STANDARD
BEGIN:DAYLIGHT
TZOFFSETFROM:-0500
TZOFFSETTO:-0400
TZNAME:EDT
DTSTART:20250309T070000
END:DAYLIGHT
BEGIN:STANDARD
TZOFFSETFROM:-0400
TZOFFSETTO:-0500
TZNAME:EST
DTSTART:20251102T060000
END:STANDARD
END:VTIMEZONE
BEGIN:VEVENT
DTSTART;TZID=America/New_York:20240813T190000
DTEND;TZID=America/New_York:20240813T210000
DTSTAMP:20260421T173646
CREATED:20240812T224208Z
LAST-MODIFIED:20240812T224246Z
UID:10525-1723575600-1723582800@cambridgecommonwriters.org
SUMMARY:Where Are You Echo Blue? Author event with Hayley Krischer in conversation with Laura Sims!
DESCRIPTION:Join Thunder Road Books as they welcome author Hayley Krischer (Fiction\, June 2009) in celebration of Where Are You\, Echo Blue? She will be in conversation with author Laura Sims. \n\n\n\n\n\n\n\nHayley Krischer is the author of two young adult novels\, Something Happened to Ali Greenleaf and The Falling Girls. She is also an award-winning journalist who has written for the The New York Times\, The New York Times Magazine\, The Atlantic\, Marie Claire\, Elle\, and more. Where Are You\, Echo Blue? is her first novel for adults. \n\n\n\nLaura Sims is the author of How Can I Help You\, a New York Times\, Publishers Weekly\, and CrimeReads Best Book of the Year\, and a LibraryReads Top Ten Books of July. Sims’s first novel\, LOOKER\, was included on “Best Books” lists in Vogue\, People Magazine\, Real Simple\, Entertainment Weekly\, and more\, and is now in development for television by eOne and Emily Mortimer’s King Bee Productions. An award-winning poet\, Sims has published four poetry collections; her essays and poems have appeared in the New Republic\, Boston Review\, Lit Hub\, and Electric Literature. She and her family live in New Jersey\, where she works part-time as a reference librarian and hosts the library’s lecture series.
URL:https://cambridgecommonwriters.org/calendar/where-are-you-echo-blue-author-event-with-hayley-krischer-in-conversation-with-laura-sims/
LOCATION:Thunder Road Books\, 1108 3rd Ave\, Spring Lake\, New Jersey\, 07762\, United States
CATEGORIES:Alum Event
ATTACH;FMTTYPE=image/jpeg:https://cambridgecommonwriters.org/wp-content/uploads/2024/02/Where-Are-You-Echo-Blue.jpeg
END:VEVENT
END:VCALENDAR