BEGIN:VCALENDAR
VERSION:2.0
PRODID:-//Cambridge Common Writers - ECPv6.15.20//NONSGML v1.0//EN
CALSCALE:GREGORIAN
METHOD:PUBLISH
X-ORIGINAL-URL:https://cambridgecommonwriters.org
X-WR-CALDESC:Events for Cambridge Common Writers
REFRESH-INTERVAL;VALUE=DURATION:PT1H
X-Robots-Tag:noindex
X-PUBLISHED-TTL:PT1H
BEGIN:VTIMEZONE
TZID:America/New_York
BEGIN:DAYLIGHT
TZOFFSETFROM:-0500
TZOFFSETTO:-0400
TZNAME:EDT
DTSTART:20230312T070000
END:DAYLIGHT
BEGIN:STANDARD
TZOFFSETFROM:-0400
TZOFFSETTO:-0500
TZNAME:EST
DTSTART:20231105T060000
END:STANDARD
BEGIN:DAYLIGHT
TZOFFSETFROM:-0500
TZOFFSETTO:-0400
TZNAME:EDT
DTSTART:20240310T070000
END:DAYLIGHT
BEGIN:STANDARD
TZOFFSETFROM:-0400
TZOFFSETTO:-0500
TZNAME:EST
DTSTART:20241103T060000
END:STANDARD
BEGIN:DAYLIGHT
TZOFFSETFROM:-0500
TZOFFSETTO:-0400
TZNAME:EDT
DTSTART:20250309T070000
END:DAYLIGHT
BEGIN:STANDARD
TZOFFSETFROM:-0400
TZOFFSETTO:-0500
TZNAME:EST
DTSTART:20251102T060000
END:STANDARD
END:VTIMEZONE
BEGIN:VEVENT
DTSTART;TZID=America/New_York:20240626T183000
DTEND;TZID=America/New_York:20240626T193000
DTSTAMP:20260421T213037
CREATED:20240621T013952Z
LAST-MODIFIED:20240621T013954Z
UID:10318-1719426600-1719430200@cambridgecommonwriters.org
SUMMARY:Lesley MFA Summer Reading Series: Bonita Lee Penn & Tyler Woodsmall
DESCRIPTION:Join the Lesley MFA community for this evening reading with Bonita Lee Penn (Poetry\, January 2015) and Tyler Woodsmall (Fiction\, June 2020).
URL:https://cambridgecommonwriters.org/calendar/lesley-mfa-summer-reading-series-bonita-lee-penn-tyler-woodsmall/
LOCATION:Online Zoom Event
CATEGORIES:Alum Event,CCW Event,Lesley Event
ATTACH;FMTTYPE=image/jpeg:https://cambridgecommonwriters.org/wp-content/uploads/2024/06/Screenshot-2024-06-20-at-9.39.32 PM.jpg
ORGANIZER;CN="Lesley University Graduate Admissions":MAILTO:luadmissions@lesley.edu
END:VEVENT
END:VCALENDAR