BEGIN:VCALENDAR
VERSION:2.0
PRODID:-//Cambridge Common Writers - ECPv6.15.20//NONSGML v1.0//EN
CALSCALE:GREGORIAN
METHOD:PUBLISH
X-ORIGINAL-URL:https://cambridgecommonwriters.org
X-WR-CALDESC:Events for Cambridge Common Writers
REFRESH-INTERVAL;VALUE=DURATION:PT1H
X-Robots-Tag:noindex
X-PUBLISHED-TTL:PT1H
BEGIN:VTIMEZONE
TZID:America/New_York
BEGIN:DAYLIGHT
TZOFFSETFROM:-0500
TZOFFSETTO:-0400
TZNAME:EDT
DTSTART:20230312T070000
END:DAYLIGHT
BEGIN:STANDARD
TZOFFSETFROM:-0400
TZOFFSETTO:-0500
TZNAME:EST
DTSTART:20231105T060000
END:STANDARD
BEGIN:DAYLIGHT
TZOFFSETFROM:-0500
TZOFFSETTO:-0400
TZNAME:EDT
DTSTART:20240310T070000
END:DAYLIGHT
BEGIN:STANDARD
TZOFFSETFROM:-0400
TZOFFSETTO:-0500
TZNAME:EST
DTSTART:20241103T060000
END:STANDARD
BEGIN:DAYLIGHT
TZOFFSETFROM:-0500
TZOFFSETTO:-0400
TZNAME:EDT
DTSTART:20250309T070000
END:DAYLIGHT
BEGIN:STANDARD
TZOFFSETFROM:-0400
TZOFFSETTO:-0500
TZNAME:EST
DTSTART:20251102T060000
END:STANDARD
END:VTIMEZONE
BEGIN:VEVENT
DTSTART;TZID=America/New_York:20240424T080000
DTEND;TZID=America/New_York:20240426T170000
DTSTAMP:20260422T013944
CREATED:20240424T212449Z
LAST-MODIFIED:20240424T212450Z
UID:10139-1713945600-1714150800@cambridgecommonwriters.org
SUMMARY:It’s Your Mug 30th Anniversary Celebration
DESCRIPTION:From February 1994 to August 1996\, the Tuesday night open mic at It’s Your Mug was a community event that had a lasting impact on Washington’s poetry scene that continues to impact American poetry. Celebrate the event’s 30th anniversary with original host and founder Toni Asante Lightfoot\, and a group of Mug regulars including Toni Blackman\, Kenny Carroll\, Lisa Pegram (Poetry\, June 2012)\, Patrick Washington\, Holly Bass\, and Twain Dooley with live jazz accompaniment. \n\n\n\nThis event will be both in-person and livestreamed.
URL:https://cambridgecommonwriters.org/calendar/its-your-mug-30th-anniversary-celebration/
LOCATION:The Kennedy Center\, 2700 F St NW\, Washington\, District of Columbia\, 20566\, United States
CATEGORIES:Alum Event
ATTACH;FMTTYPE=image/png:https://cambridgecommonwriters.org/wp-content/uploads/2020/11/LisaPegram-headshot.png
END:VEVENT
END:VCALENDAR