BEGIN:VCALENDAR
VERSION:2.0
PRODID:-//Cambridge Common Writers - ECPv6.15.20//NONSGML v1.0//EN
CALSCALE:GREGORIAN
METHOD:PUBLISH
X-ORIGINAL-URL:https://cambridgecommonwriters.org
X-WR-CALDESC:Events for Cambridge Common Writers
REFRESH-INTERVAL;VALUE=DURATION:PT1H
X-Robots-Tag:noindex
X-PUBLISHED-TTL:PT1H
BEGIN:VTIMEZONE
TZID:America/New_York
BEGIN:DAYLIGHT
TZOFFSETFROM:-0500
TZOFFSETTO:-0400
TZNAME:EDT
DTSTART:20230312T070000
END:DAYLIGHT
BEGIN:STANDARD
TZOFFSETFROM:-0400
TZOFFSETTO:-0500
TZNAME:EST
DTSTART:20231105T060000
END:STANDARD
BEGIN:DAYLIGHT
TZOFFSETFROM:-0500
TZOFFSETTO:-0400
TZNAME:EDT
DTSTART:20240310T070000
END:DAYLIGHT
BEGIN:STANDARD
TZOFFSETFROM:-0400
TZOFFSETTO:-0500
TZNAME:EST
DTSTART:20241103T060000
END:STANDARD
BEGIN:DAYLIGHT
TZOFFSETFROM:-0500
TZOFFSETTO:-0400
TZNAME:EDT
DTSTART:20250309T070000
END:DAYLIGHT
BEGIN:STANDARD
TZOFFSETFROM:-0400
TZOFFSETTO:-0500
TZNAME:EST
DTSTART:20251102T060000
END:STANDARD
END:VTIMEZONE
BEGIN:VEVENT
DTSTART;TZID=America/New_York:20240218T140000
DTEND;TZID=America/New_York:20240218T150000
DTSTAMP:20260422T054136
CREATED:20240128T223442Z
LAST-MODIFIED:20240128T223443Z
UID:9692-1708264800-1708268400@cambridgecommonwriters.org
SUMMARY:Poetry at Fruitlands with Robbie Gamble
DESCRIPTION:Join the New England Poetry Club at Fruitlands Museum for monthly poetry readings this winter. This month’s poets are Chard deNiord\, Robbie Gamble (Poetry/Nonfiction\, January 2017/June 2020)\, and Pamela Gemme. \n\n\n\nSponsoring poetry in New England since 1915\, the New England Poetry Club presents readings by poets with ties to the New England states and annual poetry contests. Members of the NEPC benefit from being part of a community of poets\, gathering for readings by members with new books\, and participating in monthly writing workshops. \n\n\n\nThis poetry reading will be held in the Fruitlands Museum Wayside Visitor Center. Parking is available next to the building and the Visitor Center is wheelchair accessible.
URL:https://cambridgecommonwriters.org/calendar/poetry-at-fruitlands-with-robbie-gamble/
LOCATION:Fruitlands Museum\, 100-132 Prospect Hill Rd\, Harvard\, Massachusetts\, 01451\, United States
CATEGORIES:Alum Event
ATTACH;FMTTYPE=image/jpeg:https://cambridgecommonwriters.org/wp-content/uploads/2020/02/Robbie-pic.jpg
END:VEVENT
END:VCALENDAR