BEGIN:VCALENDAR
VERSION:2.0
PRODID:-//Cambridge Common Writers - ECPv6.15.20//NONSGML v1.0//EN
CALSCALE:GREGORIAN
METHOD:PUBLISH
X-ORIGINAL-URL:https://cambridgecommonwriters.org
X-WR-CALDESC:Events for Cambridge Common Writers
REFRESH-INTERVAL;VALUE=DURATION:PT1H
X-Robots-Tag:noindex
X-PUBLISHED-TTL:PT1H
BEGIN:VTIMEZONE
TZID:America/Chicago
BEGIN:DAYLIGHT
TZOFFSETFROM:-0600
TZOFFSETTO:-0500
TZNAME:CDT
DTSTART:20230312T080000
END:DAYLIGHT
BEGIN:STANDARD
TZOFFSETFROM:-0500
TZOFFSETTO:-0600
TZNAME:CST
DTSTART:20231105T070000
END:STANDARD
BEGIN:DAYLIGHT
TZOFFSETFROM:-0600
TZOFFSETTO:-0500
TZNAME:CDT
DTSTART:20240310T080000
END:DAYLIGHT
BEGIN:STANDARD
TZOFFSETFROM:-0500
TZOFFSETTO:-0600
TZNAME:CST
DTSTART:20241103T070000
END:STANDARD
BEGIN:DAYLIGHT
TZOFFSETFROM:-0600
TZOFFSETTO:-0500
TZNAME:CDT
DTSTART:20250309T080000
END:DAYLIGHT
BEGIN:STANDARD
TZOFFSETFROM:-0500
TZOFFSETTO:-0600
TZNAME:CST
DTSTART:20251102T070000
END:STANDARD
END:VTIMEZONE
BEGIN:VEVENT
DTSTART;TZID=America/Chicago:20240208T090000
DTEND;TZID=America/Chicago:20240208T103000
DTSTAMP:20260422T052517
CREATED:20231211T215057Z
LAST-MODIFIED:20231211T215058Z
UID:9452-1707382800-1707388200@cambridgecommonwriters.org
SUMMARY:AWP: In Praise of Legacy: Writers of Color and the Challenge of the Canon
DESCRIPTION:The word “canon” in literary studies was intended to refer to humanity’s greatest writings—those which all “educated” people should know. Thanks to the work of critics and scholars of color\, however\, we are now able to recognize the exclusions\, the silences\, and the gaps that exist in the traditional concept of the canon. The four poets/professors on this panel will read poems and discuss how to explore\, expand\, and explode the literary canon in one’s work and in the classroom. \n\n\n\nJoin Enzo Silon Surin (Poetry\, 2012)\, Nathan McClain\, Kenzie Allen\, Michael Mercurio (Poetry\, January 2017)\, Rita Banerjee for this panel at the 2024 AWP Conference in Kansas City.
URL:https://cambridgecommonwriters.org/calendar/awp-in-praise-of-legacy-writers-of-color-and-the-challenge-of-the-canon/
LOCATION:Room 2503AB\, Kansas City Convention Center\, Level 2\, 301 W 13th St #100\, Kansas City\, Missouri\, 64105\, United States
CATEGORIES:Alum Event
ATTACH;FMTTYPE=image/png:https://cambridgecommonwriters.org/wp-content/uploads/2023/12/Screen-Shot-2023-12-11-at-4.50.40-PM.png
ORGANIZER;CN="2024 AWP Conference & Bookfair":MAILTO:awp@awpwriter.org
END:VEVENT
BEGIN:VEVENT
DTSTART;TZID=America/Chicago:20240208T103000
DTEND;TZID=America/Chicago:20240208T113000
DTSTAMP:20260422T052517
CREATED:20240128T220842Z
LAST-MODIFIED:20240128T220843Z
UID:9688-1707388200-1707391800@cambridgecommonwriters.org
SUMMARY:AWP: Lit Mags Explore Challenges & Methods of Expanding Diversity\, Equity & Inclusion with Robbie Gamble
DESCRIPTION:Solstice Literary Magazine is presenting a panel at AWP 2024 on expanding DEI in literary magazines. This panel\, moderated by Editor-in-Chief Lorena Hernández Leonard\, will include Poetry Editor Robbie Gamble (Poetry/Nonfiction\, January 2017/June 2020); AGNI Senior Editor\, Shuchi Saraswat; and Pangyrus Nonfiction Editor\, Artress Bethany White\, and Reviews Editor\, Anri Wheeler.
URL:https://cambridgecommonwriters.org/calendar/awp-lit-mags-explore-challenges-methods-of-expanding-diversity-equity-inclusion-with-robbie-gamble/
LOCATION:Kansas City Convention Center\, 301 West 13th Street\, Kansas City\, Missouri\, 64105\, United States
CATEGORIES:Alum Event
ATTACH;FMTTYPE=image/jpeg:https://cambridgecommonwriters.org/wp-content/uploads/2020/02/Robbie-pic.jpg
ORGANIZER;CN="2024 AWP Conference & Bookfair":MAILTO:awp@awpwriter.org
END:VEVENT
END:VCALENDAR