BEGIN:VCALENDAR
VERSION:2.0
PRODID:-//Cambridge Common Writers - ECPv6.15.20//NONSGML v1.0//EN
CALSCALE:GREGORIAN
METHOD:PUBLISH
X-ORIGINAL-URL:https://cambridgecommonwriters.org
X-WR-CALDESC:Events for Cambridge Common Writers
REFRESH-INTERVAL;VALUE=DURATION:PT1H
X-Robots-Tag:noindex
X-PUBLISHED-TTL:PT1H
BEGIN:VTIMEZONE
TZID:America/New_York
BEGIN:DAYLIGHT
TZOFFSETFROM:-0500
TZOFFSETTO:-0400
TZNAME:EDT
DTSTART:20230312T070000
END:DAYLIGHT
BEGIN:STANDARD
TZOFFSETFROM:-0400
TZOFFSETTO:-0500
TZNAME:EST
DTSTART:20231105T060000
END:STANDARD
BEGIN:DAYLIGHT
TZOFFSETFROM:-0500
TZOFFSETTO:-0400
TZNAME:EDT
DTSTART:20240310T070000
END:DAYLIGHT
BEGIN:STANDARD
TZOFFSETFROM:-0400
TZOFFSETTO:-0500
TZNAME:EST
DTSTART:20241103T060000
END:STANDARD
BEGIN:DAYLIGHT
TZOFFSETFROM:-0500
TZOFFSETTO:-0400
TZNAME:EDT
DTSTART:20250309T070000
END:DAYLIGHT
BEGIN:STANDARD
TZOFFSETFROM:-0400
TZOFFSETTO:-0500
TZNAME:EST
DTSTART:20251102T060000
END:STANDARD
END:VTIMEZONE
BEGIN:VEVENT
DTSTART;TZID=America/New_York:20240111T190000
DTEND;TZID=America/New_York:20240111T200000
DTSTAMP:20260422T071922
CREATED:20231211T222915Z
LAST-MODIFIED:20231211T222916Z
UID:9473-1704999600-1705003200@cambridgecommonwriters.org
SUMMARY:An Evening of Poetry with Shamar Hill\, Enzo Silon Surin\, and Martha Collins
DESCRIPTION:Join McNally Jackson Booksellers for an evening of readings and thought\, curated by Shamar Hill. Drinks and socializing to follow. RSVP Required. \n\n\n\nShamar Hill\, a Black and Jewish writer\, is the recipient of numerous awards and fellowships\, including from the New York Foundation for the Arts\, Cave Canem\, and the Fine Arts Work Center. He has been published in the American Poetry Review\, the Missouri Review\, Washington Square Review\, and Poetry Northwest\, among others. He is working on his memoir\, In Defiance of All True Things\, and a poetry collection\, Photographs of an Imagined Childhood. \n\n\n\nEnzo Silon Surin (Poetry\, 2012) is a Haitian-born award-winning poet\, author\, educator\, speaker\, publisher and social advocate. He has taught\, performed\, and lectured at schools\, universities\, festivals and serves as a keynote speaker on topics such as social justice\, mental health reform\, the immigrant experience\, and racial disparities. He is the author of four collections of poetry\, including American Scapegoat (Black Lawrence Press\, 2023) and When My Body Was A Clinched Fist (2020)\, winner of the 21st Annual Massachusetts Book Awards. He is also Publisher at Central Square Press and Founder/Executive Director at the Faraday Publishing Company\, a nonprofit literary services and social advocacy organization. \n\n\n\nMartha Collins recently published her eleventh collection of poetry\, Casualty Reports (Pittsburgh\, 2022)\, and her fifth volume of co-translated Vietnamese poetry\, Dreaming the Mountain\, poems by Tue Sy (Milkweed\, 2023). Her tenth book of poems\, Because What Else Could I Do (Pittsburgh\, 2019)\, won the Poetry Society of America’s William Carlos Williams Award; earlier books\, which have won several awards\, include three focusing on race and racism (Admit One: An American Scrapbook\, White Papers\, Blue Front). Collins founded the U.Mass. Boston creative writing program and served for ten years as Pauline Delaney Professor of Creative Writing at Oberlin.
URL:https://cambridgecommonwriters.org/calendar/an-evening-of-poetry-with-shamar-hill-enzo-silon-surin-and-martha-collins-2/
LOCATION:McNally Jackson Seaport\, 4 Fulton St\, New York\, New York\, 10038\, United States
CATEGORIES:Alum Event
ATTACH;FMTTYPE=image/jpeg:https://cambridgecommonwriters.org/wp-content/uploads/2023/05/Enzo-Silon-Surin.jpeg
ORGANIZER;CN="McNally Jackson Independent Booksellers":MAILTO:info@mcnallyjackson.com
END:VEVENT
END:VCALENDAR