BEGIN:VCALENDAR
VERSION:2.0
PRODID:-//Cambridge Common Writers - ECPv6.15.20//NONSGML v1.0//EN
CALSCALE:GREGORIAN
METHOD:PUBLISH
X-WR-CALNAME:Cambridge Common Writers
X-ORIGINAL-URL:https://cambridgecommonwriters.org
X-WR-CALDESC:Events for Cambridge Common Writers
REFRESH-INTERVAL;VALUE=DURATION:PT1H
X-Robots-Tag:noindex
X-PUBLISHED-TTL:PT1H
BEGIN:VTIMEZONE
TZID:America/New_York
BEGIN:DAYLIGHT
TZOFFSETFROM:-0500
TZOFFSETTO:-0400
TZNAME:EDT
DTSTART:20220313T070000
END:DAYLIGHT
BEGIN:STANDARD
TZOFFSETFROM:-0400
TZOFFSETTO:-0500
TZNAME:EST
DTSTART:20221106T060000
END:STANDARD
BEGIN:DAYLIGHT
TZOFFSETFROM:-0500
TZOFFSETTO:-0400
TZNAME:EDT
DTSTART:20230312T070000
END:DAYLIGHT
BEGIN:STANDARD
TZOFFSETFROM:-0400
TZOFFSETTO:-0500
TZNAME:EST
DTSTART:20231105T060000
END:STANDARD
BEGIN:DAYLIGHT
TZOFFSETFROM:-0500
TZOFFSETTO:-0400
TZNAME:EDT
DTSTART:20240310T070000
END:DAYLIGHT
BEGIN:STANDARD
TZOFFSETFROM:-0400
TZOFFSETTO:-0500
TZNAME:EST
DTSTART:20241103T060000
END:STANDARD
END:VTIMEZONE
BEGIN:VTIMEZONE
TZID:America/Halifax
BEGIN:DAYLIGHT
TZOFFSETFROM:-0400
TZOFFSETTO:-0300
TZNAME:ADT
DTSTART:20220313T060000
END:DAYLIGHT
BEGIN:STANDARD
TZOFFSETFROM:-0300
TZOFFSETTO:-0400
TZNAME:AST
DTSTART:20221106T050000
END:STANDARD
BEGIN:DAYLIGHT
TZOFFSETFROM:-0400
TZOFFSETTO:-0300
TZNAME:ADT
DTSTART:20230312T060000
END:DAYLIGHT
BEGIN:STANDARD
TZOFFSETFROM:-0300
TZOFFSETTO:-0400
TZNAME:AST
DTSTART:20231105T050000
END:STANDARD
BEGIN:DAYLIGHT
TZOFFSETFROM:-0400
TZOFFSETTO:-0300
TZNAME:ADT
DTSTART:20240310T060000
END:DAYLIGHT
BEGIN:STANDARD
TZOFFSETFROM:-0300
TZOFFSETTO:-0400
TZNAME:AST
DTSTART:20241103T050000
END:STANDARD
END:VTIMEZONE
BEGIN:VEVENT
DTSTART;TZID=America/New_York:20231216T093000
DTEND;TZID=America/New_York:20231216T103000
DTSTAMP:20260422T090635
CREATED:20231211T005233Z
LAST-MODIFIED:20231211T005234Z
UID:9435-1702719000-1702722600@cambridgecommonwriters.org
SUMMARY:Sara Levine for “Sensitive”\, Storytime
DESCRIPTION:Join Sara Levine (Nonfiction/WFYP\, January 2006)\, author of Sensitive\, for a storytime event. \n\n\n\nSara Levine is an author\, educator and a veterinarian.  Her books for children include four books in the Animal by Animal series\, illustrated by T.S Spookytooth: Bone by Bone: Comparing Animal Skeletons; Tooth by Tooth: Comparing Fangs; Tusks and Chompers; Fossil by Fossil: Comparing Dinosaur Bones; and Eye by Eye: Comparing How Animals See. \n\n\n\nSara’s books have received multiple awards\, among them: Utah Beehive Book Award\, Bank Street College Best Children’s Book of the Year\, Cook Prize honor book for best STEM picture book\, AAAS/Subaru SB&F Prize for Excellence in Science Books\, Monarch Award Master List\, Junior Library Guild selection\, and Mathical Book Prize.
URL:https://cambridgecommonwriters.org/calendar/sara-levine-for-sensitive-storytime/
LOCATION:People’s Book\, 7014-A Westmoreland Ave\, Takoma Park\, Maryland\, 20912\, United States
CATEGORIES:Alum Event
ATTACH;FMTTYPE=image/jpeg:https://cambridgecommonwriters.org/wp-content/uploads/2023/09/Sensitive.jpeg
ORGANIZER;CN="People's Book":MAILTO:info@peoplesbooktakoma.com
END:VEVENT
BEGIN:VEVENT
DTSTART;TZID=America/New_York:20231216T110000
DTEND;TZID=America/New_York:20231216T130000
DTSTAMP:20260422T090635
CREATED:20231211T020722Z
LAST-MODIFIED:20231211T020723Z
UID:9448-1702724400-1702731600@cambridgecommonwriters.org
SUMMARY:Open Write: Refining Your Skills for Screenwriting with Thato Mwosa
DESCRIPTION:Join Company One Theatre on Saturday\, December 16 from 11am-1pm ET for a free online experience led by C1 Resident Playwright Kirsten Greenidge and guest artist Thato Mwosa (WSS\, June 2017)! \n\n\n\nBreaking into screenwriting can seem daunting\, but not when you lean on your established craft and practice! Let your curiosity guide you as you learn to apply existing skills to an unfamiliar format. \n\n\n\nRSVP required; this is a Pay-What-You-Want experience with $0 minimum. All proceeds support C1’s mission to build community at the intersection of art and social change.
URL:https://cambridgecommonwriters.org/calendar/open-write-refining-your-skills-for-screenwriting-with-thato-mwosa/
LOCATION:Online Event
CATEGORIES:Alum Event
ATTACH;FMTTYPE=image/jpeg:https://cambridgecommonwriters.org/wp-content/uploads/2022/10/thatomwosa-playwright-1-scaled-1.jpg
ORGANIZER;CN="Company One Theatre":MAILTO:info@companyone.org
END:VEVENT
BEGIN:VEVENT
DTSTART;TZID=America/New_York:20231216T120000
DTEND;TZID=America/New_York:20231216T130000
DTSTAMP:20260422T090635
CREATED:20231211T015132Z
LAST-MODIFIED:20231211T015133Z
UID:9444-1702728000-1702731600@cambridgecommonwriters.org
SUMMARY:Black Writers Read Presents Writers Across the Margins: Nada Samih-Rotondo
DESCRIPTION:Join Black Writers Read for a chat with Nada Samih-Rotondo (Fiction\, June 2012) on her debut book\, All Water Has Perfect Memory.  \n\n\n\nNada Samih-Rotondo is a multi-genre Palestinian American writer\, educator\, and mother. A graduate of Rhode Island College\, she earned degrees in English and Education and an MFA in creative writing from Lesley University. When she is not befriending trees or attuning to hidden stories\, she is leading transformational educational experiences and addressing the social-emotional needs of historically underserved and multilingual youth. Her writing has appeared in Masters Review\, Gulf Stream Literary Magazine\, and Squat Birth Journal. She lives in Providence with her husband and three children. All Water Has Perfect Memory is her first book.  \n\n\n\nTo learn more about Nada and her other work\, please visit https://nowapproachingprovidence.wordpress.com. \n\n\n\nThis event is presented in collaboration with Levee Break Lit.
URL:https://cambridgecommonwriters.org/calendar/black-writers-read-presents-writers-across-the-margins-nada-samih-rotondo/
LOCATION:Facebook Live
CATEGORIES:Alum Event
ATTACH;FMTTYPE=image/jpeg:https://cambridgecommonwriters.org/wp-content/uploads/2023/09/All-Water-Has-Perfect-Memory.jpeg
END:VEVENT
BEGIN:VEVENT
DTSTART;TZID=America/Halifax:20231216T153000
DTEND;TZID=America/Halifax:20231216T163000
DTSTAMP:20260422T090635
CREATED:20231211T230740Z
LAST-MODIFIED:20231211T230741Z
UID:9475-1702740600-1702744200@cambridgecommonwriters.org
SUMMARY:Writer to Writer - An Intimate Chat Between Ira Mathur & Celeste Mohammed
DESCRIPTION:2022 OCM Bocas Prize winner Celeste Mohammed (Fiction\, June 2016) and 2023 OCM Bocas Non-Fiction Prize winner Ira Mathur cozy up to chat about the writing process\, the power of creative non-fiction\, and much more.
URL:https://cambridgecommonwriters.org/calendar/writer-to-writer-an-intimate-chat-between-ira-mathur-celeste-mohammed/
LOCATION:The Writers Centre\, 14 Alcazar Street\, St. Clair\, Trinidad and Tobago
CATEGORIES:Alum Event
ATTACH;FMTTYPE=image/png:https://cambridgecommonwriters.org/wp-content/uploads/2023/12/Screen-Shot-2023-12-11-at-6.07.29-PM.png
ORGANIZER;CN="Bocas Lit Fest":MAILTO:info@bocaslitfest.com
END:VEVENT
END:VCALENDAR