BEGIN:VCALENDAR
VERSION:2.0
PRODID:-//Cambridge Common Writers - ECPv6.15.20//NONSGML v1.0//EN
CALSCALE:GREGORIAN
METHOD:PUBLISH
X-WR-CALNAME:Cambridge Common Writers
X-ORIGINAL-URL:https://cambridgecommonwriters.org
X-WR-CALDESC:Events for Cambridge Common Writers
REFRESH-INTERVAL;VALUE=DURATION:PT1H
X-Robots-Tag:noindex
X-PUBLISHED-TTL:PT1H
BEGIN:VTIMEZONE
TZID:America/New_York
BEGIN:DAYLIGHT
TZOFFSETFROM:-0500
TZOFFSETTO:-0400
TZNAME:EDT
DTSTART:20220313T070000
END:DAYLIGHT
BEGIN:STANDARD
TZOFFSETFROM:-0400
TZOFFSETTO:-0500
TZNAME:EST
DTSTART:20221106T060000
END:STANDARD
BEGIN:DAYLIGHT
TZOFFSETFROM:-0500
TZOFFSETTO:-0400
TZNAME:EDT
DTSTART:20230312T070000
END:DAYLIGHT
BEGIN:STANDARD
TZOFFSETFROM:-0400
TZOFFSETTO:-0500
TZNAME:EST
DTSTART:20231105T060000
END:STANDARD
BEGIN:DAYLIGHT
TZOFFSETFROM:-0500
TZOFFSETTO:-0400
TZNAME:EDT
DTSTART:20240310T070000
END:DAYLIGHT
BEGIN:STANDARD
TZOFFSETFROM:-0400
TZOFFSETTO:-0500
TZNAME:EST
DTSTART:20241103T060000
END:STANDARD
END:VTIMEZONE
BEGIN:VEVENT
DTSTART;TZID=America/New_York:20231205T190000
DTEND;TZID=America/New_York:20231205T203000
DTSTAMP:20260422T090637
CREATED:20231007T204037Z
LAST-MODIFIED:20231007T204121Z
UID:9138-1701802800-1701808200@cambridgecommonwriters.org
SUMMARY:Befriend Your Inner Critic Workshop with Deborah Sosin
DESCRIPTION:You might be familiar with your Inner Critic—the voice that says you’re not good enough. Or compares yourself to others. Or expects nothing but perfection. Our instinct is to push that voice away. But\, paradoxically\, we can find more inner peace and free up creative energy by moving toward that voice\, with curiosity and compassion. In this workshop\, we will cover the roots and purpose of the Inner Critic and how it affects writers and other creative people. We’ll look at seven types of Inner Critics\, including the Perfectionist\, the Task Master\, and the Guilt Tripper\, followed by a self-assessment quiz to determine your predominant types. Finally\, you’ll learn specific skills and strategies for managing your Inner Critic so that you can move happily forward in your writing life. \n\n\n\nOverview: \n\n\n\n\nWhat is the Inner Critic (IC)?\n\n\n\nRoots of the IC\n\n\n\nPurpose of the IC\n\n\n\nSeven Types of IC\n\n\n\nBrief self-assessment tool to identify participants’ predominant type of IC\n\n\n\nStrategies and tools for befriending the IC\n\n\n\nQ&A and discussion\n\n\n\n\nHosted by Cambridge Common Writers and led by Deborah Sosin (Nonfiction\, January 2015).
URL:https://cambridgecommonwriters.org/calendar/befriend-your-inner-critic-workshop-with-deborah-sosin/
LOCATION:Online Zoom Event
CATEGORIES:Alum Event,CCW Event
ATTACH;FMTTYPE=image/jpeg:https://cambridgecommonwriters.org/wp-content/uploads/2023/10/Befriend-Your-2.jpg
ORGANIZER;CN="Cambridge Common Writers":MAILTO:lesleycambridgecommon@gmail.com
END:VEVENT
END:VCALENDAR