BEGIN:VCALENDAR
VERSION:2.0
PRODID:-//Cambridge Common Writers - ECPv6.15.20//NONSGML v1.0//EN
CALSCALE:GREGORIAN
METHOD:PUBLISH
X-ORIGINAL-URL:https://cambridgecommonwriters.org
X-WR-CALDESC:Events for Cambridge Common Writers
REFRESH-INTERVAL;VALUE=DURATION:PT1H
X-Robots-Tag:noindex
X-PUBLISHED-TTL:PT1H
BEGIN:VTIMEZONE
TZID:America/New_York
BEGIN:DAYLIGHT
TZOFFSETFROM:-0500
TZOFFSETTO:-0400
TZNAME:EDT
DTSTART:20220313T070000
END:DAYLIGHT
BEGIN:STANDARD
TZOFFSETFROM:-0400
TZOFFSETTO:-0500
TZNAME:EST
DTSTART:20221106T060000
END:STANDARD
BEGIN:DAYLIGHT
TZOFFSETFROM:-0500
TZOFFSETTO:-0400
TZNAME:EDT
DTSTART:20230312T070000
END:DAYLIGHT
BEGIN:STANDARD
TZOFFSETFROM:-0400
TZOFFSETTO:-0500
TZNAME:EST
DTSTART:20231105T060000
END:STANDARD
BEGIN:DAYLIGHT
TZOFFSETFROM:-0500
TZOFFSETTO:-0400
TZNAME:EDT
DTSTART:20240310T070000
END:DAYLIGHT
BEGIN:STANDARD
TZOFFSETFROM:-0400
TZOFFSETTO:-0500
TZNAME:EST
DTSTART:20241103T060000
END:STANDARD
END:VTIMEZONE
BEGIN:VEVENT
DTSTART;TZID=America/New_York:20231202T140000
DTEND;TZID=America/New_York:20231202T160000
DTSTAMP:20260422T090748
CREATED:20231126T185256Z
LAST-MODIFIED:20231126T185257Z
UID:9309-1701525600-1701532800@cambridgecommonwriters.org
SUMMARY:Care in Publishing: Resilience in the Face of Rejection with Nada Samih-Rotondo
DESCRIPTION:Local authors share strategies for coping with rejection on the road to publication at LitArts RI. \n\n\n\nThe path to publication can be riddled with rejection. Whether you are looking for an agent\, submitting to publishers\, sending your manuscript out to contests\, or receiving a challenging round of editorial feedback\, cultivating care is key. On Sat\, Dec 2\, join local authors Rebekah Bergman\, Nada Samih-Rotondo (Fiction\, June 2012) and Candace Williams at LitArts RI for an honest discussion about the difficulties inherent in traditional publishing—including the barriers writers from historically underrepresented identities are forced to navigate—and explore the resources and self-care practices these recently published authors turned to in moments of despair. Learn productive strategies for approaching the publishing world\, connect with fellow writers facing these challenges\, and shore up your resilience in the face of rejection. \n\n\n\nThis event is made possible by funding from Providence Arts Culture and Tourism and the Dexter Donation. \n\n\n\nAbout the Panelists \n\n\n\nRebekah Bergman‘s debut novel The Museum of Human History (Tin House\, 2023) was named one of Wired Magazine’s best books of summer and received starred reviews from Kirkus\, Booklist\, and Shelf Awareness. Her writing appears in Joyland\, Lit Hub\, Electric Literature\, and other journals. She lives in Providence\, Rhode Island with her family. \n\n\n\nNada Samih-Rotondo is a multi-genre Palestinian American writer\, educator\, and mother. A graduate of Rhode Island College\, she earned degrees in English and Education and an MFA in creative writing from Lesley University. When she is not befriending trees or attuning to hidden stories\, she is leading transformational educational experiences and addressing the social-emotional needs of historically underserved and multilingual youth. Her writing has appeared in Masters Review\, Gulf Stream Literary Magazine\, and Squat Birth Journal. She lives in Providence with her husband and three children and works at Brown University’s Simmons Center for the Study of Slavery and Justice as the Public Education and Community Engagement Coordinator. All Water Has Perfect Memory is her first book. \n\n\n\nCandace Williams is a poet and interdisciplinary artist. I Am the Most Dangerous Thing (Alice James Books\, 2023) is their debut full-length poetry collection. Candace earned their Bachelor of Arts in Philosophy\, Politics\, and Economics (PPE) from Claremont McKenna College and Master of Arts in Education from Stanford University. They grew up in the Pacific Northwest and found love and poetry in Brooklyn\, New York. Now\, Candace lives and makes art in New England.
URL:https://cambridgecommonwriters.org/calendar/care-in-publishing-resilience-in-the-face-of-rejection-with-nada-samih-rotondo/
LOCATION:LitArts RI\, 400 Harris Ave Unit E\, Providence\, Rhode Island\, 02909\, United States
CATEGORIES:Alum Event
ATTACH;FMTTYPE=image/png:https://cambridgecommonwriters.org/wp-content/uploads/2023/11/Screen-Shot-2023-11-26-at-1.52.37-PM.png
ORGANIZER;CN="LitArts RI":MAILTO:jillian@litartsri.org
END:VEVENT
END:VCALENDAR