BEGIN:VCALENDAR
VERSION:2.0
PRODID:-//Cambridge Common Writers - ECPv6.15.20//NONSGML v1.0//EN
CALSCALE:GREGORIAN
METHOD:PUBLISH
X-ORIGINAL-URL:https://cambridgecommonwriters.org
X-WR-CALDESC:Events for Cambridge Common Writers
REFRESH-INTERVAL;VALUE=DURATION:PT1H
X-Robots-Tag:noindex
X-PUBLISHED-TTL:PT1H
BEGIN:VTIMEZONE
TZID:America/New_York
BEGIN:DAYLIGHT
TZOFFSETFROM:-0500
TZOFFSETTO:-0400
TZNAME:EDT
DTSTART:20220313T070000
END:DAYLIGHT
BEGIN:STANDARD
TZOFFSETFROM:-0400
TZOFFSETTO:-0500
TZNAME:EST
DTSTART:20221106T060000
END:STANDARD
BEGIN:DAYLIGHT
TZOFFSETFROM:-0500
TZOFFSETTO:-0400
TZNAME:EDT
DTSTART:20230312T070000
END:DAYLIGHT
BEGIN:STANDARD
TZOFFSETFROM:-0400
TZOFFSETTO:-0500
TZNAME:EST
DTSTART:20231105T060000
END:STANDARD
BEGIN:DAYLIGHT
TZOFFSETFROM:-0500
TZOFFSETTO:-0400
TZNAME:EDT
DTSTART:20240310T070000
END:DAYLIGHT
BEGIN:STANDARD
TZOFFSETFROM:-0400
TZOFFSETTO:-0500
TZNAME:EST
DTSTART:20241103T060000
END:STANDARD
END:VTIMEZONE
BEGIN:VEVENT
DTSTART;TZID=America/New_York:20231103T163000
DTEND;TZID=America/New_York:20231103T190000
DTSTAMP:20260422T104806
CREATED:20231029T215048Z
LAST-MODIFIED:20231029T215050Z
UID:9197-1699029000-1699038000@cambridgecommonwriters.org
SUMMARY:Book World Meets Wine World with Jody Hobbs Hesler
DESCRIPTION:Jody Hobbs Hesler (Fiction\, June 2017) will present her book What Makes You Think You’re Supposed to Feel Better as part of a benefit for the Literacy Council of Madison County at Revalation Vineyards. \n\n\n\n\n\n\n\nThe grisly death of the hermit outsider in a tight-knit neighborhood prompts a young mom to yearn for solitude. A man wrestles with regrets from a 30-year-old affair while his wife hovers toward death inthe ICU. An older\, childless woman aches to rescue the seemingly mistreated child she observes in the grocery store. And a girl’s desire to avoid the party her father dragged her to nearly gets her abducted. Told with restraint and deep compassion against the backdrop of Virginia back streets and small towns\, Jody Hobbs Hesler’s debut collection shines with its portraits of longing\, disconnection\, and the ache for renewal and redemption that comes from our own frailties.
URL:https://cambridgecommonwriters.org/calendar/book-world-meets-wine-world-with-jody-hobbs-hesler/
LOCATION:Revalation Vineyards\, 2710 Hebron Valley Rd\, Madison\, Virginia\, 22727\, United States
CATEGORIES:Alum Event
ATTACH;FMTTYPE=image/png:https://cambridgecommonwriters.org/wp-content/uploads/2020/02/Jody-Hobbs-Hesler.png
END:VEVENT
END:VCALENDAR