BEGIN:VCALENDAR
VERSION:2.0
PRODID:-//Cambridge Common Writers - ECPv6.15.20//NONSGML v1.0//EN
CALSCALE:GREGORIAN
METHOD:PUBLISH
X-ORIGINAL-URL:https://cambridgecommonwriters.org
X-WR-CALDESC:Events for Cambridge Common Writers
REFRESH-INTERVAL;VALUE=DURATION:PT1H
X-Robots-Tag:noindex
X-PUBLISHED-TTL:PT1H
BEGIN:VTIMEZONE
TZID:America/New_York
BEGIN:DAYLIGHT
TZOFFSETFROM:-0500
TZOFFSETTO:-0400
TZNAME:EDT
DTSTART:20220313T070000
END:DAYLIGHT
BEGIN:STANDARD
TZOFFSETFROM:-0400
TZOFFSETTO:-0500
TZNAME:EST
DTSTART:20221106T060000
END:STANDARD
BEGIN:DAYLIGHT
TZOFFSETFROM:-0500
TZOFFSETTO:-0400
TZNAME:EDT
DTSTART:20230312T070000
END:DAYLIGHT
BEGIN:STANDARD
TZOFFSETFROM:-0400
TZOFFSETTO:-0500
TZNAME:EST
DTSTART:20231105T060000
END:STANDARD
BEGIN:DAYLIGHT
TZOFFSETFROM:-0500
TZOFFSETTO:-0400
TZNAME:EDT
DTSTART:20240310T070000
END:DAYLIGHT
BEGIN:STANDARD
TZOFFSETFROM:-0400
TZOFFSETTO:-0500
TZNAME:EST
DTSTART:20241103T060000
END:STANDARD
END:VTIMEZONE
BEGIN:VEVENT
DTSTART;TZID=America/New_York:20231014T150000
DTEND;TZID=America/New_York:20231014T160000
DTSTAMP:20260422T163812
CREATED:20230923T205128Z
LAST-MODIFIED:20230923T205129Z
UID:8997-1697295600-1697299200@cambridgecommonwriters.org
SUMMARY:Book Launch with Sara Levine\, author of Sensitive
DESCRIPTION:Porter Square Books welcomes Sara Levine (Nonfiction/WFYP\, January 2006) for an author talk and book signing in celebration of the launch of her new book\, Sensitive! \n\n\n\n\n\n\n\n“You feel way too much.” / “Will you stop being dramatic?” \n\n\n\nThis tender picture book follows a girl who is told she is too intense\, too sensitive\, too much. She’s told to grow a thicker skin\, but the words of others slip right through. They somersault around inside and press against her heart. \n\n\n\nWhat can she do to stop the hurt? \n\n\n\nShe needs to take time alone to think and read\, rest and create. \n\n\n\nThoughtful text\, detailed collage illustrations\, and an unexpected word puzzle combine in Sara Levine and Mehrdokht Amini’s moving portrayal of a girl who discovers that what others call a weakness can also be a gift. \n\n\n\nSara Levine is an award-winning picture book author\, veterinarian and educator. Sensitive is her tenth book\, and she has four more coming out in the next few years. As a child\, she was often told that she was too sensitive and needed to grow a thicker skin. Her skin may not have gotten thicker since then\, but she has learned to appreciate her sensitivity and the ways it helps her create books\, work with animals and care for children. Visit Sara online at http://www.saralevinebooks.com/
URL:https://cambridgecommonwriters.org/calendar/book-launch-with-sara-levine-author-of-sensitive/
LOCATION:Porter Square Books\, 1815 Massachusetts Ave\, Cambridge\, Massachusetts\, 02140\, United States
CATEGORIES:Alum Event
ATTACH;FMTTYPE=image/jpeg:https://cambridgecommonwriters.org/wp-content/uploads/2021/06/Sara-Levine.jpeg
ORGANIZER;CN="Porter Square Books":MAILTO:INFO@PORTERSQUAREBOOKS.COM
END:VEVENT
END:VCALENDAR