BEGIN:VCALENDAR
VERSION:2.0
PRODID:-//Cambridge Common Writers - ECPv6.15.20//NONSGML v1.0//EN
CALSCALE:GREGORIAN
METHOD:PUBLISH
X-ORIGINAL-URL:https://cambridgecommonwriters.org
X-WR-CALDESC:Events for Cambridge Common Writers
REFRESH-INTERVAL;VALUE=DURATION:PT1H
X-Robots-Tag:noindex
X-PUBLISHED-TTL:PT1H
BEGIN:VTIMEZONE
TZID:America/New_York
BEGIN:DAYLIGHT
TZOFFSETFROM:-0500
TZOFFSETTO:-0400
TZNAME:EDT
DTSTART:20220313T070000
END:DAYLIGHT
BEGIN:STANDARD
TZOFFSETFROM:-0400
TZOFFSETTO:-0500
TZNAME:EST
DTSTART:20221106T060000
END:STANDARD
BEGIN:DAYLIGHT
TZOFFSETFROM:-0500
TZOFFSETTO:-0400
TZNAME:EDT
DTSTART:20230312T070000
END:DAYLIGHT
BEGIN:STANDARD
TZOFFSETFROM:-0400
TZOFFSETTO:-0500
TZNAME:EST
DTSTART:20231105T060000
END:STANDARD
BEGIN:DAYLIGHT
TZOFFSETFROM:-0500
TZOFFSETTO:-0400
TZNAME:EDT
DTSTART:20240310T070000
END:DAYLIGHT
BEGIN:STANDARD
TZOFFSETFROM:-0400
TZOFFSETTO:-0500
TZNAME:EST
DTSTART:20241103T060000
END:STANDARD
END:VTIMEZONE
BEGIN:VEVENT
DTSTART;TZID=America/New_York:20230927T160000
DTEND;TZID=America/New_York:20230927T170000
DTSTAMP:20260422T123945
CREATED:20230920T221435Z
LAST-MODIFIED:20230920T221436Z
UID:8989-1695830400-1695834000@cambridgecommonwriters.org
SUMMARY:Book Launch: All Water Has Perfect Memory by Nada Samih-Rotondo
DESCRIPTION:Join Brown Bookstore for the launch of Nada Samih-Rotondo’s debut book All Water Has Perfect Memory. \n\n\n\n\n\n\n\nLife changes forever for six-year-old Nada when Iraq’s invasion of her birth country of Kuwait pushes her mother to immigrate with her to the United States. Just as she finally settles into her strange new existence apart from her father in Rhode Island\, learns English\, and grasps the fact that she is there to stay\, Nada begins discovering revelation after revelation that changes her perspective on her world and family. \n\n\n\nWith an imaginative blend of folklore and history that explores the relationship between our bodies\, ancestors\, and the lands that hold us\, All Water Has Perfect Memory is a memoir that takes readers through the author’s ancestral origins-the coast of Palestine\, Kuwait\, and the shores of Rhode Island- and explores generations of silence and eventually\, connection.
URL:https://cambridgecommonwriters.org/calendar/book-launch-all-water-has-perfect-memory-by-nada-samih-rotondo-2/
LOCATION:Brown Bookstore\, 244 Thayer Street\, Providence\, Rhode Island\, 02912\, United States
CATEGORIES:Alum Event
ATTACH;FMTTYPE=image/jpeg:https://cambridgecommonwriters.org/wp-content/uploads/2020/12/fall-20-scaled.jpg
END:VEVENT
END:VCALENDAR