BEGIN:VCALENDAR
VERSION:2.0
PRODID:-//Cambridge Common Writers - ECPv6.15.20//NONSGML v1.0//EN
CALSCALE:GREGORIAN
METHOD:PUBLISH
X-ORIGINAL-URL:https://cambridgecommonwriters.org
X-WR-CALDESC:Events for Cambridge Common Writers
REFRESH-INTERVAL;VALUE=DURATION:PT1H
X-Robots-Tag:noindex
X-PUBLISHED-TTL:PT1H
BEGIN:VTIMEZONE
TZID:America/New_York
BEGIN:DAYLIGHT
TZOFFSETFROM:-0500
TZOFFSETTO:-0400
TZNAME:EDT
DTSTART:20220313T070000
END:DAYLIGHT
BEGIN:STANDARD
TZOFFSETFROM:-0400
TZOFFSETTO:-0500
TZNAME:EST
DTSTART:20221106T060000
END:STANDARD
BEGIN:DAYLIGHT
TZOFFSETFROM:-0500
TZOFFSETTO:-0400
TZNAME:EDT
DTSTART:20230312T070000
END:DAYLIGHT
BEGIN:STANDARD
TZOFFSETFROM:-0400
TZOFFSETTO:-0500
TZNAME:EST
DTSTART:20231105T060000
END:STANDARD
BEGIN:DAYLIGHT
TZOFFSETFROM:-0500
TZOFFSETTO:-0400
TZNAME:EDT
DTSTART:20240310T070000
END:DAYLIGHT
BEGIN:STANDARD
TZOFFSETFROM:-0400
TZOFFSETTO:-0500
TZNAME:EST
DTSTART:20241103T060000
END:STANDARD
END:VTIMEZONE
BEGIN:VEVENT
DTSTART;TZID=America/New_York:20230707T160000
DTEND;TZID=America/New_York:20230707T170000
DTSTAMP:20260422T175942
CREATED:20230625T184924Z
LAST-MODIFIED:20230625T185029Z
UID:8545-1688745600-1688749200@cambridgecommonwriters.org
SUMMARY:Pollinator Garden Storywalk with Sara Levine's "Flower Talk"
DESCRIPTION:Walk around the Pratt House Pollinator Garden and listen to Sara Levine (Nonfiction/WFYP\, January 2006)‘s Flower Talk to learn about flowers and pollinators. Parking available at Essex Library and Town Hall.
URL:https://cambridgecommonwriters.org/calendar/pollinator-garden-storywalk-with-sara-levines-flower-talk/
LOCATION:Pratt House Museum\, 19 West Ave\, Essex\, Connecticut\, 06426\, United States
CATEGORIES:Alum Event
ATTACH;FMTTYPE=image/jpeg:https://cambridgecommonwriters.org/wp-content/uploads/2021/05/Flower-Talk.jpeg
ORGANIZER;CN="The Storywalk Project":MAILTO:storywalkvt@yahoo.com
END:VEVENT
END:VCALENDAR