BEGIN:VCALENDAR
VERSION:2.0
PRODID:-//Cambridge Common Writers - ECPv6.15.20//NONSGML v1.0//EN
CALSCALE:GREGORIAN
METHOD:PUBLISH
X-WR-CALNAME:Cambridge Common Writers
X-ORIGINAL-URL:https://cambridgecommonwriters.org
X-WR-CALDESC:Events for Cambridge Common Writers
REFRESH-INTERVAL;VALUE=DURATION:PT1H
X-Robots-Tag:noindex
X-PUBLISHED-TTL:PT1H
BEGIN:VTIMEZONE
TZID:America/New_York
BEGIN:DAYLIGHT
TZOFFSETFROM:-0500
TZOFFSETTO:-0400
TZNAME:EDT
DTSTART:20220313T070000
END:DAYLIGHT
BEGIN:STANDARD
TZOFFSETFROM:-0400
TZOFFSETTO:-0500
TZNAME:EST
DTSTART:20221106T060000
END:STANDARD
BEGIN:DAYLIGHT
TZOFFSETFROM:-0500
TZOFFSETTO:-0400
TZNAME:EDT
DTSTART:20230312T070000
END:DAYLIGHT
BEGIN:STANDARD
TZOFFSETFROM:-0400
TZOFFSETTO:-0500
TZNAME:EST
DTSTART:20231105T060000
END:STANDARD
BEGIN:DAYLIGHT
TZOFFSETFROM:-0500
TZOFFSETTO:-0400
TZNAME:EDT
DTSTART:20240310T070000
END:DAYLIGHT
BEGIN:STANDARD
TZOFFSETFROM:-0400
TZOFFSETTO:-0500
TZNAME:EST
DTSTART:20241103T060000
END:STANDARD
END:VTIMEZONE
BEGIN:VEVENT
DTSTART;TZID=America/New_York:20230607T190000
DTEND;TZID=America/New_York:20230607T200000
DTSTAMP:20260422T193120
CREATED:20230504T190455Z
LAST-MODIFIED:20230504T190456Z
UID:8289-1686164400-1686168000@cambridgecommonwriters.org
SUMMARY:Kate Fussner with Rebecca Podos: The Song of Us
DESCRIPTION:In person at Brookline Booksmith! Celebrate the release of The Song of Us with author Kate Fussner (WFYP\, June 2021)\, in conversation with Rebecca Podos. \n\n\n\nKate Fussner (she/her) is a novelist\, teacher\, and accidental poet living in Massachusetts with her wife and dramatic dog. Kate holds her B.A. from Vassar College\, her M.Ed. from University of Massachusetts Boston\, and her M.F.A. in Creative Writing for Young People from Lesley University. \n\n\n\nModerator Rebecca Podos is the Lambda Literary Award-winning author of YA novels. Her latest releases are the co-edited anthology Fools in Love (Running Press Kids) and the YA fantasy novel From Dust\, a Flame (Balzer + Bray). By day\, she’s an agent at the Rees Literary Agency.
URL:https://cambridgecommonwriters.org/calendar/kate-fussner-with-rebecca-podos-the-song-of-us/
LOCATION:Brookline Booksmith\, 279 Harvard Street\, Brookline\, Massachusetts\, 02446-2908\, United States
CATEGORIES:Alum Event
ATTACH;FMTTYPE=image/jpeg:https://cambridgecommonwriters.org/wp-content/uploads/2023/04/Kate-Fussner-683x1024-1.jpg
ORGANIZER;CN="Brookline Booksmith":MAILTO:thestore@brooklinebooksmith.com
END:VEVENT
END:VCALENDAR