BEGIN:VCALENDAR
VERSION:2.0
PRODID:-//Cambridge Common Writers - ECPv6.15.20//NONSGML v1.0//EN
CALSCALE:GREGORIAN
METHOD:PUBLISH
X-ORIGINAL-URL:https://cambridgecommonwriters.org
X-WR-CALDESC:Events for Cambridge Common Writers
REFRESH-INTERVAL;VALUE=DURATION:PT1H
X-Robots-Tag:noindex
X-PUBLISHED-TTL:PT1H
BEGIN:VTIMEZONE
TZID:America/New_York
BEGIN:DAYLIGHT
TZOFFSETFROM:-0500
TZOFFSETTO:-0400
TZNAME:EDT
DTSTART:20220313T070000
END:DAYLIGHT
BEGIN:STANDARD
TZOFFSETFROM:-0400
TZOFFSETTO:-0500
TZNAME:EST
DTSTART:20221106T060000
END:STANDARD
BEGIN:DAYLIGHT
TZOFFSETFROM:-0500
TZOFFSETTO:-0400
TZNAME:EDT
DTSTART:20230312T070000
END:DAYLIGHT
BEGIN:STANDARD
TZOFFSETFROM:-0400
TZOFFSETTO:-0500
TZNAME:EST
DTSTART:20231105T060000
END:STANDARD
BEGIN:DAYLIGHT
TZOFFSETFROM:-0500
TZOFFSETTO:-0400
TZNAME:EDT
DTSTART:20240310T070000
END:DAYLIGHT
BEGIN:STANDARD
TZOFFSETFROM:-0400
TZOFFSETTO:-0500
TZNAME:EST
DTSTART:20241103T060000
END:STANDARD
END:VTIMEZONE
BEGIN:VEVENT
DTSTART;TZID=America/New_York:20230530T190000
DTEND;TZID=America/New_York:20230530T200000
DTSTAMP:20260422T193226
CREATED:20230422T183634Z
LAST-MODIFIED:20230422T183635Z
UID:8179-1685473200-1685476800@cambridgecommonwriters.org
SUMMARY:Grubbie Debuts: Kate Fussner\, author of The Song of Us\, in conversation with Rajani LaRocca
DESCRIPTION:PSB: Boston Edition and GrubStreet will welcome Kate Fussner (WFYP\, June 2021)\, author of The Song of Us for the latest installment of the Grubbie Debut event series. Rajani LaRocca will join the author in conversation. Attendees may also join virtually on Crowdcast. \n\n\n\nKate Fussner (she/her) is a novelist\, teacher\, and accidental poet living in Massachusetts with her wife and dramatic dog. When not reading or writing\, Kate can be found spending time with her family\, baking\, or singing her favorite musicals. Kate believes in the power of a good laugh and a good cry\, and hopes her stories will provide readers with both. Learn more at katefussner.com \n\n\n\nRajani LaRocca was born in India\, raised in Kentucky\, and now lives in the Boston area\, where she practices medicine and writes award-winning books for young readers\, including the Newbery Honor winning middle grade novel in verse\, Red\, White\, and Whole. She’s always been an omnivorous reader\, and now she is an omnivorous writer of fiction and nonfiction\, novels and picture books\, prose and poetry. She finds inspiration in her family\, her childhood\, the natural world\, math\, science\, and just about everywhere she looks. Learn more about Rajani and her books at www.RajaniLaRocca.com and Twitter\, Facebook\, Instagram\, and LinkedIn. She also co-hosts the STEM Women in KidLit Podcast.
URL:https://cambridgecommonwriters.org/calendar/grubbie-debuts-kate-fussner-author-of-the-song-of-us-in-conversation-with-rajani-larocca/
LOCATION:Porter Square Books: Boston Edition\, 50 Liberty Dr.\, Boston\, Massachusetts\, 02210\, United States
CATEGORIES:Alum Event
ATTACH;FMTTYPE=image/jpeg:https://cambridgecommonwriters.org/wp-content/uploads/2023/01/Kate-Fussner-683x1024-1.jpg
ORGANIZER;CN="GrubStreet":MAILTO:info@grubstreet.org
END:VEVENT
END:VCALENDAR