BEGIN:VCALENDAR
VERSION:2.0
PRODID:-//Cambridge Common Writers - ECPv6.15.20//NONSGML v1.0//EN
CALSCALE:GREGORIAN
METHOD:PUBLISH
X-ORIGINAL-URL:https://cambridgecommonwriters.org
X-WR-CALDESC:Events for Cambridge Common Writers
REFRESH-INTERVAL;VALUE=DURATION:PT1H
X-Robots-Tag:noindex
X-PUBLISHED-TTL:PT1H
BEGIN:VTIMEZONE
TZID:America/New_York
BEGIN:DAYLIGHT
TZOFFSETFROM:-0500
TZOFFSETTO:-0400
TZNAME:EDT
DTSTART:20220313T070000
END:DAYLIGHT
BEGIN:STANDARD
TZOFFSETFROM:-0400
TZOFFSETTO:-0500
TZNAME:EST
DTSTART:20221106T060000
END:STANDARD
BEGIN:DAYLIGHT
TZOFFSETFROM:-0500
TZOFFSETTO:-0400
TZNAME:EDT
DTSTART:20230312T070000
END:DAYLIGHT
BEGIN:STANDARD
TZOFFSETFROM:-0400
TZOFFSETTO:-0500
TZNAME:EST
DTSTART:20231105T060000
END:STANDARD
BEGIN:DAYLIGHT
TZOFFSETFROM:-0500
TZOFFSETTO:-0400
TZNAME:EDT
DTSTART:20240310T070000
END:DAYLIGHT
BEGIN:STANDARD
TZOFFSETFROM:-0400
TZOFFSETTO:-0500
TZNAME:EST
DTSTART:20241103T060000
END:STANDARD
END:VTIMEZONE
BEGIN:VEVENT
DTSTART;TZID=America/New_York:20230504T180000
DTEND;TZID=America/New_York:20230504T190000
DTSTAMP:20260422T211324
CREATED:20230422T230700Z
LAST-MODIFIED:20230422T230701Z
UID:8207-1683223200-1683226800@cambridgecommonwriters.org
SUMMARY:Katie Cotugno with Karen McManus: Liar's Beach
DESCRIPTION:In person at Brookline Booksmith! Celebrate the release of Liar’s Beach with author Katie Cotugno (Fiction\, June 2015)\, in conversation with Karen McManus. \n\n\n\nKatie Cotugno (Co-TOOG-no) is the New York Times bestselling author of messy\, complicated feminist YA novels including 99 Days\, How to Love\, Fireworks\, Top Ten\, 9 Days & 9 Nights\, You Say It First\, and Liar’s Beach\, as well an adult novel\, Birds of California. She is also the coauthor\, with Candace Bushnell\, of Rules for Being a Girl. Her books have been honored by the Junior Library Guild\, the Bank Street Children’s Book Committee\, and the Kentucky Association of School Librarians\, among others\, and translated into more than fifteen languages. Katie studied Writing\, Literature\, and Publishing at Emerson College and received her MFA in Fiction at Lesley University. She lives in Boston with her family. Visit her online at katiecotugno.com.
URL:https://cambridgecommonwriters.org/calendar/katie-cotugno-with-karen-mcmanus-liars-beach/
LOCATION:Brookline Booksmith\, 279 Harvard Street\, Brookline\, Massachusetts\, 02446-2908\, United States
CATEGORIES:Alum Event
ATTACH;FMTTYPE=image/jpeg:https://cambridgecommonwriters.org/wp-content/uploads/2023/03/Katie-Cotugno.jpg
ORGANIZER;CN="Brookline Booksmith":MAILTO:thestore@brooklinebooksmith.com
END:VEVENT
END:VCALENDAR