BEGIN:VCALENDAR
VERSION:2.0
PRODID:-//Cambridge Common Writers - ECPv6.15.20//NONSGML v1.0//EN
CALSCALE:GREGORIAN
METHOD:PUBLISH
X-ORIGINAL-URL:https://cambridgecommonwriters.org
X-WR-CALDESC:Events for Cambridge Common Writers
REFRESH-INTERVAL;VALUE=DURATION:PT1H
X-Robots-Tag:noindex
X-PUBLISHED-TTL:PT1H
BEGIN:VTIMEZONE
TZID:America/New_York
BEGIN:DAYLIGHT
TZOFFSETFROM:-0500
TZOFFSETTO:-0400
TZNAME:EDT
DTSTART:20220313T070000
END:DAYLIGHT
BEGIN:STANDARD
TZOFFSETFROM:-0400
TZOFFSETTO:-0500
TZNAME:EST
DTSTART:20221106T060000
END:STANDARD
BEGIN:DAYLIGHT
TZOFFSETFROM:-0500
TZOFFSETTO:-0400
TZNAME:EDT
DTSTART:20230312T070000
END:DAYLIGHT
BEGIN:STANDARD
TZOFFSETFROM:-0400
TZOFFSETTO:-0500
TZNAME:EST
DTSTART:20231105T060000
END:STANDARD
BEGIN:DAYLIGHT
TZOFFSETFROM:-0500
TZOFFSETTO:-0400
TZNAME:EDT
DTSTART:20240310T070000
END:DAYLIGHT
BEGIN:STANDARD
TZOFFSETFROM:-0400
TZOFFSETTO:-0500
TZNAME:EST
DTSTART:20241103T060000
END:STANDARD
END:VTIMEZONE
BEGIN:VEVENT
DTSTART;TZID=America/New_York:20230316T190000
DTEND;TZID=America/New_York:20230316T200000
DTSTAMP:20260423T005049
CREATED:20230217T014934Z
LAST-MODIFIED:20230217T014935Z
UID:7900-1678993200-1678996800@cambridgecommonwriters.org
SUMMARY:Elizabeth Shick\, author of The Golden Land\, with Michael Lowenthal
DESCRIPTION:Porter Square Books will welcome Elizabeth Shick (Fiction\, January 2019)\, author of The Golden Land\, for an event with Michael Lowenthal (MFA Writing Faculty\, Fiction)! This event will take place on Thursday\, March 16 at 7pm at Porter Square Books (25 White St. Cambridge\, MA 02140). RSVP below to let the bookstore know you’re coming and to receive event updates.
URL:https://cambridgecommonwriters.org/calendar/elizabeth-shick-author-of-the-golden-land-with-michael-lowenthal/
LOCATION:Porter Square Books\, 1815 Massachusetts Ave\, Cambridge\, Massachusetts\, 02140\, United States
CATEGORIES:Alum Event
ATTACH;FMTTYPE=image/jpeg:https://cambridgecommonwriters.org/wp-content/uploads/2023/01/Elizabeth-Shick-2022-1-scaled.jpg
ORGANIZER;CN="Porter Square Books":MAILTO:INFO@PORTERSQUAREBOOKS.COM
END:VEVENT
END:VCALENDAR