BEGIN:VCALENDAR
VERSION:2.0
PRODID:-//Cambridge Common Writers - ECPv6.15.20//NONSGML v1.0//EN
CALSCALE:GREGORIAN
METHOD:PUBLISH
X-WR-CALNAME:Cambridge Common Writers
X-ORIGINAL-URL:https://cambridgecommonwriters.org
X-WR-CALDESC:Events for Cambridge Common Writers
REFRESH-INTERVAL;VALUE=DURATION:PT1H
X-Robots-Tag:noindex
X-PUBLISHED-TTL:PT1H
BEGIN:VTIMEZONE
TZID:America/New_York
BEGIN:DAYLIGHT
TZOFFSETFROM:-0500
TZOFFSETTO:-0400
TZNAME:EDT
DTSTART:20220313T070000
END:DAYLIGHT
BEGIN:STANDARD
TZOFFSETFROM:-0400
TZOFFSETTO:-0500
TZNAME:EST
DTSTART:20221106T060000
END:STANDARD
BEGIN:DAYLIGHT
TZOFFSETFROM:-0500
TZOFFSETTO:-0400
TZNAME:EDT
DTSTART:20230312T070000
END:DAYLIGHT
BEGIN:STANDARD
TZOFFSETFROM:-0400
TZOFFSETTO:-0500
TZNAME:EST
DTSTART:20231105T060000
END:STANDARD
BEGIN:DAYLIGHT
TZOFFSETFROM:-0500
TZOFFSETTO:-0400
TZNAME:EDT
DTSTART:20240310T070000
END:DAYLIGHT
BEGIN:STANDARD
TZOFFSETFROM:-0400
TZOFFSETTO:-0500
TZNAME:EST
DTSTART:20241103T060000
END:STANDARD
END:VTIMEZONE
BEGIN:VEVENT
DTSTART;TZID=America/New_York:20230207T130000
DTEND;TZID=America/New_York:20230207T150000
DTSTAMP:20260423T025534
CREATED:20230104T010503Z
LAST-MODIFIED:20230104T010504Z
UID:7726-1675774800-1675782000@cambridgecommonwriters.org
SUMMARY:Intro to Memoir - 4 weeks (with Celia Jeffries) - ONLINE
DESCRIPTION:We all have memories that stay with us. Somewhere inside them is usually a story. It may be highly subjective\, but more often than not\, it holds a universal truth. How do you get to that truth? How do you create a story that has energy and depth and speaks to the reader? This workshop will focus not only on WHAT is being written but also on HOW it is written. Through writing exercises\, readings\, and discussions of both nonfiction and fiction\, we will explore techniques to awaken the personal story on the page. While writers will not be submitting work to the group for feedback\, there will be lots of opportunities after in-class writing to share with the group for brief\, supportive\, on-the-spot feedback.  \n\n\n\nLimited to 10 writers. \n\n\n\nWHEN: 4 Weeks: Tuesdays\, February 7 – 28 (1 – 3pm EST) \n\n\n\nWHERE: Online\, via Zoom video conference (live)
URL:https://cambridgecommonwriters.org/calendar/intro-to-memoir-4-weeks-with-celia-jeffries-online/
LOCATION:Online Zoom Event
CATEGORIES:Alum Event
ATTACH;FMTTYPE=image/jpeg:https://cambridgecommonwriters.org/wp-content/uploads/2022/10/Celia-Jeffries.jpg
ORGANIZER;CN="Pioneer Valley Writers' Workshop":MAILTO:joy@pioneervalleywriters.org
END:VEVENT
END:VCALENDAR