BEGIN:VCALENDAR
VERSION:2.0
PRODID:-//Cambridge Common Writers - ECPv6.15.20//NONSGML v1.0//EN
CALSCALE:GREGORIAN
METHOD:PUBLISH
X-ORIGINAL-URL:https://cambridgecommonwriters.org
X-WR-CALDESC:Events for Cambridge Common Writers
REFRESH-INTERVAL;VALUE=DURATION:PT1H
X-Robots-Tag:noindex
X-PUBLISHED-TTL:PT1H
BEGIN:VTIMEZONE
TZID:America/New_York
BEGIN:DAYLIGHT
TZOFFSETFROM:-0500
TZOFFSETTO:-0400
TZNAME:EDT
DTSTART:20220313T070000
END:DAYLIGHT
BEGIN:STANDARD
TZOFFSETFROM:-0400
TZOFFSETTO:-0500
TZNAME:EST
DTSTART:20221106T060000
END:STANDARD
BEGIN:DAYLIGHT
TZOFFSETFROM:-0500
TZOFFSETTO:-0400
TZNAME:EDT
DTSTART:20230312T070000
END:DAYLIGHT
BEGIN:STANDARD
TZOFFSETFROM:-0400
TZOFFSETTO:-0500
TZNAME:EST
DTSTART:20231105T060000
END:STANDARD
BEGIN:DAYLIGHT
TZOFFSETFROM:-0500
TZOFFSETTO:-0400
TZNAME:EDT
DTSTART:20240310T070000
END:DAYLIGHT
BEGIN:STANDARD
TZOFFSETFROM:-0400
TZOFFSETTO:-0500
TZNAME:EST
DTSTART:20241103T060000
END:STANDARD
END:VTIMEZONE
BEGIN:VEVENT
DTSTART;TZID=America/New_York:20230204T110000
DTEND;TZID=America/New_York:20230204T130000
DTSTAMP:20260423T024552
CREATED:20230118T194337Z
LAST-MODIFIED:20230118T194338Z
UID:7753-1675508400-1675515600@cambridgecommonwriters.org
SUMMARY:Book Party & Open Mic with Frances Donovan
DESCRIPTION:Join Frances Donovan (Poetry\, June 2019) to celebrate her first book\, Arboretum in a Jar\, from Lily Poetry Review. This event is free and open to the public. Refreshments available.
URL:https://cambridgecommonwriters.org/calendar/book-party-open-mic-with-frances-donovan/
LOCATION:Create Art in Community\, 11A Corinth St\, Roslindale\, Massachusetts\, 02131\, United States
CATEGORIES:Alum Event
ATTACH;FMTTYPE=image/png:https://cambridgecommonwriters.org/wp-content/uploads/2023/01/Arboretum-in-a-Jar.png
END:VEVENT
END:VCALENDAR