BEGIN:VCALENDAR
VERSION:2.0
PRODID:-//Cambridge Common Writers - ECPv6.15.20//NONSGML v1.0//EN
CALSCALE:GREGORIAN
METHOD:PUBLISH
X-ORIGINAL-URL:https://cambridgecommonwriters.org
X-WR-CALDESC:Events for Cambridge Common Writers
REFRESH-INTERVAL;VALUE=DURATION:PT1H
X-Robots-Tag:noindex
X-PUBLISHED-TTL:PT1H
BEGIN:VTIMEZONE
TZID:America/New_York
BEGIN:DAYLIGHT
TZOFFSETFROM:-0500
TZOFFSETTO:-0400
TZNAME:EDT
DTSTART:20220313T070000
END:DAYLIGHT
BEGIN:STANDARD
TZOFFSETFROM:-0400
TZOFFSETTO:-0500
TZNAME:EST
DTSTART:20221106T060000
END:STANDARD
BEGIN:DAYLIGHT
TZOFFSETFROM:-0500
TZOFFSETTO:-0400
TZNAME:EDT
DTSTART:20230312T070000
END:DAYLIGHT
BEGIN:STANDARD
TZOFFSETFROM:-0400
TZOFFSETTO:-0500
TZNAME:EST
DTSTART:20231105T060000
END:STANDARD
BEGIN:DAYLIGHT
TZOFFSETFROM:-0500
TZOFFSETTO:-0400
TZNAME:EDT
DTSTART:20240310T070000
END:DAYLIGHT
BEGIN:STANDARD
TZOFFSETFROM:-0400
TZOFFSETTO:-0500
TZNAME:EST
DTSTART:20241103T060000
END:STANDARD
END:VTIMEZONE
BEGIN:VEVENT
DTSTART;TZID=America/New_York:20230129T170000
DTEND;TZID=America/New_York:20230129T180000
DTSTAMP:20260423T044237
CREATED:20230118T193441Z
LAST-MODIFIED:20230118T193442Z
UID:7750-1675011600-1675015200@cambridgecommonwriters.org
SUMMARY:Lily Book Launch: 'Arboretum in a Jar' by Frances Donovan
DESCRIPTION:Join Lily Poetry Review Books as they celebrate Frances Donovan’s ‘Arboretum in a Jar’ with special guest Martha Collins. \n\n\n\nFrances Donovan’s (Poetry\, June 2019) chapbook Mad Quick Hand of the Seashore was a finalist for a Lambda Literary Award. Donovan’s poems have appeared in Lily Poetry Review\, Solstice\, Heavy Feather Review\, SWWIM\, and elsewhere. Her interviews of other poets can be found at The Rumpus and on her website. Donovan holds an MFA in poetry from Lesley University and is a certified Poet Educator with Mass Poetry. In 2019\, Boston Poet Laureate Porsha Olayiwola selected one of her poems to be displayed at Boston City Hall. Donovan’s work deals with themes of home\, family\, intergenerational trauma\, and sexual and gender identity. She remembers fondly the summer of 1998\, when she drove a bulldozer in a Pride parade while wearing a bustier.
URL:https://cambridgecommonwriters.org/calendar/lily-book-launch-arboretum-in-a-jar-by-frances-donovan/
LOCATION:Online Event
CATEGORIES:Alum Event
ATTACH;FMTTYPE=image/jpeg:https://cambridgecommonwriters.org/wp-content/uploads/2020/03/Frances-Donovan-scaled.jpg
END:VEVENT
END:VCALENDAR