BEGIN:VCALENDAR
VERSION:2.0
PRODID:-//Cambridge Common Writers - ECPv6.15.20//NONSGML v1.0//EN
CALSCALE:GREGORIAN
METHOD:PUBLISH
X-WR-CALNAME:Cambridge Common Writers
X-ORIGINAL-URL:https://cambridgecommonwriters.org
X-WR-CALDESC:Events for Cambridge Common Writers
REFRESH-INTERVAL;VALUE=DURATION:PT1H
X-Robots-Tag:noindex
X-PUBLISHED-TTL:PT1H
BEGIN:VTIMEZONE
TZID:America/New_York
BEGIN:DAYLIGHT
TZOFFSETFROM:-0500
TZOFFSETTO:-0400
TZNAME:EDT
DTSTART:20220313T070000
END:DAYLIGHT
BEGIN:STANDARD
TZOFFSETFROM:-0400
TZOFFSETTO:-0500
TZNAME:EST
DTSTART:20221106T060000
END:STANDARD
BEGIN:DAYLIGHT
TZOFFSETFROM:-0500
TZOFFSETTO:-0400
TZNAME:EDT
DTSTART:20230312T070000
END:DAYLIGHT
BEGIN:STANDARD
TZOFFSETFROM:-0400
TZOFFSETTO:-0500
TZNAME:EST
DTSTART:20231105T060000
END:STANDARD
BEGIN:DAYLIGHT
TZOFFSETFROM:-0500
TZOFFSETTO:-0400
TZNAME:EDT
DTSTART:20240310T070000
END:DAYLIGHT
BEGIN:STANDARD
TZOFFSETFROM:-0400
TZOFFSETTO:-0500
TZNAME:EST
DTSTART:20241103T060000
END:STANDARD
END:VTIMEZONE
BEGIN:VEVENT
DTSTART;TZID=America/New_York:20230121T180000
DTEND;TZID=America/New_York:20230121T200000
DTSTAMP:20260423T044158
CREATED:20230118T191811Z
LAST-MODIFIED:20230118T191813Z
UID:7744-1674324000-1674331200@cambridgecommonwriters.org
SUMMARY:IAWA-Boston Presents Lisa DeSiro & Diane Josefowicz
DESCRIPTION:The Italian American Writers Associate presents Lisa DeSiro (Poetry\, June 2010) and Diane Josefowicz as part of their Boston Literary Series January 2023. \n\n\n\nLisa DeSiro is both a writer and a musician. Her collections include Simple as a Sonnet (Kelsay Books\, 2021)\, Labor (Nixes Mate Books\, 2018)\, and Grief Dreams (White Knuckle Press\, 2017). She is a professional accompanist and also does freelance editorial work. Read more about her at thepoetpianist.com. \n\n\n\nA novelist\, historian\, and editor\, Diane Josefowicz grew up outside Providence\, where she now lives with her family. Ready\, Set\, Oh is her first novel. Her second\, L’Air du Temps (1985) is forthcoming in 2024 from Regal House. She serves as reviews editor at Necessary Fiction\, associate fiction editor at West Trade Review\, and director of communications for Swing Left Rhode Island\, a progressive organization focused on electoral work.
URL:https://cambridgecommonwriters.org/calendar/iawa-boston-presents-lisa-desiro-diane-josefowicz/
LOCATION:I Am Books\, 124 Salem Street\, Boston\, Massachusetts\, 02113\, United States
CATEGORIES:Alum Event
ATTACH;FMTTYPE=image/jpeg:https://cambridgecommonwriters.org/wp-content/uploads/2020/09/2020-1.jpg
END:VEVENT
END:VCALENDAR