BEGIN:VCALENDAR
VERSION:2.0
PRODID:-//Cambridge Common Writers - ECPv6.15.20//NONSGML v1.0//EN
CALSCALE:GREGORIAN
METHOD:PUBLISH
X-WR-CALNAME:Cambridge Common Writers
X-ORIGINAL-URL:https://cambridgecommonwriters.org
X-WR-CALDESC:Events for Cambridge Common Writers
REFRESH-INTERVAL;VALUE=DURATION:PT1H
X-Robots-Tag:noindex
X-PUBLISHED-TTL:PT1H
BEGIN:VTIMEZONE
TZID:America/New_York
BEGIN:DAYLIGHT
TZOFFSETFROM:-0500
TZOFFSETTO:-0400
TZNAME:EDT
DTSTART:20210314T070000
END:DAYLIGHT
BEGIN:STANDARD
TZOFFSETFROM:-0400
TZOFFSETTO:-0500
TZNAME:EST
DTSTART:20211107T060000
END:STANDARD
BEGIN:DAYLIGHT
TZOFFSETFROM:-0500
TZOFFSETTO:-0400
TZNAME:EDT
DTSTART:20220313T070000
END:DAYLIGHT
BEGIN:STANDARD
TZOFFSETFROM:-0400
TZOFFSETTO:-0500
TZNAME:EST
DTSTART:20221106T060000
END:STANDARD
BEGIN:DAYLIGHT
TZOFFSETFROM:-0500
TZOFFSETTO:-0400
TZNAME:EDT
DTSTART:20230312T070000
END:DAYLIGHT
BEGIN:STANDARD
TZOFFSETFROM:-0400
TZOFFSETTO:-0500
TZNAME:EST
DTSTART:20231105T060000
END:STANDARD
END:VTIMEZONE
BEGIN:VEVENT
DTSTART;TZID=America/New_York:20221208T200000
DTEND;TZID=America/New_York:20221208T210000
DTSTAMP:20260423T062147
CREATED:20221119T162355Z
LAST-MODIFIED:20221208T215318Z
UID:7450-1670529600-1670533200@cambridgecommonwriters.org
SUMMARY:The Golden Land - CCW Book Launch with Elizabeth Shick
DESCRIPTION:Join us for this celebration of Elizabeth Shick’s debut novel\, The Golden Land\, which was inspired by the six years she lived in Yangon\, Myanmar\, and is the winner of the 2021 AWP Prize for the Novel.  \n\n\n\nPurchase Here\n\n\n\nThe event will take place during the following time zones: \n\n\n\n8:00 PM December 8 Boston \n\n\n\n7:00 AM December 9 Dhaka \n\n\n\n7:30 AM December 9 Yangon \n\n\n\n12:00 PM December 9 Melbourne
URL:https://cambridgecommonwriters.org/calendar/the-golden-land-ccw-book-launch-with-elizabeth-shick/
LOCATION:Online Zoom Event
CATEGORIES:Alum Event,CCW Event
ATTACH;FMTTYPE=image/jpeg:https://cambridgecommonwriters.org/wp-content/uploads/2022/10/The-Golden-Land.jpeg
ORGANIZER;CN="Cambridge Common Writers":MAILTO:lesleycambridgecommon@gmail.com
END:VEVENT
END:VCALENDAR