BEGIN:VCALENDAR
VERSION:2.0
PRODID:-//Cambridge Common Writers - ECPv6.15.20//NONSGML v1.0//EN
CALSCALE:GREGORIAN
METHOD:PUBLISH
X-WR-CALNAME:Cambridge Common Writers
X-ORIGINAL-URL:https://cambridgecommonwriters.org
X-WR-CALDESC:Events for Cambridge Common Writers
REFRESH-INTERVAL;VALUE=DURATION:PT1H
X-Robots-Tag:noindex
X-PUBLISHED-TTL:PT1H
BEGIN:VTIMEZONE
TZID:America/New_York
BEGIN:DAYLIGHT
TZOFFSETFROM:-0500
TZOFFSETTO:-0400
TZNAME:EDT
DTSTART:20250309T070000
END:DAYLIGHT
BEGIN:STANDARD
TZOFFSETFROM:-0400
TZOFFSETTO:-0500
TZNAME:EST
DTSTART:20251102T060000
END:STANDARD
BEGIN:DAYLIGHT
TZOFFSETFROM:-0500
TZOFFSETTO:-0400
TZNAME:EDT
DTSTART:20260308T070000
END:DAYLIGHT
BEGIN:STANDARD
TZOFFSETFROM:-0400
TZOFFSETTO:-0500
TZNAME:EST
DTSTART:20261101T060000
END:STANDARD
BEGIN:DAYLIGHT
TZOFFSETFROM:-0500
TZOFFSETTO:-0400
TZNAME:EDT
DTSTART:20270314T070000
END:DAYLIGHT
BEGIN:STANDARD
TZOFFSETFROM:-0400
TZOFFSETTO:-0500
TZNAME:EST
DTSTART:20271107T060000
END:STANDARD
END:VTIMEZONE
BEGIN:VEVENT
DTSTART;TZID=America/New_York:20260108T190000
DTEND;TZID=America/New_York:20260108T210000
DTSTAMP:20260420T070222
CREATED:20251228T190734Z
LAST-MODIFIED:20251228T190740Z
UID:12694-1767898800-1767906000@cambridgecommonwriters.org
SUMMARY:2nd Thursday Poetry Reading with Eileen Cleary & Robbie Gamble
DESCRIPTION:Eileen Cleary (Poetry\, June 2016) and Robbie Gamble (Poetry/Nonfiction\, January 2017/June 2020) are featured readers at MAC.  All readings are free and open to the public with an Open Mic before the featured speakers. Space is limited at the Open Mic\, signup starts at 645 pm the night of the reading.
URL:https://cambridgecommonwriters.org/calendar/2nd-thursday-poetry-reading-with-eileen-cleary-robbie-gamble/
LOCATION:Menino Arts Center\, 26 Central Avenue\, Hyde Park\, Massachusetts\, 02136\, United States
CATEGORIES:Alum Event
ATTACH;FMTTYPE=image/jpeg:https://cambridgecommonwriters.org/wp-content/uploads/2022/11/Eileen-Cleary.jpg
ORGANIZER;CN="Linda Carney-Goodrich":MAILTO:poetry@hpaa-mac.org
END:VEVENT
BEGIN:VEVENT
DTSTART;TZID=America/New_York:20260122T190000
DTEND;TZID=America/New_York:20260122T203000
DTSTAMP:20260420T070222
CREATED:20260109T164911Z
LAST-MODIFIED:20260109T164917Z
UID:12731-1769108400-1769113800@cambridgecommonwriters.org
SUMMARY:Writing For Healing with Amy Asherah
DESCRIPTION:Join poet\, writer\, and writing instructor Amy Asherah (Nonfiction\, January 2023) in this writing workshop\, where we will explore the ways our bodies hold onto trauma and how expressing ourselves through writing can help us heal. Sharing your writing with the group is encouraged but not required. \n\n\n\nAmy Asherah has used writing as a way of healing for over 30 years\, and studied Writing as a Therapeutic Modality at Lesley University\, where she received an MFA. Her work has been published in Modern Love (NY Times)\, Boulevard\, CALYX Journal\, and other places. She completed two apprenticeships in herbal medicine and co-founded the Common Street Spiritual Center in Natick\, MA. 
URL:https://cambridgecommonwriters.org/calendar/writing-for-healing-with-amy-asherah/
LOCATION:Moorse Institute Library\, 14 E Central St\, Natick\, Massachusetts\, 01760\, United States
CATEGORIES:Alum Event
ATTACH;FMTTYPE=image/jpeg:https://cambridgecommonwriters.org/wp-content/uploads/2026/01/Writing-for-Healing-e1767977267883.jpg
END:VEVENT
BEGIN:VEVENT
DTSTART;TZID=America/New_York:20260124T130000
DTEND;TZID=America/New_York:20260124T150000
DTSTAMP:20260420T070222
CREATED:20260102T143047Z
LAST-MODIFIED:20260102T143052Z
UID:12700-1769259600-1769266800@cambridgecommonwriters.org
SUMMARY:A Tactical Toolbox for Edits & Revision with Michael Mecurio
DESCRIPTION:This class will focus on focused revision at the level of language. It’s not about plot or form or structure\, but rather about the constituent elements that make up sentences or lines. Students will be offered tactics to employ in the service of sharpening their prose or poems\, in strengthening their syntax\, and in surprising their readers (and themselves!) There will be resources shared in class for students to take home; nothing will be sent in advance. Students will be asked to bring a short piece of writing that they would like to revise\, e.g.\, 500 words of prose or 1 poem (20 lines or fewer).
URL:https://cambridgecommonwriters.org/calendar/a-tactical-toolbox-for-edits-revision-with-michael-mecurio/
CATEGORIES:Alum Event
ATTACH;FMTTYPE=image/jpeg:https://cambridgecommonwriters.org/wp-content/uploads/2025/05/Michael-Mercurio-2025.jpg
END:VEVENT
END:VCALENDAR