BEGIN:VCALENDAR
VERSION:2.0
PRODID:-//Cambridge Common Writers - ECPv6.15.20//NONSGML v1.0//EN
CALSCALE:GREGORIAN
METHOD:PUBLISH
X-WR-CALNAME:Cambridge Common Writers
X-ORIGINAL-URL:https://cambridgecommonwriters.org
X-WR-CALDESC:Events for Cambridge Common Writers
REFRESH-INTERVAL;VALUE=DURATION:PT1H
X-Robots-Tag:noindex
X-PUBLISHED-TTL:PT1H
BEGIN:VTIMEZONE
TZID:America/New_York
BEGIN:DAYLIGHT
TZOFFSETFROM:-0500
TZOFFSETTO:-0400
TZNAME:EDT
DTSTART:20240310T070000
END:DAYLIGHT
BEGIN:STANDARD
TZOFFSETFROM:-0400
TZOFFSETTO:-0500
TZNAME:EST
DTSTART:20241103T060000
END:STANDARD
BEGIN:DAYLIGHT
TZOFFSETFROM:-0500
TZOFFSETTO:-0400
TZNAME:EDT
DTSTART:20250309T070000
END:DAYLIGHT
BEGIN:STANDARD
TZOFFSETFROM:-0400
TZOFFSETTO:-0500
TZNAME:EST
DTSTART:20251102T060000
END:STANDARD
BEGIN:DAYLIGHT
TZOFFSETFROM:-0500
TZOFFSETTO:-0400
TZNAME:EDT
DTSTART:20260308T070000
END:DAYLIGHT
BEGIN:STANDARD
TZOFFSETFROM:-0400
TZOFFSETTO:-0500
TZNAME:EST
DTSTART:20261101T060000
END:STANDARD
END:VTIMEZONE
BEGIN:VEVENT
DTSTART;TZID=America/New_York:20250803T100000
DTEND;TZID=America/New_York:20250803T110000
DTSTAMP:20260420T154727
CREATED:20250801T191019Z
LAST-MODIFIED:20250801T191621Z
UID:11992-1754215200-1754218800@cambridgecommonwriters.org
SUMMARY:Book Reading at the Stony Creek Farmers Market with Sara Levine
DESCRIPTION:Stop by at the Stony Creek Farmers Market for a special book reading with local author Sara Levine (WFYP\, January 2006). A space will be set up for children to hang out in the shade\, enjoy some fruit\, and tune into story-telling with Sara. \n\n\n\nBooks are for sale and parents are encouraged to hang out and enjoy too!
URL:https://cambridgecommonwriters.org/calendar/book-reading-at-the-stony-creek-farmers-market-with-sara-levine/
LOCATION:Bayview Park\, Thimble Island Rd\, Branford\, Connecticut\, 06405\, United States
CATEGORIES:Alum Event
ATTACH;FMTTYPE=image/jpeg:https://cambridgecommonwriters.org/wp-content/uploads/2025/08/Screenshot-2025-08-01-at-3.15.46-PM.jpg
END:VEVENT
BEGIN:VEVENT
DTSTART;TZID=America/New_York:20250803T163000
DTEND;TZID=America/New_York:20250803T173000
DTSTAMP:20260420T154727
CREATED:20250801T012330Z
LAST-MODIFIED:20250801T012331Z
UID:11973-1754238600-1754242200@cambridgecommonwriters.org
SUMMARY:CCW Presents: The Extraordinary Orbit of Alex Ramirez by Jasminne Paulino Book Launch
DESCRIPTION:Join us to help launch Jasminne Paulino’s (WFYP\, June 2023) debut novel in verse\, The Extraordinary Orbit of Alex Ramirez. Jasminne will be in conversation with fellow WFYP alum Kate Fussner (June 2021) for this virtual event. \n\n\n\n\n\n\n\nSeventh grader Alex’s favorite things to do are watching YouTube videos of rocket launches with his Papi and spending hours on the NASA website reading about astronauts and planets. He even dreams of going to space one day himself\, and knows he’ll have to study hard in order to get there. \n\n\n\nBut Alex is in his grade’s SC (self-contained) classroom\, which means doing the same dull worksheets every day and reading books his sister read back in the third grade. Worst of all\, being in SC means nobody thinks he’s ready to join Ms. Rosef’s mainstream science class—the class Alex knows will be the first step on his path to NASA. \n\n\n\nWhen his teacher says “not yet” for the millionth time\, Alex decides it’s time to make a change. Now he’s ready to try everything he can to get the people in his life—his teachers\, his parents\, and the kids at school—to understand that he\, Alex Ramirez\, is capable of the extraordinary.
URL:https://cambridgecommonwriters.org/calendar/ccw-presents-the-extraordinary-orbit-of-alex-ramirez-by-jasminne-paulino-book-launch/
LOCATION:Online Zoom Event
CATEGORIES:Alum Event,CCW Event
ATTACH;FMTTYPE=image/jpeg:https://cambridgecommonwriters.org/wp-content/uploads/2025/07/2025-CCW-Book-Launches-10.jpg
ORGANIZER;CN="Cambridge Common Writers":MAILTO:lesleycambridgecommon@gmail.com
END:VEVENT
BEGIN:VEVENT
DTSTART;TZID=America/New_York:20250809T170000
DTEND;TZID=America/New_York:20250809T173000
DTSTAMP:20260420T154727
CREATED:20250801T011955Z
LAST-MODIFIED:20250801T011957Z
UID:11969-1754758800-1754760600@cambridgecommonwriters.org
SUMMARY:“24 Authors in 12 Hours” Virtual Book Fair with Alissa Butterworth
DESCRIPTION:Alissa Butterworth (Fiction\, June 2012) will be participating in the “24 Authors in 12 Hours” livestream from 5-5:30pm EST\, hosted by Amy S. Hamilton. She will be discussing her novel\, To Die is Different Than Supposed\, the writing life\, and the inspiration behind her work. There will be a giveaway of signed copies of her novel during the interview. The livestream will be available on Facebook and YouTube. \n\n\n\nTo Die is Different Than Supposed is a lyrical\, emotionally rich story about family\, loss\, and the invisible threads that connect us across generations. Set against the backdrop of grief and the unexpected\, it explores how we carry memory—and how it carries us.
URL:https://cambridgecommonwriters.org/calendar/24-authors-in-12-hours-virtual-book-fair-with-alissa-butterworth/
CATEGORIES:Alum Event
ATTACH;FMTTYPE=image/jpeg:https://cambridgecommonwriters.org/wp-content/uploads/2025/01/2025-Alissa-Butterworth-Headshot-.jpg
END:VEVENT
BEGIN:VEVENT
DTSTART;TZID=America/New_York:20250816T110000
DTEND;TZID=America/New_York:20250816T113000
DTSTAMP:20260420T154727
CREATED:20250801T012923Z
LAST-MODIFIED:20250801T012924Z
UID:11976-1755342000-1755343800@cambridgecommonwriters.org
SUMMARY:Hello Dog/ Hello Human Children's Storytime with Sara Levine
DESCRIPTION:Join Ten Tree Books for story time with Sara Levine (WFYP\, January 2006)\, author of Hello Dog/Hello Human. \n\n\n\n\n\n\n\nLearn how to properly introduce yourself to a dog or human in this enticing flip-book guide that is two stories in one. \n\n\n\nA clever\, useful how-to flip book guide for both humans and our canine best friends\, Hello Dog / Hello Human offers advice to little humans (and dogs) on how to politely introduce themselves. \n\n\n\nThe book opens with a primer on how little humans should interact with dogs. Flip the book and find another story that advises dogs on how to interact with humans\, offering a fun insight into a dog’s mind while also providing additional information and empathy for our four-legged friends. \n\n\n\nThis delightful guide encourages readers to properly interact with the furry companions\, and the format is perfect for younger hands\, robust and ready to be read and shared. With a charming cast of dogs\, sweet art\, and a fun special format\, this is the perfect gift book for families looking to adopt a furry friend or anyone who wants to celebrate our canine pals. \n\n\n\nTickets for this event are free\, but all guests must register in advance\, as there are limited spots available.
URL:https://cambridgecommonwriters.org/calendar/hello-dog-hello-human-childrens-storytime-with-sara-levine/
LOCATION:Ten Trees Books\, North Main Street\, Natick\, Massachusetts\, 01760\, United States
CATEGORIES:Alum Event
ATTACH;FMTTYPE=image/jpeg:https://cambridgecommonwriters.org/wp-content/uploads/2025/01/Hello-Dog.jpg
ORGANIZER;CN="Ten Trees Books":MAILTO:info@tentreesbooks.com
END:VEVENT
BEGIN:VEVENT
DTSTART;TZID=America/New_York:20250816T190000
DTEND;TZID=America/New_York:20250816T200000
DTSTAMP:20260420T154727
CREATED:20250801T195305Z
LAST-MODIFIED:20250801T195306Z
UID:12011-1755370800-1755374400@cambridgecommonwriters.org
SUMMARY:Think Piece: A reading at Unnameable Books with L Scully
DESCRIPTION:Visit Unnameable Books and enjoy a reading with Yona Harvey\, Deja Carr\, Sierra Dickey\, L Scully (Nonfiction\, January 2023)\, Jayson Keery\, and Zoe Contros Kearl. Face masks requested.
URL:https://cambridgecommonwriters.org/calendar/think-piece-a-reading-at-unnameable-books-with-l-scully/
LOCATION:Unnameable Books\, 66 Avenue A\, Turners Falls\, Massachusetts\, 01376\, United States
CATEGORIES:Alum Event
ATTACH;FMTTYPE=image/jpeg:https://cambridgecommonwriters.org/wp-content/uploads/2023/01/L-Scully.jpeg
ORGANIZER;CN="Unnameable Books":MAILTO:unnameablebooks.falls@gmail.com
END:VEVENT
BEGIN:VEVENT
DTSTART;TZID=America/New_York:20250818T180000
DTEND;TZID=America/New_York:20250818T190000
DTSTAMP:20260420T154727
CREATED:20250706T175206Z
LAST-MODIFIED:20250706T175209Z
UID:11886-1755540000-1755543600@cambridgecommonwriters.org
SUMMARY:Thriller Panel with Jessa Maxwell\, Kristin Offiler\, and Vanessa Lillie
DESCRIPTION:Jessa Maxwell\, Kristin Offiler (Fiction\, January 2011)\, and Vanessa Lillie will discuss their writing process\, the thriller/mystery genre\, and using Rhode Island as a locale in their novels. \n\n\n\nMaxwell’s Dead of Summer is a twisty\, entertaining atmospheric thriller revolving around a decades-long mysterious disappearance; Offiler’s The Housewarming is a haunting novel of psychological suspense about a summer getaway that rips apart a group of lifelong friends; and Lillie’s Blood Sisters introduces archaeologist Syd Walker\, who is investigating the disappearance of two women\, one of whom is her sister. The authors will discuss their writing process\, the mystery/thriller genre\, and the use of local settings in their novels\, and will also take time for questions.
URL:https://cambridgecommonwriters.org/calendar/thriller-panel-with-jessa-maxwell-kristin-offiler-and-vanessa-lillie/
LOCATION:The Contemporary Theater Company\, 327 Main Street\, South Kingstown\, Rhode Island\, 02879\, United States
CATEGORIES:Alum Event
ATTACH;FMTTYPE=image/png:https://cambridgecommonwriters.org/wp-content/uploads/2020/02/Kristin-Offiler.png
END:VEVENT
BEGIN:VEVENT
DTSTART;TZID=America/New_York:20250818T180000
DTEND;TZID=America/New_York:20250818T200000
DTSTAMP:20260420T154727
CREATED:20250801T192017Z
LAST-MODIFIED:20250801T192018Z
UID:12000-1755540000-1755547200@cambridgecommonwriters.org
SUMMARY:Heat\, Honey\, Smoke - A Sexual Impressionism Workshop with Celeste Mohammed
DESCRIPTION:Here\, in the intimate tradition of the botánica\, where candles cast passionate shadows and smoke coils from brass bowls\, this generative workshop\, led by Celeste Mohammed (Fiction\, June 2016) invites writers to regard the literary sex scene as something more than performance. Wielding pen as brush\, you will apply the techniques of the art world to capture impressions of sensuality that feel emotionally true and spiritually resonant. Here\, sensuality is not a spectacle\, but a residue\, felt in breath\, in pause\, in what’s left unsaid. Writers will experiment with language that conjures rather than declares\, gesture over anatomy\, feeling over form. Together\, you’ll write toward the charged space between the lines–toward the heat\, the honey\, the smoke.
URL:https://cambridgecommonwriters.org/calendar/heat-honey-smoke-a-sexual-impressionism-workshop-with-celeste-mohammed/
LOCATION:Online Zoom Event
CATEGORIES:Alum Event
ATTACH;FMTTYPE=image/jpeg:https://cambridgecommonwriters.org/wp-content/uploads/2025/08/Screenshot-2025-08-01-at-3.19.41-PM.jpg
ORGANIZER;CN="Brooklyn Caribbean Literary Festival":MAILTO:contact@bklyncbeanlitfest.com
END:VEVENT
END:VCALENDAR