BEGIN:VCALENDAR
VERSION:2.0
PRODID:-//Cambridge Common Writers - ECPv6.15.20//NONSGML v1.0//EN
CALSCALE:GREGORIAN
METHOD:PUBLISH
X-WR-CALNAME:Cambridge Common Writers
X-ORIGINAL-URL:https://cambridgecommonwriters.org
X-WR-CALDESC:Events for Cambridge Common Writers
REFRESH-INTERVAL;VALUE=DURATION:PT1H
X-Robots-Tag:noindex
X-PUBLISHED-TTL:PT1H
BEGIN:VTIMEZONE
TZID:America/New_York
BEGIN:DAYLIGHT
TZOFFSETFROM:-0500
TZOFFSETTO:-0400
TZNAME:EDT
DTSTART:20230312T070000
END:DAYLIGHT
BEGIN:STANDARD
TZOFFSETFROM:-0400
TZOFFSETTO:-0500
TZNAME:EST
DTSTART:20231105T060000
END:STANDARD
BEGIN:DAYLIGHT
TZOFFSETFROM:-0500
TZOFFSETTO:-0400
TZNAME:EDT
DTSTART:20240310T070000
END:DAYLIGHT
BEGIN:STANDARD
TZOFFSETFROM:-0400
TZOFFSETTO:-0500
TZNAME:EST
DTSTART:20241103T060000
END:STANDARD
BEGIN:DAYLIGHT
TZOFFSETFROM:-0500
TZOFFSETTO:-0400
TZNAME:EDT
DTSTART:20250309T070000
END:DAYLIGHT
BEGIN:STANDARD
TZOFFSETFROM:-0400
TZOFFSETTO:-0500
TZNAME:EST
DTSTART:20251102T060000
END:STANDARD
END:VTIMEZONE
BEGIN:VEVENT
DTSTART;TZID=America/New_York:20240803T110000
DTEND;TZID=America/New_York:20240803T120000
DTSTAMP:20260421T155203
CREATED:20240801T223652Z
LAST-MODIFIED:20240801T223655Z
UID:10454-1722682800-1722686400@cambridgecommonwriters.org
SUMMARY:Sara Levine\, author of A Terrible Place for a Nest Book Launch at Porter Square Books
DESCRIPTION:Porter Square Books is delighted to celebrate the launch of A Terrible Place for a Nest with local author Sara Levine (Nonfiction/WFYP\, January 2006). After a presentation and read-aloud from this lovely picture book\, the author will sign books. RSVP requested. \n\n\n\n\n\n\n\nA child learns to settle into a new home in this lyrical and stirring picture book perfect for fans of MEMORY JARS and EVELYN DEL REY IS MOVING AWAY. \n\n\n\nJuno and his mom have just moved into a new home\, and he hates everything about it – the new school\, his new classmates\, his new room. \n\n\n\nJust outside his window\, Juno notices a family of mourning doves have started a nest atop the fence\, and they seem to be struggling to make it work\, too. Sure enough\, Juno concludes this new place is a terrible place to build a nest. \n\n\n\nBut\, as winter turns to spring and the doves grow\, so does Juno. And while this new place may be scary and sometimes lonely\, they will all make it work\, together. \n\n\n\nLyrical and hopeful\, A Terrible Place for a Nest is a tender and uplifting tale about facing new experiences with empathy and courage.
URL:https://cambridgecommonwriters.org/calendar/sara-levine-author-of-a-terrible-place-for-a-nest-book-launch-at-porter-square-books/
LOCATION:Porter Square Books\, 1815 Massachusetts Ave\, Cambridge\, Massachusetts\, 02140\, United States
CATEGORIES:Alum Event
ATTACH;FMTTYPE=image/png:https://cambridgecommonwriters.org/wp-content/uploads/2024/02/A-Terrible-Place-for-a-Nest.png
ORGANIZER;CN="Porter Square Books":MAILTO:INFO@PORTERSQUAREBOOKS.COM
END:VEVENT
BEGIN:VEVENT
DTSTART;TZID=America/New_York:20240813T190000
DTEND;TZID=America/New_York:20240813T210000
DTSTAMP:20260421T155203
CREATED:20240812T224208Z
LAST-MODIFIED:20240812T224246Z
UID:10525-1723575600-1723582800@cambridgecommonwriters.org
SUMMARY:Where Are You Echo Blue? Author event with Hayley Krischer in conversation with Laura Sims!
DESCRIPTION:Join Thunder Road Books as they welcome author Hayley Krischer (Fiction\, June 2009) in celebration of Where Are You\, Echo Blue? She will be in conversation with author Laura Sims. \n\n\n\n\n\n\n\nHayley Krischer is the author of two young adult novels\, Something Happened to Ali Greenleaf and The Falling Girls. She is also an award-winning journalist who has written for the The New York Times\, The New York Times Magazine\, The Atlantic\, Marie Claire\, Elle\, and more. Where Are You\, Echo Blue? is her first novel for adults. \n\n\n\nLaura Sims is the author of How Can I Help You\, a New York Times\, Publishers Weekly\, and CrimeReads Best Book of the Year\, and a LibraryReads Top Ten Books of July. Sims’s first novel\, LOOKER\, was included on “Best Books” lists in Vogue\, People Magazine\, Real Simple\, Entertainment Weekly\, and more\, and is now in development for television by eOne and Emily Mortimer’s King Bee Productions. An award-winning poet\, Sims has published four poetry collections; her essays and poems have appeared in the New Republic\, Boston Review\, Lit Hub\, and Electric Literature. She and her family live in New Jersey\, where she works part-time as a reference librarian and hosts the library’s lecture series.
URL:https://cambridgecommonwriters.org/calendar/where-are-you-echo-blue-author-event-with-hayley-krischer-in-conversation-with-laura-sims/
LOCATION:Thunder Road Books\, 1108 3rd Ave\, Spring Lake\, New Jersey\, 07762\, United States
CATEGORIES:Alum Event
ATTACH;FMTTYPE=image/jpeg:https://cambridgecommonwriters.org/wp-content/uploads/2024/02/Where-Are-You-Echo-Blue.jpeg
END:VEVENT
BEGIN:VEVENT
DTSTART;TZID=America/New_York:20240817T090000
DTEND;TZID=America/New_York:20240818T193000
DTSTAMP:20260421T155203
CREATED:20240816T234128Z
LAST-MODIFIED:20240816T234131Z
UID:10564-1723885200-1724009400@cambridgecommonwriters.org
SUMMARY:The 14th Annual African Festival of Boston
DESCRIPTION:Come visit the Boston Common for a day filled with vibrant music\, delicious food\, and colorful cultural performances. This in-person event celebrates the rich diversity of African heritage in Boston with live music\, dance\, art\, and more. \n\n\n\nWSS Alum Thato Mwosa (June 2017) author of 14 African Women Who Made History is one of the showcased authors for the event. \n\n\n\nExperience the rhythms of Africa through traditional drumming\, get lost in the intricate beadwork of local artisans\, and savor the flavors of authentic African cuisine. Whether you’re a longtime fan of African culture or just looking for a fun day out\, there’s something for everyone at the African Festival of Boston. \n\n\n\nDon’t miss out on this opportunity to celebrate and connect with the African community in Boston. Mark your calendars and get ready for a day full of excitement and joy!
URL:https://cambridgecommonwriters.org/calendar/the-14th-annual-african-festival-of-boston/
LOCATION:Boston Common\, Boston\, Massachusetts\, 02111\, United States
CATEGORIES:Alum Event
ATTACH;FMTTYPE=image/jpeg:https://cambridgecommonwriters.org/wp-content/uploads/2021/01/thatomwosa-playwright-scaled.jpg
END:VEVENT
BEGIN:VEVENT
DTSTART;TZID=America/New_York:20240824T130000
DTEND;TZID=America/New_York:20240824T150000
DTSTAMP:20260421T155203
CREATED:20240822T113357Z
LAST-MODIFIED:20240822T115831Z
UID:10617-1724504400-1724511600@cambridgecommonwriters.org
SUMMARY:Sara Levine's A Terrible Place for a Nest: Weekend Book Signing
DESCRIPTION:Bank Square Books presents a weekend book signing with Sara Levine (WFYP\, Jan 2006) for the book\, A Terrible Place for a Nest on Saturday\, August 24th from 1 PM to 3 PM.
URL:https://cambridgecommonwriters.org/calendar/sara-levines-a-terrible-place-for-a-nest-weekend-book-signing/
LOCATION:Bank Square Books\, 53 West Main St\, Mystic\, Connecticut\, 06355\, United States
CATEGORIES:Alum Event
ATTACH;FMTTYPE=image/webp:https://cambridgecommonwriters.org/wp-content/uploads/2023/10/SaraLevine2.webp
ORGANIZER;CN="Bank Square Books":MAILTO:bsb@mysticbooksinc.com
END:VEVENT
BEGIN:VEVENT
DTSTART;TZID=America/New_York:20240824T180000
DTEND;TZID=America/New_York:20240824T200000
DTSTAMP:20260421T155203
CREATED:20240816T235356Z
LAST-MODIFIED:20240816T235418Z
UID:10570-1724522400-1724529600@cambridgecommonwriters.org
SUMMARY:New England Poetry Club Reading with Cynthia Bargar\, Elizabeth Bradfield\, and Christine Jones
DESCRIPTION:The New England Poetry Club teams up with the Fine Arts Work Center in Provincetown to present a poetry reading\, featuring poets Cynthia Bargar\, Elizabeth Bradfield\, and Christine Jones (Poetry\, January 2014). A Q&A session will follow. All readings and artist talks are held in the Stanley Kunitz Common Room\, unless otherwise noted. \n\n\n\nCynthia Bargar is the author of Sleeping in the Dead Girl’s Room (Lily Poetry Review Press)\, selected as a Massachusetts Book Awards 2023 Honor Book. Her poems have appeared in many literary journals online and in print and in Our Provincetown: Intimate Portraits by Barbara E. Cohen (Provincetown Arts Press). Cynthia is associate poetry editor at Pangyrus. She lives and writes in Provincetown\, Massachusetts.  \n\n\n\nWriter/Naturalist Elizabeth Bradfield’s (she/her) recent books are Toward Antarctica\, Once Removed\, and the anthologies Cascadia Field Guide: Art\, Ecology\, Poetry\, co-created with CMarie Fuhrman and Derek Sheffield and winner of the 2024 Pacific Northwest Book Award\, and Broadsided Press: Fifteen Years of Poetic/Artistic Collaboration\, co-created with Alexandra Teague and Miller Oberman. Her poems have appeared in The Slowdown\, The New Yorker\, Atlantic Monthly\, Poetry\, The Sun\, and her honors include the Audre Lorde Prize in Lesbian Poetry and a Stegner Fellowship. Liz works as a naturalist and field assistant at home on Cape Cod\, teaches creative writing at Brandeis University\, and is Editor-in-Chief of Broadsided. \n\n\n\nChristine Jones lives in Orleans\, MA where she and her husband can be found swimming in their shark mitigating wetsuits all year round. She’s the author of Now Calls Me Daughter (Nixes Mate Review\, 2022) and Girl Without a Shirt (Finishing Line Press\, 2020)\, also co-editor of the anthology\, Voices Amidst the Virus: Poets Respond to the Pandemic (Lily Poetry Books\, 2020). She’s the associate editor of Lily Poetry Review and co-founder of the Lily on the Cove Manuscript Clinic and Retreat. Her poetry can be found in numerous anthologies and journals in print and online.
URL:https://cambridgecommonwriters.org/calendar/new-england-poetry-club-reading-with-cynthia-bargar-elizabeth-bradfield-and-christine-jones/
LOCATION:Fine Arts Work Center\, 24 Pearl Street\, Provincetown\, Massachusetts\, 02657\, United States
CATEGORIES:Alum Event
ATTACH;FMTTYPE=image/jpeg:https://cambridgecommonwriters.org/wp-content/uploads/2020/02/Christine-Jones.jpg
END:VEVENT
END:VCALENDAR