BEGIN:VCALENDAR
VERSION:2.0
PRODID:-//Cambridge Common Writers - ECPv6.15.20//NONSGML v1.0//EN
CALSCALE:GREGORIAN
METHOD:PUBLISH
X-WR-CALNAME:Cambridge Common Writers
X-ORIGINAL-URL:https://cambridgecommonwriters.org
X-WR-CALDESC:Events for Cambridge Common Writers
REFRESH-INTERVAL;VALUE=DURATION:PT1H
X-Robots-Tag:noindex
X-PUBLISHED-TTL:PT1H
BEGIN:VTIMEZONE
TZID:America/New_York
BEGIN:DAYLIGHT
TZOFFSETFROM:-0500
TZOFFSETTO:-0400
TZNAME:EDT
DTSTART:20230312T070000
END:DAYLIGHT
BEGIN:STANDARD
TZOFFSETFROM:-0400
TZOFFSETTO:-0500
TZNAME:EST
DTSTART:20231105T060000
END:STANDARD
BEGIN:DAYLIGHT
TZOFFSETFROM:-0500
TZOFFSETTO:-0400
TZNAME:EDT
DTSTART:20240310T070000
END:DAYLIGHT
BEGIN:STANDARD
TZOFFSETFROM:-0400
TZOFFSETTO:-0500
TZNAME:EST
DTSTART:20241103T060000
END:STANDARD
BEGIN:DAYLIGHT
TZOFFSETFROM:-0500
TZOFFSETTO:-0400
TZNAME:EDT
DTSTART:20250309T070000
END:DAYLIGHT
BEGIN:STANDARD
TZOFFSETFROM:-0400
TZOFFSETTO:-0500
TZNAME:EST
DTSTART:20251102T060000
END:STANDARD
END:VTIMEZONE
BEGIN:VEVENT
DTSTART;TZID=America/New_York:20240608T080000
DTEND;TZID=America/New_York:20240608T180000
DTSTAMP:20260421T194204
CREATED:20240527T230934Z
LAST-MODIFIED:20240527T230937Z
UID:10252-1717833600-1717869600@cambridgecommonwriters.org
SUMMARY:7th Annual Bronx Book Festival
DESCRIPTION:Founded and organized by Saraciea J Fennell (WFYP\, January 2020) the Bronx Book Festival is a free\, public event with an impressive line-up of authors celebrating books. They have exclusive TBIR programming lined up for this year’s festival\, so RSVP to meet bestselling authors from the Boogie Down and beyond! Colson Whitehead will attend as one of the keynote speakers this year\, accompanied by other established and emerging names in literature right now.
URL:https://cambridgecommonwriters.org/calendar/7th-annual-bronx-book-festival/
LOCATION:Fordham Plaza\, Fordham Plaza\, The Bronx\, New York\, 10458\, United States
CATEGORIES:Alum Event
ATTACH;FMTTYPE=image/jpeg:https://cambridgecommonwriters.org/wp-content/uploads/2024/05/Screenshot-2024-05-27-at-7.09.09 PM.jpg
END:VEVENT
BEGIN:VEVENT
DTSTART;TZID=America/New_York:20240618T180000
DTEND;TZID=America/New_York:20240618T193000
DTSTAMP:20260421T194204
CREATED:20240606T180132Z
LAST-MODIFIED:20240606T180135Z
UID:10279-1718733600-1718739000@cambridgecommonwriters.org
SUMMARY:Who Am I: The Music and Meaning of Stream-of-Consciousness with Angelo D'Amato
DESCRIPTION:In this course\, led by Angelo D’Amato (Fiction\, June 2020)\, will look at William Faulkner’s “The Sound and the Fury\,” Virginia Woolf’s “The Waves\,” and excerpts from James Joyce’s “Ulysses” and “Finnegans Wake\,” to understand how this technique challenges how we make meaning of the world\, and how we can harness it to create a music that is entirely our own. At the end of the class\, students will have produced either a short story\, an excerpt from a larger story\, or a portfolio of smaller exercises. \n\n\n\nThis class will meet in-person at CCAE on Tuesdays for 8 weeks. Limited availability.
URL:https://cambridgecommonwriters.org/calendar/who-am-i-the-music-and-meaning-of-stream-of-consciousness-with-angelo-damato/
LOCATION:Cambridge Center for Adult Education\, 42 Brattle Street\, Cambridge\, Massachusetts\, 02138\, United States
CATEGORIES:Alum Event
ATTACH;FMTTYPE=image/jpeg:https://cambridgecommonwriters.org/wp-content/uploads/2022/10/Angelo-DAmato.jpg
ORGANIZER;CN="Cambridge Center for Adult Education":MAILTO:info@ccae.org
END:VEVENT
BEGIN:VEVENT
DTSTART;TZID=America/New_York:20240623T103000
DTEND;TZID=America/New_York:20240623T113000
DTSTAMP:20260421T194204
CREATED:20240621T010608Z
LAST-MODIFIED:20240621T010658Z
UID:10306-1719138600-1719142200@cambridgecommonwriters.org
SUMMARY:Writing for Young People Open Lecture Series: Using Your MFA to Stay Rooted in Craft
DESCRIPTION:Join visiting writer Jasmine Warga (WFYP\, June 2013)\, author of Other Words for Home\, The Shape of Thunder\, A Rover’s Story\, and My Heart and Other Black Holes\, which has been translated into twenty languages.
URL:https://cambridgecommonwriters.org/calendar/writing-for-young-people-open-lecture-series-using-your-mfa-to-stay-rooted-in-craft/
LOCATION:Online Zoom Event
CATEGORIES:Alum Event,Lesley Event
ATTACH;FMTTYPE=image/jpeg:https://cambridgecommonwriters.org/wp-content/uploads/2024/02/Jasmine-Warga.jpg
ORGANIZER;CN="Lesley University Graduate Admissions":MAILTO:luadmissions@lesley.edu
END:VEVENT
BEGIN:VEVENT
DTSTART;TZID=America/New_York:20240623T113000
DTEND;TZID=America/New_York:20240623T123000
DTSTAMP:20260421T194204
CREATED:20240621T011827Z
LAST-MODIFIED:20240621T011829Z
UID:10308-1719142200-1719145800@cambridgecommonwriters.org
SUMMARY:Writing for Young People Open Lecture Series: Talking Craft in YA
DESCRIPTION:PANELISTS: Jasmine Warga (WFYP\, June 2013)\, Chris Lynch (WFYP\, MFA Writing Faculty)\, Sara Farizan (WFYP\, January 2012)\, and Jason Reynolds (WFYP\, MFA Writing Faculty). \n\n\n\nModerator: Sara Zarr (WFYP\, MFA Writing Faculty)
URL:https://cambridgecommonwriters.org/calendar/writing-for-young-people-open-lecture-series-talking-craft-in-ya/
LOCATION:Online Zoom Event
CATEGORIES:Alum Event,Lesley Event
ATTACH;FMTTYPE=image/jpeg:https://cambridgecommonwriters.org/wp-content/uploads/2024/06/Screenshot-2024-06-20-at-9.18.13 PM.jpg
ORGANIZER;CN="Lesley University Graduate Admissions":MAILTO:luadmissions@lesley.edu
END:VEVENT
BEGIN:VEVENT
DTSTART;TZID=America/New_York:20240626T183000
DTEND;TZID=America/New_York:20240626T193000
DTSTAMP:20260421T194204
CREATED:20240621T013952Z
LAST-MODIFIED:20240621T013954Z
UID:10318-1719426600-1719430200@cambridgecommonwriters.org
SUMMARY:Lesley MFA Summer Reading Series: Bonita Lee Penn & Tyler Woodsmall
DESCRIPTION:Join the Lesley MFA community for this evening reading with Bonita Lee Penn (Poetry\, January 2015) and Tyler Woodsmall (Fiction\, June 2020).
URL:https://cambridgecommonwriters.org/calendar/lesley-mfa-summer-reading-series-bonita-lee-penn-tyler-woodsmall/
LOCATION:Online Zoom Event
CATEGORIES:Alum Event,CCW Event,Lesley Event
ATTACH;FMTTYPE=image/jpeg:https://cambridgecommonwriters.org/wp-content/uploads/2024/06/Screenshot-2024-06-20-at-9.39.32 PM.jpg
ORGANIZER;CN="Lesley University Graduate Admissions":MAILTO:luadmissions@lesley.edu
END:VEVENT
BEGIN:VEVENT
DTSTART;TZID=America/New_York:20240628T183000
DTEND;TZID=America/New_York:20240628T203000
DTSTAMP:20260421T194204
CREATED:20240424T153746Z
LAST-MODIFIED:20240424T153751Z
UID:10135-1719599400-1719606600@cambridgecommonwriters.org
SUMMARY:Introduction to Book Arts: Make Your Own Chapbook with Frances Donovan
DESCRIPTION:Books aren’t just blocks of text. They’re also physical objects\, and in some cases they become art themselves. Hand-sewn chapbooks (from “cheap-book”) are a simple and timeless way to preserve words and even art. Join Frances Donovan (Poetry\, June 2019) and peruse a collection of chapbooks that show the various techniques used to make them. Then make your own! You may choose to make a blank book\, to write in it\, or to send some text in advance to be printed and incorporated into your book. \n\n\n\nAll supplies included. Bring any writing you’d like to include in a book\, but the program will provide blank pages for a blank-for-now book. \n\n\n\nInstructor: Frances Donovan’s book Arboretum in a Jar (Lily Poetry Review Books\, 2023) was nominated for the Massachusetts Book Award. Her chapbook Mad Quick Hand of the Seashore was a finalist for a Lambda Literary Award. Donovan’s poems have appeared in Lily Poetry Review\, Solstice\, Heavy Feather Review\, SWWIM\, and elsewhere. Her interviews of other poets can be found at The Rumpus and on her website\, www.gardenofwords.com. Donovan holds an MFA in poetry from Lesley University and is a certified Poet Educator with Mass Poetry. A poem of hers has been displayed at Boston City Hall. Donovan’s work deals with themes of home\, family\, intergenerational trauma\, and sexual and gender identity. She remembers fondly the summer of 1998\, when she drove a bulldozer in a Pride parade while wearing a bustier.
URL:https://cambridgecommonwriters.org/calendar/introduction-to-book-arts-make-your-own-chapbook-with-frances-donovan/
LOCATION:Create Art in Community\, 11A Corinth St\, Roslindale\, Massachusetts\, 02131\, United States
CATEGORIES:Alum Event
ATTACH;FMTTYPE=image/jpeg:https://cambridgecommonwriters.org/wp-content/uploads/2020/03/Frances-Donovan-scaled.jpg
END:VEVENT
BEGIN:VEVENT
DTSTART;TZID=America/New_York:20240629T170000
DTEND;TZID=America/New_York:20240629T180000
DTSTAMP:20260421T194204
CREATED:20240627T183614Z
LAST-MODIFIED:20240627T183617Z
UID:10339-1719680400-1719684000@cambridgecommonwriters.org
SUMMARY:Author Event with Sabrina Fedel - All Roads Lead to Rome
DESCRIPTION:Join the Towne Book Center for an in-person event with Sabrina Fedel (WFYP\, January 2014) to celebrate her new release ALL ROADS LEAD TO ROME! \n\n\n\n\n\n\n\nPre-ordering guarantees a seat & signing ticket for the event. Book Signing and Meet & Greet to follow.
URL:https://cambridgecommonwriters.org/calendar/author-event-with-sabrina-fedel-all-roads-lead-to-rome/
LOCATION:Towne Book Center\, 160 Market Street\, Suite C6\, Collegeville\, Pennsylvania\, 19426\, United States
CATEGORIES:Alum Event
ATTACH;FMTTYPE=image/png:https://cambridgecommonwriters.org/wp-content/uploads/2023/10/All-Roads-Lead-to-Rome.png
ORGANIZER;CN="Towne Book Center":MAILTO:townecustomerservice@gmail.com
END:VEVENT
END:VCALENDAR