BEGIN:VCALENDAR
VERSION:2.0
PRODID:-//Cambridge Common Writers - ECPv6.15.20//NONSGML v1.0//EN
CALSCALE:GREGORIAN
METHOD:PUBLISH
X-ORIGINAL-URL:https://cambridgecommonwriters.org
X-WR-CALDESC:Events for Cambridge Common Writers
REFRESH-INTERVAL;VALUE=DURATION:PT1H
X-Robots-Tag:noindex
X-PUBLISHED-TTL:PT1H
BEGIN:VTIMEZONE
TZID:America/New_York
BEGIN:DAYLIGHT
TZOFFSETFROM:-0500
TZOFFSETTO:-0400
TZNAME:EDT
DTSTART:20230312T070000
END:DAYLIGHT
BEGIN:STANDARD
TZOFFSETFROM:-0400
TZOFFSETTO:-0500
TZNAME:EST
DTSTART:20231105T060000
END:STANDARD
BEGIN:DAYLIGHT
TZOFFSETFROM:-0500
TZOFFSETTO:-0400
TZNAME:EDT
DTSTART:20240310T070000
END:DAYLIGHT
BEGIN:STANDARD
TZOFFSETFROM:-0400
TZOFFSETTO:-0500
TZNAME:EST
DTSTART:20241103T060000
END:STANDARD
BEGIN:DAYLIGHT
TZOFFSETFROM:-0500
TZOFFSETTO:-0400
TZNAME:EDT
DTSTART:20250309T070000
END:DAYLIGHT
BEGIN:STANDARD
TZOFFSETFROM:-0400
TZOFFSETTO:-0500
TZNAME:EST
DTSTART:20251102T060000
END:STANDARD
END:VTIMEZONE
BEGIN:VEVENT
DTSTART;TZID=America/New_York:20240502T120000
DTEND;TZID=America/New_York:20240502T130000
DTSTAMP:20260421T213843
CREATED:20240424T213544Z
LAST-MODIFIED:20240424T213545Z
UID:10145-1714651200-1714654800@cambridgecommonwriters.org
SUMMARY:Zoom Webinar: The Modern Art of War - Hunter Liguore
DESCRIPTION:Sun Tzu’s Art of War has been read mostly as a book of war strategies that teaches us how to beat our opponents on the battlefield. The Modern Art of War presents a new interpretation: it isn’t about conquering your enemies\, devising strategies to overtake armies\, or getting ahead against your competitors. Instead\, the real art of war is the fight to control your mind and the thoughts that rule it. \n\n\n\nWhat if Sun Tzu wasn’t a general at all\, but a spiritual advisor\, and that the Art of War was written not for a king\, but for the people? \n\n\n\nJoin this webinar and share in Hunter Liguore’s (Fiction/WFYP\, 2012) insights and guidance to the deeper meaning of the Art of War\, from how to understand one’s own nature to strategies for drawing on our own wholehearted will and perceiving the inherent instability in all things. \n\n\n\nThe book contains over 150 reflection questions that prompt the reader to understand the text and guide them in their self-development journey\, from ‘If you can change one idea about yourself to step into a new future\, what would it be?’ to ‘Based on Sun Tzu’s teachings\, what strategies can you incorporate into your daily activity or practice that would assist you in working through frustration or anger\, without being harsh with yourself?’ \n\n\n\nLearn how to “conquer” or still the mind in order to reveal your own hidden teacher and recognize that the root of conflict (or war) begins within.
URL:https://cambridgecommonwriters.org/calendar/zoom-webinar-the-modern-art-of-war-hunter-liguore/
LOCATION:Online Zoom Event
CATEGORIES:Alum Event
ATTACH;FMTTYPE=image/png:https://cambridgecommonwriters.org/wp-content/uploads/2023/09/The-Modern-Art-of-War.png
ORGANIZER;CN="Watkins Books":MAILTO:service.watkinsbooks@gmail.com
END:VEVENT
BEGIN:VEVENT
DTSTART;TZID=America/New_York:20240505T160000
DTEND;TZID=America/New_York:20240505T170000
DTSTAMP:20260421T213843
CREATED:20240406T163206Z
LAST-MODIFIED:20240406T163208Z
UID:10062-1714924800-1714928400@cambridgecommonwriters.org
SUMMARY:Here in Sanctuary–Whirling Book Launch with D. Dina Friedman
DESCRIPTION:Join the Jewish Activists for Immigration Justice of Western Massachusetts for a book launch and reading from Here in Sanctuary–Whirling by D. Dina Friedman (Fiction\, January 2016)\, a collection of poems taken from the author’s journey to the Brownsville/Matamoros border and her work in the immigration justice movement.
URL:https://cambridgecommonwriters.org/calendar/here-in-sanctuary-whirling-book-launch-with-d-dina-friedman/
LOCATION:Anchor House of Artists\, 518 Pleasant Street\, Northampton\, Massachusetts\, 01002\, United States
CATEGORIES:Alum Event
ATTACH;FMTTYPE=image/jpeg:https://cambridgecommonwriters.org/wp-content/uploads/2024/01/Here-in-Sanctuary.jpeg
END:VEVENT
BEGIN:VEVENT
DTSTART;TZID=America/New_York:20240505T180000
DTEND;TZID=America/New_York:20240505T200000
DTSTAMP:20260421T213843
CREATED:20240503T180736Z
LAST-MODIFIED:20240503T180740Z
UID:10217-1714932000-1714939200@cambridgecommonwriters.org
SUMMARY:Limited Engagement! by Erin FM
DESCRIPTION:Boston Theater Marathon XXVI features 50 ten-minute plays written by New England playwrights and presented by New England theatre companies which donate their time and talent to this annual event. The event will be divided into five blocks (each block $30 advance/$35 day-of-event\, no fees)\, each featuring ten plays and running approximately one hour and 40 minutes. \n\n\n\nPatrons who purchase a ticket to any part of the in-person event will also receive a link to the event livestream\, so they may continue their BTM experience outside the theatre if they wish. \n\n\n\nLimited Engagement! by Erin FM (WSS\, January 2023) will be in the 6pm block.
URL:https://cambridgecommonwriters.org/calendar/limited-engagement-by-erin-fm/
LOCATION:Boston Playwrights’ Theatre\, 949 Commonwealth Avenue\, Boston\, Massachusetts\, 02215\, United States
CATEGORIES:Alum Event
ATTACH;FMTTYPE=image/jpeg:https://cambridgecommonwriters.org/wp-content/uploads/2023/03/Erin-McGinley.jpeg
END:VEVENT
BEGIN:VEVENT
DTSTART;TZID=America/New_York:20240509T190000
DTEND;TZID=America/New_York:20240509T210000
DTSTAMP:20260421T213843
CREATED:20240430T002554Z
LAST-MODIFIED:20240430T002555Z
UID:10162-1715281200-1715288400@cambridgecommonwriters.org
SUMMARY:Why and How to Perform Your Poetry (Well) with Shari Caplan and Jennifer Jean
DESCRIPTION:There’s nothing like an amazing poetry reading! These are the events where readers are not onlyprepared\, they’re authentic\, compelling\, charismatic\, and memorable. Why is this kind of readingimportant for you as a poet and for society at large? And how can you give this kind of reading?You’ll leave this 2-hour\, interactive presentation with solid knowledge about WHY you need toperform your poetry well and with tools for HOW to learn to read your poetry well. Throughtechniques based in neuroscience\, sociology\, and the theater\, you will learn how to work withnerves\, find confidence\, use your voices\, and connect with your audiences. Featuring poets JenniferJean and Shari Caplan (Poetry\, June 2014). 
URL:https://cambridgecommonwriters.org/calendar/why-and-how-to-perform-your-poetry-well-with-shari-caplan-and-jennifer-jean/
LOCATION:Online Zoom
CATEGORIES:Alum Event
ATTACH;FMTTYPE=image/jpeg:https://cambridgecommonwriters.org/wp-content/uploads/2021/09/Shari-Caplan.jpg
END:VEVENT
BEGIN:VEVENT
DTSTART;TZID=America/New_York:20240521T180000
DTEND;TZID=America/New_York:20240521T193000
DTSTAMP:20260421T213843
CREATED:20240518T235053Z
LAST-MODIFIED:20240518T235055Z
UID:10235-1716314400-1716319800@cambridgecommonwriters.org
SUMMARY:Writer's Lab: Launch and Grow Your Substack Newsletter with Hurley Winkler
DESCRIPTION:Hurley Winkler (Fiction\, January 2017) presents a 90-minute lecture-style workshop on developing a successful online newsletter. \n\n\n\nThe writer of a popular newsletter shares her keys to success on Substack. Learn about newsletter content strategies\, the benefits of Substack over other social media platforms\, and monetizing your newsletter.  \n\n\n\nHurley Winkler writes the popular Substack newsletter Lonely Victories for an engaged audience of writers and readers. She leads the Book Club for Writers and teaches classes for writers. Hurley also hosts and produces the Jax Music Hour on WJCT News 89.9\, broadcasting every Saturday night at 8. Her writing has been published in The Millions\, Neutral Spaces\, and Hobart\, and she has an MFA in Creative Writing from Lesley University. She is currently on submission with her first novel. \n\n\n\nRegister to save your seat. Registration must be completed two hours prior to the start time. A library card and PIN are required for registration. If you do not have a card\, click HERE to obtain one. \n\n\n\nThis workshop will later be held over Zoom for the public.
URL:https://cambridgecommonwriters.org/calendar/writers-lab-launch-and-grow-your-substack-newsletter-with-hurley-winkler/
LOCATION:Regency Square Branch Library\, 9900 Regency Square Blvd\, Jacksonville\, Florida\, 32225\, United States
CATEGORIES:Alum Event
ATTACH;FMTTYPE=image/jpeg:https://cambridgecommonwriters.org/wp-content/uploads/2023/05/hurley-winkler.jpg
END:VEVENT
END:VCALENDAR