BEGIN:VCALENDAR
VERSION:2.0
PRODID:-//Cambridge Common Writers - ECPv6.15.20//NONSGML v1.0//EN
CALSCALE:GREGORIAN
METHOD:PUBLISH
X-ORIGINAL-URL:https://cambridgecommonwriters.org
X-WR-CALDESC:Events for Cambridge Common Writers
REFRESH-INTERVAL;VALUE=DURATION:PT1H
X-Robots-Tag:noindex
X-PUBLISHED-TTL:PT1H
BEGIN:VTIMEZONE
TZID:America/New_York
BEGIN:DAYLIGHT
TZOFFSETFROM:-0500
TZOFFSETTO:-0400
TZNAME:EDT
DTSTART:20230312T070000
END:DAYLIGHT
BEGIN:STANDARD
TZOFFSETFROM:-0400
TZOFFSETTO:-0500
TZNAME:EST
DTSTART:20231105T060000
END:STANDARD
BEGIN:DAYLIGHT
TZOFFSETFROM:-0500
TZOFFSETTO:-0400
TZNAME:EDT
DTSTART:20240310T070000
END:DAYLIGHT
BEGIN:STANDARD
TZOFFSETFROM:-0400
TZOFFSETTO:-0500
TZNAME:EST
DTSTART:20241103T060000
END:STANDARD
BEGIN:DAYLIGHT
TZOFFSETFROM:-0500
TZOFFSETTO:-0400
TZNAME:EDT
DTSTART:20250309T070000
END:DAYLIGHT
BEGIN:STANDARD
TZOFFSETFROM:-0400
TZOFFSETTO:-0500
TZNAME:EST
DTSTART:20251102T060000
END:STANDARD
END:VTIMEZONE
BEGIN:VTIMEZONE
TZID:America/Chicago
BEGIN:DAYLIGHT
TZOFFSETFROM:-0600
TZOFFSETTO:-0500
TZNAME:CDT
DTSTART:20230312T080000
END:DAYLIGHT
BEGIN:STANDARD
TZOFFSETFROM:-0500
TZOFFSETTO:-0600
TZNAME:CST
DTSTART:20231105T070000
END:STANDARD
BEGIN:DAYLIGHT
TZOFFSETFROM:-0600
TZOFFSETTO:-0500
TZNAME:CDT
DTSTART:20240310T080000
END:DAYLIGHT
BEGIN:STANDARD
TZOFFSETFROM:-0500
TZOFFSETTO:-0600
TZNAME:CST
DTSTART:20241103T070000
END:STANDARD
BEGIN:DAYLIGHT
TZOFFSETFROM:-0600
TZOFFSETTO:-0500
TZNAME:CDT
DTSTART:20250309T080000
END:DAYLIGHT
BEGIN:STANDARD
TZOFFSETFROM:-0500
TZOFFSETTO:-0600
TZNAME:CST
DTSTART:20251102T070000
END:STANDARD
END:VTIMEZONE
BEGIN:VTIMEZONE
TZID:America/Denver
BEGIN:DAYLIGHT
TZOFFSETFROM:-0700
TZOFFSETTO:-0600
TZNAME:MDT
DTSTART:20230312T090000
END:DAYLIGHT
BEGIN:STANDARD
TZOFFSETFROM:-0600
TZOFFSETTO:-0700
TZNAME:MST
DTSTART:20231105T080000
END:STANDARD
BEGIN:DAYLIGHT
TZOFFSETFROM:-0700
TZOFFSETTO:-0600
TZNAME:MDT
DTSTART:20240310T090000
END:DAYLIGHT
BEGIN:STANDARD
TZOFFSETFROM:-0600
TZOFFSETTO:-0700
TZNAME:MST
DTSTART:20241103T080000
END:STANDARD
BEGIN:DAYLIGHT
TZOFFSETFROM:-0700
TZOFFSETTO:-0600
TZNAME:MDT
DTSTART:20250309T090000
END:DAYLIGHT
BEGIN:STANDARD
TZOFFSETFROM:-0600
TZOFFSETTO:-0700
TZNAME:MST
DTSTART:20251102T080000
END:STANDARD
END:VTIMEZONE
BEGIN:VEVENT
DTSTART;TZID=America/New_York:20240305T190000
DTEND;TZID=America/New_York:20240305T200000
DTSTAMP:20260422T013804
CREATED:20240219T232924Z
LAST-MODIFIED:20240219T232926Z
UID:9849-1709665200-1709668800@cambridgecommonwriters.org
SUMMARY:Nathan Tavares: Welcome to Forever - Brookline Booksmith
DESCRIPTION:In person at Brookline Booksmith! Celebrate the launch of Welcome to Forever with author Nathan Tavares (Fiction\, June 2011). This event will also be live-streamed to the store’s YouTube channel. Books are available for pre-order and to purchase at the event. \n\n\n\n\n\n\n\nA sweeping\, psychedelic romance of two men caught in a looping world of artificial realities\, edited memories\, secretive cabals and conspiracies to push humanity to the next step in its evolution.For fans of Tomorrow and Tomorrow and Tomorrow\, Ubik\, The Eternal Sunshine of the Spotless Mindand Evangelion.Fox is a memory editor – one of the best – gifted with the skill to create real life in the digital world. When he wakes up in Field of Reeds Center for Memory Reconstruction with no idea how he got there\, the therapists tell him he was a victim in a terrorist bombing by Khadija Banks\, the pioneer of memory editing technology turned revolutionary. A bombing which shredded the memory archives of all its victims\, including his husband Gabe.Thrust into reconstructions of his memories exploded from the fragments that survived the blast\, Fox tries to rebuild his life\, his marriage and himself. But he quickly realises his world is changing\, unreliable\, and echoing around itself over and over.As he unearths endless cycles of meeting Gabe\, falling in love and breaking up\, Fox digs deep into his past\, his time in the refugee nation of Aaru\, and the exact nature of his relationship with Khadija. Because\, in a world tearing itself apart to forget all its sadness\, saving the man he loves might be the key to saving us all. \n\n\n\nNathan Tavares is a writer from Boston\, Massachusetts. He grew up in the Portuguese-American community of southeastern Massachusetts and developed a love for fantastical stories at an early age. He is the author of A Fractured Infinity and Welcome to Forever. \n\n\n\nRegistration required for in-person.
URL:https://cambridgecommonwriters.org/calendar/nathan-tavares-welcome-to-forever-brookline-booksmith/
LOCATION:Brookline Booksmith\, 279 Harvard Street\, Brookline\, Massachusetts\, 02446-2908\, United States
CATEGORIES:Alum Event
ATTACH;FMTTYPE=image/jpeg:https://cambridgecommonwriters.org/wp-content/uploads/2023/03/Welcome-to-Forever-2.jpeg
ORGANIZER;CN="Brookline Booksmith":MAILTO:thestore@brooklinebooksmith.com
END:VEVENT
BEGIN:VEVENT
DTSTART;TZID=America/Chicago:20240306T190000
DTEND;TZID=America/Chicago:20240306T200000
DTSTAMP:20260422T013804
CREATED:20240303T202638Z
LAST-MODIFIED:20240303T202639Z
UID:9966-1709751600-1709755200@cambridgecommonwriters.org
SUMMARY:THIS AMERICAN EX-WIFE by Lyz Lenz in conversation with Laura Danger
DESCRIPTION:Join Women & Children First in welcoming Lyz Lenz (Fiction\, June 2011) to celebrate the release of This American Ex-Wife: How I Ended My Marriage and Started My Life. For this event\, Lyz will be joined in conversation by Laura Danger. \n\n\n\n\n\n\n\nA deeply validating manifesto on the gender politics of marriage (bad) and divorce (actually pretty good!) in America today\, and an argument that the former needs a reboot—from journalist and proud divorcée Lyz Lenz \n\n\n\nPlease note: Pre-registration for this event is required. By pre-registering\, you are verifying that you are fully vaccinated and will wear a mask throughout the entirety of the event. \n\n\n\nLyz Lenz is a journalist and the author of God Land and Belabored. She has written for Insider\, The New York Times\, Marie Claire\, and The Washington Post. Lenz also writes the newsletter Men Yell at Me\, about the intersection of politics and personhood in red-state America. She lives in Iowa with her two children. \n\n\n\nLaura Danger is a Licensed Educator\, Certified Coach and Creator who has taught and facilitated in Chicago for over 12 years. She is also a gardener\, hiker\, mother of two\, partner\, and passionate advocate for balanced partnerships and a society centered around connection and community.
URL:https://cambridgecommonwriters.org/calendar/this-american-ex-wife-by-lyz-lenz-in-conversation-with-laura-danger/
LOCATION:Women & Children First\, 5233 N. Clark St.\, Chicago\, Illinois\, 60640\, United States
CATEGORIES:Alum Event
ATTACH;FMTTYPE=image/png:https://cambridgecommonwriters.org/wp-content/uploads/2023/08/This-American-Ex-Wife.png
ORGANIZER;CN="Women & Children First":MAILTO:wcfbooks@gmail.com
END:VEVENT
BEGIN:VEVENT
DTSTART;TZID=America/New_York:20240307T080000
DTEND;TZID=America/New_York:20240307T170000
DTSTAMP:20260422T013804
CREATED:20230919T001719Z
LAST-MODIFIED:20230919T001720Z
UID:8969-1709798400-1709830800@cambridgecommonwriters.org
SUMMARY:The 2023-24 Lesley University Thought Leadership Series - Jasmine Warga
DESCRIPTION:The Thought Leadership Series at Lesley University welcomes guest presenters who engage members of our community and the public in conversation and\, through that exchange\, encourage us all to act as catalysts for a more connected and just world. \n\n\n\nThese presentations are free and open to all. \n\n\n\nJasmine Warga (WFYP)\, a 2013 graduate of Lesley University’s MFA in Creative Writing Program\, is the New York Times-bestselling and award-winning author of many books for young people\, including “Other Words For Home” and “A Rover’s Story.” “Other Words For Home” earned multiple awards\, including a John Newbery Honor\, a Walter Honor for Young Readers\, and a Charlotte Huck Honor. Her book “The Shape of Thunder” was a School Library Journal and Bank Street best book of the year\, a finalist for the Barnes & Noble Children’s and YA Book Award\, and has been named to several state award reading lists. “A Rover’s Story\, “her latest novel\, was an instant New York Times bestseller\, an Indie Next List and a Junior Library Guild selection\, and was named a best book of the year by many outlets including Publishers Weekly and The Washington Post.
URL:https://cambridgecommonwriters.org/calendar/the-2023-24-lesley-university-thought-leadership-series-jasmine-warga/
CATEGORIES:Alum Event,Lesley Event
ATTACH;FMTTYPE=image/jpeg:https://cambridgecommonwriters.org/wp-content/uploads/2020/09/JW_AuthorPhoto.jpg
ORGANIZER;CN="Lesley University Graduate Admissions":MAILTO:luadmissions@lesley.edu
END:VEVENT
BEGIN:VEVENT
DTSTART;TZID=America/Chicago:20240307T183000
DTEND;TZID=America/Chicago:20240307T193000
DTSTAMP:20260422T013804
CREATED:20240303T203614Z
LAST-MODIFIED:20240303T203615Z
UID:9972-1709836200-1709839800@cambridgecommonwriters.org
SUMMARY:Meet the Author: Lyz Lenz - This American Ex-Wife: How I Ended My Marriage and Started My Life
DESCRIPTION:Meet author Lyz Lenz (Fiction\, June 2011) as she discusses This American Ex-Wife: How I Ended My Marriage and Started My Life\, a deeply validating manifesto on the gender politics of marriage (bad) and divorce (actually pretty good!) in America today\, and an argument that the former needs a reboot. This event will be moderated by Kali White VanBaale. \n\n\n\n\n\n\n\nLyz Lenz is a journalist and the author of God Land and Belabored. She has written for Insider\, The New York Times\, Marie Claire\, and The Washington Post. Lenz also writes the newsletter Men Yell at Me\, about the intersection of politics and personhood in red-state America. She lives in Iowa with her two kids.
URL:https://cambridgecommonwriters.org/calendar/meet-the-author-lyz-lenz-this-american-ex-wife-how-i-ended-my-marriage-and-started-my-life/
LOCATION:Beaverdale Books\, 2629 Beaver Avenue\, Des Moines\, Iowa\, 50310\, United States
CATEGORIES:Alum Event
ATTACH;FMTTYPE=image/png:https://cambridgecommonwriters.org/wp-content/uploads/2023/08/This-American-Ex-Wife.png
ORGANIZER;CN="Beaverdale Books":MAILTO:beaverdalebooks@gmail.com
END:VEVENT
BEGIN:VEVENT
DTSTART;TZID=America/New_York:20240307T190000
DTEND;TZID=America/New_York:20240307T200000
DTSTAMP:20260422T013804
CREATED:20240128T220254Z
LAST-MODIFIED:20240128T220255Z
UID:9686-1709838000-1709841600@cambridgecommonwriters.org
SUMMARY:Finnegan Lecture 2024 Jasmine Warga
DESCRIPTION:Jasmine Warga (WFYP\, June 2013)\, the 2024 Finnegan Lecturer\, will talk about the power of stories\, particularly the power of narrative and stories for young people in her talk “Connecting Through Story.” Jasmine is the New York Times-bestselling and award-winning author of many books for young people\, including Other Words For Home and A Rover’s Story. She lives in the Chicago area with her family.  \n\n\n\nPrevious Finnegan lecturers have included award-winning authors and illustrators such as Carole Lindstrom\, Ekua Holmes\, Candice Illoh\, Tracey Baptiste\, Jack Gantos\, Joel Christian Gill\, Steve Jenkins\, Renee Kurilla\, and E.B. Lewis & Susan Goodman.
URL:https://cambridgecommonwriters.org/calendar/finnegan-lecture-2024-jasmine-warga/
LOCATION:Online Zoom Event
CATEGORIES:Alum Event,Lesley Event
ATTACH;FMTTYPE=image/jpeg:https://cambridgecommonwriters.org/wp-content/uploads/2020/09/JW_AuthorPhoto.jpg
ORGANIZER;CN="Lesley University Graduate Admissions":MAILTO:luadmissions@lesley.edu
END:VEVENT
BEGIN:VEVENT
DTSTART;TZID=America/Denver:20240310T110000
DTEND;TZID=America/Denver:20240310T120000
DTSTAMP:20260422T013804
CREATED:20240303T193829Z
LAST-MODIFIED:20240303T193831Z
UID:9937-1710068400-1710072000@cambridgecommonwriters.org
SUMMARY:Book Launch for Andrea Wang: In Conversation with Malia Maunakea
DESCRIPTION:Celebrate Andrea Wang’s (WFYP\, June 2011) newest book\, Summer at Squee! Summer at Squee is a new middle grade novel about a Chinese American tween who attends a Boston-based Chinese cultural overnight camp and the many ways it transforms her. Andrea Wang is a favorite local author and has received many awards including a Caldecott Medal\, a Newbery Honor and the Asian/Pacific American Award for Literature. \n\n\n\nAndrea will be joined in conversation with another local favorite\, Malia Maunakea\, author of Lei and the Fire Goddess. \n\n\n\nFollowing the conversation books will be available for purchase and signing. Registration required.
URL:https://cambridgecommonwriters.org/calendar/book-launch-for-andrea-wang-in-conversation-with-malia-maunakea/
LOCATION:Golden Library\, 1019 10th St.\, Golden\, Colorado\, 80401\, United States
CATEGORIES:Alum Event
ATTACH;FMTTYPE=image/jpeg:https://cambridgecommonwriters.org/wp-content/uploads/2023/08/Summer-at-Squee.jpeg
ORGANIZER;CN="Second Star to the Right Books":MAILTO:info@2ndstarbooks.com
END:VEVENT
BEGIN:VEVENT
DTSTART;TZID=America/New_York:20240310T180000
DTEND;TZID=America/New_York:20240310T190000
DTSTAMP:20260422T013804
CREATED:20240303T211102Z
LAST-MODIFIED:20240303T211103Z
UID:9991-1710093600-1710097200@cambridgecommonwriters.org
SUMMARY:Lifting Up Marginalized Voices: Reading and Discussion with Jody Hobbs Hesler\, Sunu P. Chandy\, and Jeffrey Dale Lofton
DESCRIPTION:Join Jody Hobbs Hesler and her fellow authors at Hundred Acre Books as they read from their work and discuss how it lifts up marginalized voices.
URL:https://cambridgecommonwriters.org/calendar/lifting-up-marginalized-voices-reading-and-discussion-with-jody-hobbs-hesler-sunu-p-chandy-and-jeffrey-dale-lofton/
LOCATION:Hundred Acre Books\, 172 E Davis St\, Culpeper\, Virginia\, 22701\, United States
CATEGORIES:Alum Event
ATTACH;FMTTYPE=image/png:https://cambridgecommonwriters.org/wp-content/uploads/2024/03/Screenshot-2024-03-03-at-4.10.47 PM.png
ORGANIZER;CN="Hundred Acre Books":MAILTO:hundredacrebookshop@gmail.com
END:VEVENT
BEGIN:VEVENT
DTSTART;TZID=America/New_York:20240311T180000
DTEND;TZID=America/New_York:20240311T200000
DTSTAMP:20260422T013804
CREATED:20240303T201751Z
LAST-MODIFIED:20240303T201752Z
UID:9961-1710180000-1710187200@cambridgecommonwriters.org
SUMMARY:How to Make Your Dialogue Really Talk with Benjamin Roesch
DESCRIPTION:Instructor: Benjamin Roesch (Fiction\, January 2016) \n\n\n\nCourse Description: \n\n\n\nWe talk to other people all the time. Speech is at the center of our lives. Which begs the question: why is writing dialogue in fiction SO hard? And why does it so often fall flat or feel fake? \n\n\n\nIn this 2-hour\, interactive workshop\, we’ll dig into what makes dialogue tick. We’ll drink from the keg of dialogue masters like Ernest Hemingway and Judy Blume who can help us mere mortals improve our craft. Participants should come ready to write\, think\, discover\, and share. When it’s over\, you’ll have some new tools and a boosted sense of confidence so you can get back to your stories and make your dialogue really…talk.
URL:https://cambridgecommonwriters.org/calendar/how-to-make-your-dialogue-really-talk-with-benjamin-roesch/
LOCATION:Online Zoom Event
CATEGORIES:Alum Event
ATTACH;FMTTYPE=image/png:https://cambridgecommonwriters.org/wp-content/uploads/2024/03/Screenshot-2024-03-03-at-3.17.37 PM.png
ORGANIZER;CN="Onion River Press":MAILTO:info@onionriverpress.com
END:VEVENT
BEGIN:VEVENT
DTSTART;TZID=America/New_York:20240317T120000
DTEND;TZID=America/New_York:20240317T150000
DTSTAMP:20260422T013804
CREATED:20240303T212107Z
LAST-MODIFIED:20240303T212108Z
UID:9998-1710676800-1710687600@cambridgecommonwriters.org
SUMMARY:Jumpstart Your Memoir! A Writing Workshop with Celia Jeffries
DESCRIPTION:Course Description: \n\n\n\nOur wonderful\, complex lives can be difficult to capture when writing a memoir. What to include? What to leave out? Where to start? Celia Jeffries (Fiction/Nonfiction\, 2008) is a writer\, editor and memoir workshop leader who can help you explore those questions. Become one of the lucky writers to begin this journey with her in the comfort of Joanne’s home in Roslindale.
URL:https://cambridgecommonwriters.org/calendar/jumpstart-your-memoir-a-writing-workshop-with-celia-jeffries/
LOCATION:Joanne Rossman’s Home\, 6 Birch Street\, Roslindale\, Massachusetts\, 02131\, United States
CATEGORIES:Alum Event
ATTACH;FMTTYPE=image/jpeg:https://cambridgecommonwriters.org/wp-content/uploads/2022/10/Celia-Jeffries.jpg
END:VEVENT
BEGIN:VEVENT
DTSTART;TZID=America/Chicago:20240320T190000
DTEND;TZID=America/Chicago:20240320T200000
DTSTAMP:20260422T013804
CREATED:20240303T204731Z
LAST-MODIFIED:20240303T204732Z
UID:9978-1710961200-1710964800@cambridgecommonwriters.org
SUMMARY:Lyz Lenz presents This American Ex-Wife
DESCRIPTION:Join Lyz Lenz (Fiction\, June 2011) at Magers & Quinn Booksellers as she presents This American Ex-Wife: How I Ended My Marriage and Started My Life in conversation with Dara Moskowitz Grumdahl. \n\n\n\n\n\n\n\nStudies show that nearly 70 percent of divorces are initiated by women—women who are tired\, fed up\, exhausted\, and unhappy. We’ve all seen how the media portrays divorcées: sad\, lonely\, drowning their sorrows in a bottle of wine. Lyz Lenz is one such woman whose life fell apart after she reached a breaking point in her twelve-year marriage. But she refused to take part in that tired narrative and decided to flip the script on divorce. \n\n\n\nIn this exuberant and unapologetic book\, Lenz makes an argument for the advantages of getting divorced\, framing it as a practical and effective solution for women to take back the power they are owed. Weaving reportage with sociological research and literature with popular culture along with personal stories of coming together and breaking up\, Lenz creates a kaleidoscopic and poignant portrait of American marriage today. She argues that the mechanisms of American power\, justice\, love\, and gender equality remain deeply flawed\, and that marriage\, like any other cultural institution\, is due for a reckoning. A raucous argument for acceptance\, solidarity\, and collective female refusal\, This American Ex-Wife takes readers on a riveting ride—while pointing us all toward a life that is a little more free. \n\n\n\nMasks are required for this event. \n\n\n\nLyz Lenz is a journalist and the author of God Land and Belabored. She has written for Insider\, The New York Times\, Marie Claire\, and The Washington Post. Lenz also writes the newsletter Men Yell at Me about the intersection of politics and personhood in red-state America. She lives in Iowa with her two kids. \n\n\n\nDara Moskowitz Grumdahl is one of the most awarded magazine writers in the country\, with six James Beard Award wins (and 15 nominations)-the so-called Oscars of food world-and another 6 CRMAs\, known as the Pulitzers of magazines. She grew up in New York City\, little aware of her destiny: to write about the quirks and passions\, the foods and cocktails\, the people and places of Minnesota. She started her work life as a 13-year-old restaurant dishwasher and\, after coming to Minnesota to attend Carleton College\, became City Pages’ restaurant critic in 1997. Since then she has worked as a staff writer\, columnist\, and critic at Mpls.St.Paul Magazine\, Delta Sky\, Minnesota Monthly\, Gourmet\, Saveur\, Food & Wine\, Experience Life\, Bon Appétit\, and other publications. For eight years she hosted a radio show on WCCO called “Off the Menu\,” and she is a regular guest on Minnesota Public Radio. She lives in south Minneapolis with a dog the size of a cat\, a cat the size of a cat\, and two children who are much bigger than cats and want to be left out of it. She would like everyone to know that Minneapolis is one of the best places in the world\, as long as you have a lot of pairs of boots and love snow\, which she does.
URL:https://cambridgecommonwriters.org/calendar/lyz-lenz-presents-this-american-ex-wife/
LOCATION:Magers & Quinn Booksellers\, 3038 Hennepin Ave\, Minneapolis\, Minnesota\, 55408\, United States
CATEGORIES:Alum Event
ATTACH;FMTTYPE=image/png:https://cambridgecommonwriters.org/wp-content/uploads/2023/08/This-American-Ex-Wife.png
ORGANIZER;CN="Magers & Quinn Booksellers":MAILTO:books@magersandquinn.com
END:VEVENT
BEGIN:VEVENT
DTSTART;TZID=America/New_York:20240321T190000
DTEND;TZID=America/New_York:20240321T200000
DTSTAMP:20260422T013804
CREATED:20240303T210345Z
LAST-MODIFIED:20240303T210346Z
UID:9988-1711047600-1711051200@cambridgecommonwriters.org
SUMMARY:Eileen Cleary\, Anne Pluto\, Linda Carney-Goodrich & Gloria Monaghan at Brookline Booksmith
DESCRIPTION:Join Brookline Booksmith for an evening of poetry with Eileen Cleary (Poetry\, June 2016)\, Anne Pluto\, Linda Carney-Goodrich\, & Gloria Monaghan. \n\n\n\nThis event is part of Third Thursdays Poetry\, a monthly reading series at Brookline Booksmith. \n\n\n\nEileen Cleary (she/her) is the author of Wild Pack of the Living (Nixes Mate\, 2024)\, 2 a.m. with Keats (Nixes Mate\, 2021) and Child Ward of the Commonwealth (Main Street Rag Press\, 2019)\, which received an honorable mention for the Sheila Margaret Motton Book Prize. She co-edited the anthology ‘ Voices Amidst the Virus’ which was the featured text at the 2021 MSU Filmetry Festival. Cleary founded and edits the Lily Poetry Review and Lily Poetry Review Books\, and curates the Lily Poetry Salon. A multi-pushcart nominee\, her work is published widely in journals and anthologies. \n\n\n\nAnne Elezabeth Pluto grew up in Brooklyn\, NY before it was cool. She is professor of Literature and Theatre at Lesley University in Cambridge\, MA where she is the artistic director of the Oxford Street Players. She is an alumna of Shakespeare & Company and was a. member of the Worcester Shakespeare Company from 2011 – 2016. She was a member of the Boston small press scene in the late 1980s and is one of the founders and editors at Nixes Mate Review/Nixes Mate Books. Her most recent publications are full length collections: The Deepest Part of Dark\, Unlikely Stories Press\, NOLA\, 2020 and How Many Miles to Babylon?\, Lily Poetry Review Books\, 2023. \n\n\n\nLinda Carney-Goodrich is a writer and teacher from Boston. Her work has appeared in journals such as spoKe10\, Lily Poetry Review\, The MacGuffin\, Nixes Mate Review\, Anti-Heroin Chic\, Literary Mama\, Muddy River Poetry Review\, Wordgathering Journal of Disability Poetry and Literature\, Gyroscope Review\, and City of Notions: An Anthology of Contemporary Boston Poems. Her work has been translated in Spanish and published in Columbia and Mexico. Several of her poems have been displayed on the walls at Boston City Hall as part of the Boston Mayor’s Poetry Program. Linda is the Poetry Coordinator for the Menino Art Center in Hyde Park. She also owns and operates Home Scholars of Boston\, through which she offers small classes\, private tutoring\, and educational consulting. Her one person shows include The Secret Childhood Diary of a Welfare Mother and My Life in Barbie. Dot Girl is her first collection of poetry. \n\n\n\nGloria Monaghan is a Professor at Wentworth University. She has published six collections of poetry. The most recent book\, Cormorant on the Strand\, was published by Lily Poetry Review in 2023. Her poems have appeared in Nixes Mate\, NPR\, Poem-a-Day\, Lily Poetry Review\, Mom Egg Review\, Quartet and River Heron among others. She has been nominated twice for the Pushcart Prize\, as well as the Massachusetts Book Award\, and the Griffin Prize. She recently completed a film on painter\, Nancy Ellen Craig\, which was accepted into the 2023 Provincetown Film Festival.
URL:https://cambridgecommonwriters.org/calendar/eileen-cleary-anne-pluto-linda-carney-goodrich-gloria-monaghan-at-brookline-booksmith/
LOCATION:Brookline Booksmith\, 279 Harvard Street\, Brookline\, Massachusetts\, 02446-2908\, United States
CATEGORIES:Alum Event
ATTACH;FMTTYPE=image/png:https://cambridgecommonwriters.org/wp-content/uploads/2024/03/Screenshot-2024-03-03-at-4.03.29 PM.png
ORGANIZER;CN="Brookline Booksmith":MAILTO:thestore@brooklinebooksmith.com
END:VEVENT
BEGIN:VEVENT
DTSTART;TZID=America/New_York:20240323T093000
DTEND;TZID=America/New_York:20240323T123000
DTSTAMP:20260422T013804
CREATED:20231126T003835Z
LAST-MODIFIED:20231126T003835Z
UID:9306-1711186200-1711197000@cambridgecommonwriters.org
SUMMARY:Project Management for Poets and Writers\, with Michael Mercurio
DESCRIPTION:Any project can be daunting at the start. Some projects are still daunting in the middle\, especially when they have a lot of moving parts — or shifting scenes! So how do you make sure that your writing stays on track towards your goal? Figuring out a project management plan can set you up for success and can make even the biggest projects seem less unwieldy and intimidating. This workshop will walk you through the process of setting “SMART” goals (Specific\, Measurable\, Achievable\, Relevant\, and Time-bound)\, “chunking out” your project into manageable pieces\, setting a realistic timeline\, and sustaining all of this work with the development of good habits. You’ll also look at some fantastic project management tools\, both analog and digital\, that you may choose to use in support of your project. Workshop attendees should be prepared to talk about a project they’re finding difficult to begin or one already in process that they need help organizing and managing.  In-person/Hybrid. \n\n\n\nMichael Mercurio (Poetry\, January 2017) lives and writes in the Pioneer Valley\, where he serves on the steering committee for the Tell It Slant Poetry Festival (formerly Amherst Poetry Festival) and is the associate editor of the Naugatuck River Review. A graduate of the Lesley University low-res MFA program\, his poetry has been published in Rust + Moth\, Crab Creek Review\, and The Indianapolis Review\, and is forthcoming in Sugar House Review and Palette Poetry. Michael also has had critical reviews published in The Lily Poetry Review. \n\n\n\n\n\n\n\n\n\nThis event will also be available for online participants.
URL:https://cambridgecommonwriters.org/calendar/project-management-for-poets-and-writers-with-michael-mercurio/
LOCATION:The Valley’s Literary Arts Studio\, 221 Pine St.\, Studio #359\, Florence\, Massachusetts\, 01062\, United States
CATEGORIES:Alum Event
ATTACH;FMTTYPE=image/jpeg:https://cambridgecommonwriters.org/wp-content/uploads/2020/02/Michael-Mercurio-e1582571203621.jpg
END:VEVENT
BEGIN:VEVENT
DTSTART;TZID=America/New_York:20240323T140000
DTEND;TZID=America/New_York:20240323T150000
DTSTAMP:20260422T013804
CREATED:20240303T212447Z
LAST-MODIFIED:20240303T212448Z
UID:10002-1711202400-1711206000@cambridgecommonwriters.org
SUMMARY:Lisa Robinson -- GIFTS FROM GEORGIA'S GARDEN at Newtonville Books
DESCRIPTION:Join Newtonville Books to celebrate the launch of local author Lisa Robinson’s (WFYP\, June 2011) latest book\, Gifts from Georgia’s Garden.
URL:https://cambridgecommonwriters.org/calendar/lisa-robinson-gifts-from-georgias-garden-at-newtonville-books/
LOCATION:Newtonville Books\, 10 Langley Rd\, Newton\, Massachusetts\, 02459-1972\, United States
CATEGORIES:Alum Event
ATTACH;FMTTYPE=image/png:https://cambridgecommonwriters.org/wp-content/uploads/2023/12/Gifts-from-Georgias-Garden.png
END:VEVENT
END:VCALENDAR