BEGIN:VCALENDAR
VERSION:2.0
PRODID:-//Cambridge Common Writers - ECPv6.15.20//NONSGML v1.0//EN
CALSCALE:GREGORIAN
METHOD:PUBLISH
X-ORIGINAL-URL:https://cambridgecommonwriters.org
X-WR-CALDESC:Events for Cambridge Common Writers
REFRESH-INTERVAL;VALUE=DURATION:PT1H
X-Robots-Tag:noindex
X-PUBLISHED-TTL:PT1H
BEGIN:VTIMEZONE
TZID:America/New_York
BEGIN:DAYLIGHT
TZOFFSETFROM:-0500
TZOFFSETTO:-0400
TZNAME:EDT
DTSTART:20220313T070000
END:DAYLIGHT
BEGIN:STANDARD
TZOFFSETFROM:-0400
TZOFFSETTO:-0500
TZNAME:EST
DTSTART:20221106T060000
END:STANDARD
BEGIN:DAYLIGHT
TZOFFSETFROM:-0500
TZOFFSETTO:-0400
TZNAME:EDT
DTSTART:20230312T070000
END:DAYLIGHT
BEGIN:STANDARD
TZOFFSETFROM:-0400
TZOFFSETTO:-0500
TZNAME:EST
DTSTART:20231105T060000
END:STANDARD
BEGIN:DAYLIGHT
TZOFFSETFROM:-0500
TZOFFSETTO:-0400
TZNAME:EDT
DTSTART:20240310T070000
END:DAYLIGHT
BEGIN:STANDARD
TZOFFSETFROM:-0400
TZOFFSETTO:-0500
TZNAME:EST
DTSTART:20241103T060000
END:STANDARD
END:VTIMEZONE
BEGIN:VTIMEZONE
TZID:America/Los_Angeles
BEGIN:DAYLIGHT
TZOFFSETFROM:-0800
TZOFFSETTO:-0700
TZNAME:PDT
DTSTART:20220313T100000
END:DAYLIGHT
BEGIN:STANDARD
TZOFFSETFROM:-0700
TZOFFSETTO:-0800
TZNAME:PST
DTSTART:20221106T090000
END:STANDARD
BEGIN:DAYLIGHT
TZOFFSETFROM:-0800
TZOFFSETTO:-0700
TZNAME:PDT
DTSTART:20230312T100000
END:DAYLIGHT
BEGIN:STANDARD
TZOFFSETFROM:-0700
TZOFFSETTO:-0800
TZNAME:PST
DTSTART:20231105T090000
END:STANDARD
BEGIN:DAYLIGHT
TZOFFSETFROM:-0800
TZOFFSETTO:-0700
TZNAME:PDT
DTSTART:20240310T100000
END:DAYLIGHT
BEGIN:STANDARD
TZOFFSETFROM:-0700
TZOFFSETTO:-0800
TZNAME:PST
DTSTART:20241103T090000
END:STANDARD
END:VTIMEZONE
BEGIN:VEVENT
DTSTART;TZID=America/New_York:20230819T190000
DTEND;TZID=America/New_York:20230819T200000
DTSTAMP:20260422T142242
CREATED:20230817T223616Z
LAST-MODIFIED:20230817T223744Z
UID:8738-1692471600-1692475200@cambridgecommonwriters.org
SUMMARY:Reading - (UN)HOUSED by Fabiola R. Decius
DESCRIPTION:The BCA Playwright Residency presents a reading/workshop of a new play in development\, (UN)HOUSED by Fabiola R. Decius (WSS\, June 2015)\, at the Boston Center for the Arts. \n\n\n\n(UN)HOUSED tells the story of a single mother\, Elianie\, and her recent college graduate daughter\, Skylar\, who has moved back home. As Skylar tries to navigate the world of adulthood\, she and her mother learn that their two-bedroom home of ten years has been put up for sale by their landlord. When a new landlord purchases the home and allows for Elianie and Skylar to remain as tenants\, they believe all is well until a series of incidents put their housing in jeopardy. \n\n\n\n\n\n\n\n\n\n\n\n\n\nFor more information\, please contact Fabiola at teenswrite18@gmail.com
URL:https://cambridgecommonwriters.org/calendar/reading-unhoused-by-fabiola-r-decius/
LOCATION:Boston Center for the Arts\, 539 Tremont Street\, Boston\, Massachusetts\, 02116\, United States
CATEGORIES:Alum Event
ATTACH;FMTTYPE=image/jpeg:https://cambridgecommonwriters.org/wp-content/uploads/2021/02/Fabiola-Decius-3-large.jpg
ORGANIZER;CN="BCA Playwright Residency":MAILTO:info@bostonarts.org
END:VEVENT
BEGIN:VEVENT
DTSTART;TZID=America/New_York:20230822T130000
DTEND;TZID=America/New_York:20230822T140000
DTSTAMP:20260422T142242
CREATED:20230816T233732Z
LAST-MODIFIED:20230816T233733Z
UID:8708-1692709200-1692712800@cambridgecommonwriters.org
SUMMARY:The Art\, Power and ABC’s of Talking With Young Children to Build Skills and Connection with Rebecca Rolland\, EdD
DESCRIPTION:Science has shown that the best way to help our kids become independent\, kind\, and happy is by talking with them. And yet we often find ourselves distracted\, exhausted\, or at a loss as to how to have meaningful conversations. \n\n\n\nHarvard lecturer\, speech pathologist\, and mother\, Rebecca Rolland (Fiction\, June 2017) offers an essential\, evidence-based guide to communicating more effectively with children of all ages\, revealing that a great conversation has a double benefit: helping adults and kids connect better in the moment and boosting children’s learning and wellbeing for years to come. \n\n\n\nDr. Rolland’s tools for communication will help you learn to: \n\n\n\n\nEngage in more “rich talk”—a methodology for a quality conversation;Promote your child’s empathy\, curiosity\, and ability to embrace challenges;Make you feel more effective and confident as a parent.
URL:https://cambridgecommonwriters.org/calendar/the-art-power-and-abcs-of-talking-with-young-children-to-build-skills-and-connection-with-rebecca-rolland-edd/
LOCATION:Online Zoom Event
CATEGORIES:Alum Event
ATTACH;FMTTYPE=image/jpeg:https://cambridgecommonwriters.org/wp-content/uploads/2021/11/Rebecca_Rolland_photo.jpg
ORGANIZER;CN="Glenbard Parent Series":MAILTO:gilda_ross@glenbard.org
END:VEVENT
BEGIN:VEVENT
DTSTART;TZID=America/New_York:20230823T200000
DTEND;TZID=America/New_York:20230823T210000
DTSTAMP:20260422T142242
CREATED:20230816T234928Z
LAST-MODIFIED:20230816T234929Z
UID:8723-1692820800-1692824400@cambridgecommonwriters.org
SUMMARY:What the Universe Is: Natalie Padilla Young and Autumn McClintock
DESCRIPTION:Late August is a perfect time to sit with the exceptional poems of Natalie Padilla Young and Autumn McClintock and consider the world around us – both built and natural – and the ways it affects us and we affect it.Natalie Padilla Young (Poetry\, January 2009) co-founded and manages the poetry magazine Sugar House Review. By day\, she works as an art director for a Salt Lake City ad agency. Her first book All of This Was Once Under Water is out from Quarter Press (2023). Natalie’s poetry has appeared in Green Mountains Review\, Tampa Review\, Rattle\, South Dakota Review\, Los Angeles Times\, Tar River Poetry\, http://Terrain.org \, and elsewhere. She serves on the Utah Arts Advisory and Lightscatter Press boards\, and lives in southern Utah with the poet Nano Taggart and two dogs. Find more at http://NatalieYoungArts.com  or follow her on Instagram (@pickledbeatss) for many pup pics. \n\n\n\nAutumn McClintock is a freelance writer and editor living in Philadelphia. Her newest chapbook\, Dirt Bird\, was recently published by Alexandria Quarterly Press\, and poems of hers have appeared in The Account\, Cimarron Review\, Denver Quarterly\, and The Georgia Review\, among others. She is Poetry Editor of Doubleback Review. Find her online at http://autumnmcclintock.com.
URL:https://cambridgecommonwriters.org/calendar/what-the-universe-is-natalie-padilla-young-and-autumn-mcclintock/
LOCATION:Online Zoom Event
CATEGORIES:Alum Event
ATTACH;FMTTYPE=image/png:https://cambridgecommonwriters.org/wp-content/uploads/2023/08/Screen-Shot-2023-08-16-at-7.49.00-PM.png
END:VEVENT
BEGIN:VEVENT
DTSTART;TZID=America/Los_Angeles:20230827T090000
DTEND;TZID=America/Los_Angeles:20230827T120000
DTSTAMP:20260422T142242
CREATED:20230630T143542Z
LAST-MODIFIED:20230630T143544Z
UID:8571-1693126800-1693137600@cambridgecommonwriters.org
SUMMARY:Novels-in-Verse: An Invitation to Play with Kate Fussner
DESCRIPTION:Novels-in-verse challenge writers to tell stories with far fewer words. But while to some this may feel like a test\, it’s also an opportunity to play: with format\, white space\, word choice\, metaphors\, structure\, rhythm\, and more. In this seminar\, writers will be asked to re-imagine scenes from a work-in-progress with an emphasis on how we can transform scenes and heighten their impact when we stretch beyond the limitations of prose. No previous experience with novels-in-verse is required\, but students should come with a story they’ve been working on and a willingness to write bravely. \n\n\n\nBIO: Kate Fussner (she/her) is a novelist\, teacher\, and accidental poet living in Massachusetts with her wife and dramatic dog. Her debut novel\, THE SONG OF US\, is a queer middle grade novel-in-verse based on “Orpheus and Eurydice” (HarperCollins/Katherine Tegen Books\, May 30\, 2023). Kate holds her B.A. in English from Vassar College\, her M.Ed. from University of Massachusetts Boston\, and her M.F.A. in Creative Writing for Young People from Lesley University. Kate believes in the power of a good laugh and a good cry\, and hopes her stories will provide readers with both.
URL:https://cambridgecommonwriters.org/calendar/novels-in-verse-an-invitation-to-play-with-kate-fussner/
LOCATION:Online Event
CATEGORIES:Alum Event
ATTACH;FMTTYPE=image/jpeg:https://cambridgecommonwriters.org/wp-content/uploads/2023/05/Kate-Fussner-683x1024-1.jpg
END:VEVENT
END:VCALENDAR