BEGIN:VCALENDAR
VERSION:2.0
PRODID:-//Cambridge Common Writers - ECPv6.15.20//NONSGML v1.0//EN
CALSCALE:GREGORIAN
METHOD:PUBLISH
X-WR-CALNAME:Cambridge Common Writers
X-ORIGINAL-URL:https://cambridgecommonwriters.org
X-WR-CALDESC:Events for Cambridge Common Writers
REFRESH-INTERVAL;VALUE=DURATION:PT1H
X-Robots-Tag:noindex
X-PUBLISHED-TTL:PT1H
BEGIN:VTIMEZONE
TZID:America/New_York
BEGIN:DAYLIGHT
TZOFFSETFROM:-0500
TZOFFSETTO:-0400
TZNAME:EDT
DTSTART:20210314T070000
END:DAYLIGHT
BEGIN:STANDARD
TZOFFSETFROM:-0400
TZOFFSETTO:-0500
TZNAME:EST
DTSTART:20211107T060000
END:STANDARD
BEGIN:DAYLIGHT
TZOFFSETFROM:-0500
TZOFFSETTO:-0400
TZNAME:EDT
DTSTART:20220313T070000
END:DAYLIGHT
BEGIN:STANDARD
TZOFFSETFROM:-0400
TZOFFSETTO:-0500
TZNAME:EST
DTSTART:20221106T060000
END:STANDARD
BEGIN:DAYLIGHT
TZOFFSETFROM:-0500
TZOFFSETTO:-0400
TZNAME:EDT
DTSTART:20230312T070000
END:DAYLIGHT
BEGIN:STANDARD
TZOFFSETFROM:-0400
TZOFFSETTO:-0500
TZNAME:EST
DTSTART:20231105T060000
END:STANDARD
END:VTIMEZONE
BEGIN:VEVENT
DTSTART;TZID=America/New_York:20221203T110000
DTEND;TZID=America/New_York:20221203T160000
DTSTAMP:20260423T044056
CREATED:20221125T200316Z
LAST-MODIFIED:20221125T200317Z
UID:7472-1670065200-1670083200@cambridgecommonwriters.org
SUMMARY:Kate's Kid Book Bash: Pittsburgh's Book Festival for Kids and Teens with Sabrina Fedel
DESCRIPTION:Sabrina Fedel (WFYP\, January 2014) will be one of the authors featured at this Pittsburgh event. A full list of participating authors can be found here.
URL:https://cambridgecommonwriters.org/calendar/kates-kid-book-bash-pittsburghs-book-festival-for-kids-and-teens-with-sabrina-fedel/
LOCATION:The Kingsley Association\, 6435 Frankstown Ave\, Pittsburgh\, Pennsylvania\, 15206\, United States
CATEGORIES:Alum Event
ATTACH;FMTTYPE=image/jpeg:https://cambridgecommonwriters.org/wp-content/uploads/2022/11/Sabrina-Fedel-e1718653036889.jpeg
ORGANIZER;CN="Kate Dopirak":MAILTO:katedopirakinfo@gmail.com
END:VEVENT
BEGIN:VEVENT
DTSTART;TZID=America/New_York:20221207T183000
DTEND;TZID=America/New_York:20221207T193000
DTSTAMP:20260423T044056
CREATED:20221130T193139Z
LAST-MODIFIED:20221130T193140Z
UID:7514-1670437800-1670441400@cambridgecommonwriters.org
SUMMARY:Live at Brookline Booksmith! Nathan Tavares: A Fractured Infinity
DESCRIPTION:In person at Brookline Booksmith! Celebrate the release of A Fractured Infinity with author Nathan Tavares\, in conversation with David Farrow. The venue asks attendees to RSVP ahead of time in case of high volume. You can also reserve a book for pickup after the event\, or preorder it and have it shipped from the store. \n\n\n\nNathan Tavares (Fiction\, June 2011) is a writer from Boston\, Massachusetts. He grew up in the Portuguese-American community of southeastern Massachusetts and developed a love for fantastical stories at an early age\, from superheroes to mythology. \n\n\n\nModerator David Farrow (Fiction\, June 2022) is the author of the Neverglades paranormal mystery series\, which started as a cult success on Reddit\, became a bestselling book series on Amazon\, and is now being adapted as a video game. Like Nathan\, he is a Fiction alum from Lesley University’s MFA program and a writer of all things queer and speculative.
URL:https://cambridgecommonwriters.org/calendar/live-at-brookline-booksmith-nathan-tavares-a-fractured-infinity/
LOCATION:Brookline Booksmith\, 279 Harvard Street\, Brookline\, Massachusetts\, 02446-2908\, United States
CATEGORIES:Alum Event
ATTACH;FMTTYPE=image/png:https://cambridgecommonwriters.org/wp-content/uploads/2022/11/Screen-Shot-2022-11-30-at-2.31.15-PM.png
ORGANIZER;CN="Brookline Booksmith":MAILTO:thestore@brooklinebooksmith.com
END:VEVENT
BEGIN:VEVENT
DTSTART;TZID=America/New_York:20221208T200000
DTEND;TZID=America/New_York:20221208T210000
DTSTAMP:20260423T044056
CREATED:20221119T162355Z
LAST-MODIFIED:20221208T215318Z
UID:7450-1670529600-1670533200@cambridgecommonwriters.org
SUMMARY:The Golden Land - CCW Book Launch with Elizabeth Shick
DESCRIPTION:Join us for this celebration of Elizabeth Shick’s debut novel\, The Golden Land\, which was inspired by the six years she lived in Yangon\, Myanmar\, and is the winner of the 2021 AWP Prize for the Novel.  \n\n\n\nPurchase Here\n\n\n\nThe event will take place during the following time zones: \n\n\n\n8:00 PM December 8 Boston \n\n\n\n7:00 AM December 9 Dhaka \n\n\n\n7:30 AM December 9 Yangon \n\n\n\n12:00 PM December 9 Melbourne
URL:https://cambridgecommonwriters.org/calendar/the-golden-land-ccw-book-launch-with-elizabeth-shick/
LOCATION:Online Zoom Event
CATEGORIES:Alum Event,CCW Event
ATTACH;FMTTYPE=image/jpeg:https://cambridgecommonwriters.org/wp-content/uploads/2022/10/The-Golden-Land.jpeg
ORGANIZER;CN="Cambridge Common Writers":MAILTO:lesleycambridgecommon@gmail.com
END:VEVENT
END:VCALENDAR