BEGIN:VCALENDAR
VERSION:2.0
PRODID:-//Cambridge Common Writers - ECPv6.15.20//NONSGML v1.0//EN
CALSCALE:GREGORIAN
METHOD:PUBLISH
X-WR-CALNAME:Cambridge Common Writers
X-ORIGINAL-URL:https://cambridgecommonwriters.org
X-WR-CALDESC:Events for Cambridge Common Writers
REFRESH-INTERVAL;VALUE=DURATION:PT1H
X-Robots-Tag:noindex
X-PUBLISHED-TTL:PT1H
BEGIN:VTIMEZONE
TZID:America/New_York
BEGIN:DAYLIGHT
TZOFFSETFROM:-0500
TZOFFSETTO:-0400
TZNAME:EDT
DTSTART:20250309T070000
END:DAYLIGHT
BEGIN:STANDARD
TZOFFSETFROM:-0400
TZOFFSETTO:-0500
TZNAME:EST
DTSTART:20251102T060000
END:STANDARD
BEGIN:DAYLIGHT
TZOFFSETFROM:-0500
TZOFFSETTO:-0400
TZNAME:EDT
DTSTART:20260308T070000
END:DAYLIGHT
BEGIN:STANDARD
TZOFFSETFROM:-0400
TZOFFSETTO:-0500
TZNAME:EST
DTSTART:20261101T060000
END:STANDARD
BEGIN:DAYLIGHT
TZOFFSETFROM:-0500
TZOFFSETTO:-0400
TZNAME:EDT
DTSTART:20270314T070000
END:DAYLIGHT
BEGIN:STANDARD
TZOFFSETFROM:-0400
TZOFFSETTO:-0500
TZNAME:EST
DTSTART:20271107T060000
END:STANDARD
END:VTIMEZONE
BEGIN:VEVENT
DTSTART;TZID=America/New_York:20260415T100000
DTEND;TZID=America/New_York:20260415T120000
DTSTAMP:20260420T195235
CREATED:20260404T231155Z
LAST-MODIFIED:20260404T231159Z
UID:13082-1776247200-1776254400@cambridgecommonwriters.org
SUMMARY:NEIBA Spring Forum with Sara Levine
DESCRIPTION:Join Sara Levine (Nonfiction/WFYP\, January 2006) at the NEIBA Spring Forum\, a two-day event full of author presentations\, education\, and community building. Sara will discuss her book\, A Visit with the Birds\, at the event: All About the Books.
URL:https://cambridgecommonwriters.org/calendar/neiba-spring-forum-with-sara-levine/
LOCATION:DoubleTree by Hilton Hotel Boston North Shore\, 50 Ferncroft Rd\, Danvers\, Massachusetts\, 01923\, United States
CATEGORIES:Alum Event
ATTACH;FMTTYPE=image/webp:https://cambridgecommonwriters.org/wp-content/uploads/2023/10/SaraLevine2.webp
END:VEVENT
BEGIN:VEVENT
DTSTART;TZID=America/New_York:20260415T180000
DTEND;TZID=America/New_York:20260415T200000
DTSTAMP:20260420T195235
CREATED:20260404T224444Z
LAST-MODIFIED:20260404T224449Z
UID:13069-1776276000-1776283200@cambridgecommonwriters.org
SUMMARY:Crime Writers Event with Allison Keeton
DESCRIPTION:Join crime writer Allison Keeton (WFYP\, January 2009) for a spine-tingling Maine crime writers event: Murder in Mud Season. More than a dozen acclaimed and up-and-coming mystery\, horror\, and crime writers will read 5-min selections from their recent works. In between authors\, there will be jokes\, trivia\, snacks\, and raffles!
URL:https://cambridgecommonwriters.org/calendar/crime-writers-event-with-allison-keeton/
LOCATION:Rockport Public Library\, 1 Limerock Street\, Rockport\, Maine\, 04856\, United States
CATEGORIES:Alum Event
ATTACH;FMTTYPE=image/jpeg:https://cambridgecommonwriters.org/wp-content/uploads/2026/03/Allison-Keeton.jpg
END:VEVENT
BEGIN:VEVENT
DTSTART;TZID=America/New_York:20260415T190000
DTEND;TZID=America/New_York:20260415T200000
DTSTAMP:20260420T195235
CREATED:20260319T190521Z
LAST-MODIFIED:20260319T190526Z
UID:13012-1776279600-1776283200@cambridgecommonwriters.org
SUMMARY:Author Talk with Deborah Sosin
DESCRIPTION:Join author Deborah Sosin (Nonfiction\, January 2015) for a lively discussion about Escape Velocity\, a genre-bending constellation of 70 micro-memoirs of 70 words\, each unraveling a story of family entanglement with Sosin’s loving but overbearing parents. At 70\, Sosin faces the loss of both parents and the challenges—and delights—of flying solo. Escape Velocity sheds light on what it means to claim our true selves without severing our close family bonds.  
URL:https://cambridgecommonwriters.org/calendar/author-talk-with-deborah-sosin-2/
LOCATION:Porter Square Books\, 1815 Massachusetts Ave\, Cambridge\, Massachusetts\, 02140\, United States
CATEGORIES:Alum Event
ATTACH;FMTTYPE=image/jpeg:https://cambridgecommonwriters.org/wp-content/uploads/2026/03/Escape-Velocity.jpg
ORGANIZER;CN="Porter Square Books":MAILTO:INFO@PORTERSQUAREBOOKS.COM
END:VEVENT
BEGIN:VEVENT
DTSTART;TZID=America/New_York:20260418T103000
DTEND;TZID=America/New_York:20260418T110000
DTSTAMP:20260420T195235
CREATED:20260404T231528Z
LAST-MODIFIED:20260404T231532Z
UID:13088-1776508200-1776510000@cambridgecommonwriters.org
SUMMARY:Story Time with Sara Levine
DESCRIPTION:Join author Sara Levine (Nonfiction/WFYP\, January 2006) for a reading from her latest book\, A Visit with the Birds.
URL:https://cambridgecommonwriters.org/calendar/story-time-with-sara-levine-2/
LOCATION:Lofty Pigeon Books\, 743 Church Avenue\, Brooklyn\, New York\, 11218\, United States
CATEGORIES:Alum Event
ATTACH;FMTTYPE=image/webp:https://cambridgecommonwriters.org/wp-content/uploads/2025/10/A-visit-with-the-birds-Sara-Levine.webp
ORGANIZER;CN="Lofty Pigeon Books":MAILTO:info@loftypigeonbooks.com
END:VEVENT
BEGIN:VEVENT
DTSTART;TZID=America/New_York:20260420T180000
DTEND;TZID=America/New_York:20260420T193000
DTSTAMP:20260420T195235
CREATED:20260412T155256Z
LAST-MODIFIED:20260412T155258Z
UID:13120-1776708000-1776713400@cambridgecommonwriters.org
SUMMARY:Poetry Reading with Andrea Ballou
DESCRIPTION:Andrea Ballou (Poetry\, June 2015) will be joined by fellow Writing Fellows at Civitella’s annual celebration of Poetry Month to share their work. \n\n\n\nAndrea Ballou is the 2025 Lexi Rudnitsky/Persea Books First Book Prize Affiliated Fellow from the USA. She is the author of Other Times\, Midnight\, winner of the Lexi Rudnitsky Poetry Prize. A Pushcart Prize nominee\, Andrea is the Director of the Poetry Lab for Elders at the VNA in Somerville\, where she has taught poetry and creative writing since 2018.
URL:https://cambridgecommonwriters.org/calendar/poetry-reading-with-andrea-ballou-2/
LOCATION:Civitella Ranieri Foundation\, 28 Hubert Street\, New York\, New York\, 10013\, United States
CATEGORIES:Alum Event
ATTACH;FMTTYPE=image/jpeg:https://cambridgecommonwriters.org/wp-content/uploads/2026/04/Andrea-Ballou.jpg
END:VEVENT
BEGIN:VEVENT
DTSTART;TZID=America/New_York:20260422T180000
DTEND;TZID=America/New_York:20260422T193000
DTSTAMP:20260420T195235
CREATED:20260412T160357Z
LAST-MODIFIED:20260412T160359Z
UID:13127-1776880800-1776886200@cambridgecommonwriters.org
SUMMARY:Author Talk with Michael Lowenthal\, Hester Kaplan and Cindy House
DESCRIPTION:Join authors Michael Lowenthal and Hester Kaplan (Fiction\, Mentors)\, in conversation with Cindy House (Fiction\, June 2017) for a lively\, in-person discussion. \n\n\n\n\nCindy House\n\n\n\nMichael Lowenthal\n\n\n\nHester Kaplan
URL:https://cambridgecommonwriters.org/calendar/author-talk-with-michael-lowenthal-hester-kaplan-and-cindy-house/
LOCATION:Obodo Serendipity Books\, 3588 Main Street\, Stratford\, Connecticut\, 06614\, United States
CATEGORIES:Alum Event,Mentor Event
ATTACH;FMTTYPE=image/jpeg:https://cambridgecommonwriters.org/wp-content/uploads/2026/04/AuthorTalk.jpeg
ORGANIZER;CN="Obodo Serendipity Books":MAILTO:obodoserendipitybooks@gmail.com
END:VEVENT
BEGIN:VEVENT
DTSTART;TZID=America/New_York:20260425T103000
DTEND;TZID=America/New_York:20260425T113000
DTSTAMP:20260420T195235
CREATED:20260404T231913Z
LAST-MODIFIED:20260404T231916Z
UID:13091-1777113000-1777116600@cambridgecommonwriters.org
SUMMARY:Book Launch with Sara Levine
DESCRIPTION:Join award-winning author Sara Levine (Nonfiction/WFYP\, January 2006) for a book launch of her latest book\, A Visit with the Birds\, and a lively time with reading\, activities\, and discussion.
URL:https://cambridgecommonwriters.org/calendar/book-launch-with-sara-levine/
LOCATION:Willoughby Wallace Memorial Library\, 146 Thimble Islands Road\, Stony Creek\, Connecticut\, 06405\, United States
CATEGORIES:Alum Event
ATTACH;FMTTYPE=image/webp:https://cambridgecommonwriters.org/wp-content/uploads/2025/10/A-visit-with-the-birds-Sara-Levine.webp
END:VEVENT
BEGIN:VEVENT
DTSTART;TZID=America/New_York:20260430T130000
DTEND;TZID=America/New_York:20260430T140000
DTSTAMP:20260420T195235
CREATED:20260418T150312Z
LAST-MODIFIED:20260418T150327Z
UID:13151-1777554000-1777557600@cambridgecommonwriters.org
SUMMARY:Author Talk with Lee Okan
DESCRIPTION:Assistant Professor Lee Okan (Fiction\, January 2015) introduces her new book\, Sexual Violence in Comics: The Ethics of Visualizing Trauma. Join the BHCC community for a reading and discussion as Lee explores how artists navigate the tension between testimony and spectacle in contemporary comics.
URL:https://cambridgecommonwriters.org/calendar/author-talk-with-lee-okan/
LOCATION:Rhode Island
CATEGORIES:Alum Event
ATTACH;FMTTYPE=image/jpeg:https://cambridgecommonwriters.org/wp-content/uploads/2026/02/Lee-Okan-Staff-photo.jpg
END:VEVENT
BEGIN:VEVENT
DTSTART;TZID=America/New_York:20260430T140000
DTEND;TZID=America/New_York:20260430T150000
DTSTAMP:20260420T195235
CREATED:20260404T225215Z
LAST-MODIFIED:20260412T154241Z
UID:13075-1777557600-1777561200@cambridgecommonwriters.org
SUMMARY:Author Talk with Allison Keeton
DESCRIPTION:Join author Allison Keeton (WFYP\, January 2009)\, for a discussion of her Midcoast Maine Mystery Series. Allison will share details about her publishing journey and writing process\, and discuss how she draws upon life in Southern New England and Maine as inspiration. 
URL:https://cambridgecommonwriters.org/calendar/author-talk-with-allison-keeton/
LOCATION:Richard Salter Storrs Library\, 693 Longmeadow St\, Longmeadow\, Massachusetts\, 01106\, United States
CATEGORIES:Alum Event
ATTACH;FMTTYPE=image/jpeg:https://cambridgecommonwriters.org/wp-content/uploads/2026/04/AuthorTalk-AllisonK.jpg
END:VEVENT
END:VCALENDAR