BEGIN:VCALENDAR
VERSION:2.0
PRODID:-//Cambridge Common Writers - ECPv6.15.20//NONSGML v1.0//EN
CALSCALE:GREGORIAN
METHOD:PUBLISH
X-ORIGINAL-URL:https://cambridgecommonwriters.org
X-WR-CALDESC:Events for Cambridge Common Writers
REFRESH-INTERVAL;VALUE=DURATION:PT1H
X-Robots-Tag:noindex
X-PUBLISHED-TTL:PT1H
BEGIN:VTIMEZONE
TZID:America/New_York
BEGIN:DAYLIGHT
TZOFFSETFROM:-0500
TZOFFSETTO:-0400
TZNAME:EDT
DTSTART:20250309T070000
END:DAYLIGHT
BEGIN:STANDARD
TZOFFSETFROM:-0400
TZOFFSETTO:-0500
TZNAME:EST
DTSTART:20251102T060000
END:STANDARD
BEGIN:DAYLIGHT
TZOFFSETFROM:-0500
TZOFFSETTO:-0400
TZNAME:EDT
DTSTART:20260308T070000
END:DAYLIGHT
BEGIN:STANDARD
TZOFFSETFROM:-0400
TZOFFSETTO:-0500
TZNAME:EST
DTSTART:20261101T060000
END:STANDARD
BEGIN:DAYLIGHT
TZOFFSETFROM:-0500
TZOFFSETTO:-0400
TZNAME:EDT
DTSTART:20270314T070000
END:DAYLIGHT
BEGIN:STANDARD
TZOFFSETFROM:-0400
TZOFFSETTO:-0500
TZNAME:EST
DTSTART:20271107T060000
END:STANDARD
END:VTIMEZONE
BEGIN:VEVENT
DTSTART;TZID=America/New_York:20260430T130000
DTEND;TZID=America/New_York:20260430T140000
DTSTAMP:20260420T031622
CREATED:20260418T150312Z
LAST-MODIFIED:20260418T150327Z
UID:13151-1777554000-1777557600@cambridgecommonwriters.org
SUMMARY:Author Talk with Lee Okan
DESCRIPTION:Assistant Professor Lee Okan (Fiction\, January 2015) introduces her new book\, Sexual Violence in Comics: The Ethics of Visualizing Trauma. Join the BHCC community for a reading and discussion as Lee explores how artists navigate the tension between testimony and spectacle in contemporary comics.
URL:https://cambridgecommonwriters.org/calendar/author-talk-with-lee-okan/
CATEGORIES:Alum Event
ATTACH;FMTTYPE=image/jpeg:https://cambridgecommonwriters.org/wp-content/uploads/2026/02/Lee-Okan-Staff-photo.jpg
END:VEVENT
BEGIN:VEVENT
DTSTART;TZID=America/New_York:20260430T140000
DTEND;TZID=America/New_York:20260430T150000
DTSTAMP:20260420T031622
CREATED:20260404T225215Z
LAST-MODIFIED:20260412T154241Z
UID:13075-1777557600-1777561200@cambridgecommonwriters.org
SUMMARY:Author Talk with Allison Keeton
DESCRIPTION:Join author Allison Keeton (WFYP\, January 2009)\, for a discussion of her Midcoast Maine Mystery Series. Allison will share details about her publishing journey and writing process\, and discuss how she draws upon life in Southern New England and Maine as inspiration. 
URL:https://cambridgecommonwriters.org/calendar/author-talk-with-allison-keeton/
LOCATION:Richard Salter Storrs Library\, 693 Longmeadow St\, Longmeadow\, Massachusetts\, 01106\, United States
CATEGORIES:Alum Event
ATTACH;FMTTYPE=image/jpeg:https://cambridgecommonwriters.org/wp-content/uploads/2026/04/AuthorTalk-AllisonK.jpg
END:VEVENT
END:VCALENDAR