BEGIN:VCALENDAR
VERSION:2.0
PRODID:-//Cambridge Common Writers - ECPv6.15.20//NONSGML v1.0//EN
CALSCALE:GREGORIAN
METHOD:PUBLISH
X-ORIGINAL-URL:https://cambridgecommonwriters.org
X-WR-CALDESC:Events for Cambridge Common Writers
REFRESH-INTERVAL;VALUE=DURATION:PT1H
X-Robots-Tag:noindex
X-PUBLISHED-TTL:PT1H
BEGIN:VTIMEZONE
TZID:America/New_York
BEGIN:DAYLIGHT
TZOFFSETFROM:-0500
TZOFFSETTO:-0400
TZNAME:EDT
DTSTART:20250309T070000
END:DAYLIGHT
BEGIN:STANDARD
TZOFFSETFROM:-0400
TZOFFSETTO:-0500
TZNAME:EST
DTSTART:20251102T060000
END:STANDARD
BEGIN:DAYLIGHT
TZOFFSETFROM:-0500
TZOFFSETTO:-0400
TZNAME:EDT
DTSTART:20260308T070000
END:DAYLIGHT
BEGIN:STANDARD
TZOFFSETFROM:-0400
TZOFFSETTO:-0500
TZNAME:EST
DTSTART:20261101T060000
END:STANDARD
BEGIN:DAYLIGHT
TZOFFSETFROM:-0500
TZOFFSETTO:-0400
TZNAME:EDT
DTSTART:20270314T070000
END:DAYLIGHT
BEGIN:STANDARD
TZOFFSETFROM:-0400
TZOFFSETTO:-0500
TZNAME:EST
DTSTART:20271107T060000
END:STANDARD
END:VTIMEZONE
BEGIN:VEVENT
DTSTART;TZID=America/New_York:20260323T180000
DTEND;TZID=America/New_York:20260323T200000
DTSTAMP:20260420T051220
CREATED:20260206T185924Z
LAST-MODIFIED:20260206T185928Z
UID:12873-1774288800-1774296000@cambridgecommonwriters.org
SUMMARY:Women's History Class with Ella Alkiewicz
DESCRIPTION:Join trainer Ella Alkiewicz (Nonfiction\, June 2018) for two hours of bright conversation. Celebrating Strong Women Across the Nation class will read\, write\, and discuss works by Sojourner Truth\, Joy Harjo\, Ruth Bader Ginsburg\, and other incredible women. After reading some of their work\, we will think about how we can apply their traits within ourselves. Open to all! \n\n\n\nElla Nathanael Alkiewicz\, MFA (she/her) is a Labrador Inuk educator\, small business owner\, visual artist\, and writer. She has taught at Mount Holyoke College\, UMass Boston\, Edmonton Lifelong Learners and more. Alkiewicz lives and works in Northampton\, MA.
URL:https://cambridgecommonwriters.org/calendar/womens-history-class-with-ella-alkiewicz/
LOCATION:Online Zoom
CATEGORIES:Alum Event
ATTACH;FMTTYPE=image/jpeg:https://cambridgecommonwriters.org/wp-content/uploads/2024/07/Ella-Alkiewicz-2024.jpeg
END:VEVENT
BEGIN:VEVENT
DTSTART;TZID=America/New_York:20260323T190000
DTEND;TZID=America/New_York:20260323T203000
DTSTAMP:20260420T051220
CREATED:20260314T181159Z
LAST-MODIFIED:20260314T181204Z
UID:13005-1774292400-1774297800@cambridgecommonwriters.org
SUMMARY:Author Talk with Deborah Sosin
DESCRIPTION:Join author Deborah Sosin (Nonfiction\, January 2015) and her developmental editor\, Michael Lowenthal\, to discuss the joys and complexities of conceiving and writing Escape Velocity\, this first-of-its-kind set of linked micro-memoirs of the exact same length. The book chronicles Deborah’s decades-long quest to overcome her family’s gravitational pull and forge a separate self\, capable of a loving\, intimate relationship. 
URL:https://cambridgecommonwriters.org/calendar/author-talk-with-deborah-sosin/
LOCATION:Newtonville Books\, 10 Langley Rd\, Newton\, Massachusetts\, 02459-1972\, United States
CATEGORIES:Alum Event,Mentor Event
ATTACH;FMTTYPE=image/jpeg:https://cambridgecommonwriters.org/wp-content/uploads/2026/01/Deborah-Sosin-2026.jpg
END:VEVENT
END:VCALENDAR