BEGIN:VCALENDAR
VERSION:2.0
PRODID:-//Cambridge Common Writers - ECPv6.15.20//NONSGML v1.0//EN
CALSCALE:GREGORIAN
METHOD:PUBLISH
X-WR-CALNAME:Cambridge Common Writers
X-ORIGINAL-URL:https://cambridgecommonwriters.org
X-WR-CALDESC:Events for Cambridge Common Writers
REFRESH-INTERVAL;VALUE=DURATION:PT1H
X-Robots-Tag:noindex
X-PUBLISHED-TTL:PT1H
BEGIN:VTIMEZONE
TZID:America/New_York
BEGIN:DAYLIGHT
TZOFFSETFROM:-0500
TZOFFSETTO:-0400
TZNAME:EDT
DTSTART:20250309T070000
END:DAYLIGHT
BEGIN:STANDARD
TZOFFSETFROM:-0400
TZOFFSETTO:-0500
TZNAME:EST
DTSTART:20251102T060000
END:STANDARD
BEGIN:DAYLIGHT
TZOFFSETFROM:-0500
TZOFFSETTO:-0400
TZNAME:EDT
DTSTART:20260308T070000
END:DAYLIGHT
BEGIN:STANDARD
TZOFFSETFROM:-0400
TZOFFSETTO:-0500
TZNAME:EST
DTSTART:20261101T060000
END:STANDARD
BEGIN:DAYLIGHT
TZOFFSETFROM:-0500
TZOFFSETTO:-0400
TZNAME:EDT
DTSTART:20270314T070000
END:DAYLIGHT
BEGIN:STANDARD
TZOFFSETFROM:-0400
TZOFFSETTO:-0500
TZNAME:EST
DTSTART:20271107T060000
END:STANDARD
END:VTIMEZONE
BEGIN:VEVENT
DTSTART;TZID=America/New_York:20260222T130000
DTEND;TZID=America/New_York:20260222T140000
DTSTAMP:20260420T064150
CREATED:20260219T014635Z
LAST-MODIFIED:20260219T014638Z
UID:12887-1771765200-1771768800@cambridgecommonwriters.org
SUMMARY:Longfellow Days: Sunday Reading with Kate Kearns
DESCRIPTION:Lancaster Lounge\, Moulton Union at Bowdoin College \n\n\n\nVisit the Lancaster Lounge\, Moulton Union at Bowdoin College for the final Longfellow Days Sunday Reading with three Maine poets: Marcia Brown\, Marita O’Neil and Kate Kearns (June 2008). \n\n\n\nMarcia F. Brown is the author of five books of poetry and the essay collection Well Read\, Well Fed ~ A Year of Great Reads and Simple Dishes for Book Groups.  Marcia served as Poet Laureate for the City of Portland\, ME and co-hosts the monthly Local Buzz Reading Series at The Yarmouth History Center. \n\n\n\nMarita O’Neill lives in Portland with her dog\, Sweetpea. She received her MFA in Poetry from Vermont College of Fine Arts. She has had poems published in the Maine Sunday Telegram’s “Deep Water” series\, Maine Public Radio’s “Poems from Here\,” Cafe Review\, and other magazines. Deerbrook Editions published her new book\, Wild Nest\, No Prison\, last spring. \n\n\n\nKate Kearns is the author of You Are Ruining My Loneliness (Littoral Books\, 2023)\, and a chapbook called How to Love an Introvert (Finishing Line Press\, 2015). Her work has appeared or is forthcoming in Prairie Schooner\, Appalachian Review\, Common Ground Review\, Sugar House Review\, Maine Sunday Telegram\, Maine Public Radio’s “Poems from Here\,” and elsewhere. Kate was a finalist for the 2024 Charles Simic Poetry Prize and the 2024 Maine Postmark Poetry Contest. She earned her MFA from Lesley
URL:https://cambridgecommonwriters.org/calendar/longfellow-days-sunday-reading-with-kate-kearns/
LOCATION:Lancaster Lounge\, Moulton Union at Bowdoin College\, 6 S Campus Drive\, Brunswick\, Maine\, 04011\, United States
CATEGORIES:Alum Event
ATTACH;FMTTYPE=image/jpeg:https://cambridgecommonwriters.org/wp-content/uploads/2026/02/Screenshot-2026-02-18-at-8.46.14-PM.jpg
ORGANIZER;CN="Unitarian Universalist Church of Brunswick":MAILTO:administrator@uubrunswick.org
END:VEVENT
END:VCALENDAR