BEGIN:VCALENDAR
VERSION:2.0
PRODID:-//Cambridge Common Writers - ECPv6.15.20//NONSGML v1.0//EN
CALSCALE:GREGORIAN
METHOD:PUBLISH
X-WR-CALNAME:Cambridge Common Writers
X-ORIGINAL-URL:https://cambridgecommonwriters.org
X-WR-CALDESC:Events for Cambridge Common Writers
REFRESH-INTERVAL;VALUE=DURATION:PT1H
X-Robots-Tag:noindex
X-PUBLISHED-TTL:PT1H
BEGIN:VTIMEZONE
TZID:America/New_York
BEGIN:DAYLIGHT
TZOFFSETFROM:-0500
TZOFFSETTO:-0400
TZNAME:EDT
DTSTART:20250309T070000
END:DAYLIGHT
BEGIN:STANDARD
TZOFFSETFROM:-0400
TZOFFSETTO:-0500
TZNAME:EST
DTSTART:20251102T060000
END:STANDARD
BEGIN:DAYLIGHT
TZOFFSETFROM:-0500
TZOFFSETTO:-0400
TZNAME:EDT
DTSTART:20260308T070000
END:DAYLIGHT
BEGIN:STANDARD
TZOFFSETFROM:-0400
TZOFFSETTO:-0500
TZNAME:EST
DTSTART:20261101T060000
END:STANDARD
BEGIN:DAYLIGHT
TZOFFSETFROM:-0500
TZOFFSETTO:-0400
TZNAME:EDT
DTSTART:20270314T070000
END:DAYLIGHT
BEGIN:STANDARD
TZOFFSETFROM:-0400
TZOFFSETTO:-0500
TZNAME:EST
DTSTART:20271107T060000
END:STANDARD
END:VTIMEZONE
BEGIN:VEVENT
DTSTART;TZID=America/New_York:20260108T190000
DTEND;TZID=America/New_York:20260108T210000
DTSTAMP:20260420T083429
CREATED:20251228T190734Z
LAST-MODIFIED:20251228T190740Z
UID:12694-1767898800-1767906000@cambridgecommonwriters.org
SUMMARY:2nd Thursday Poetry Reading with Eileen Cleary & Robbie Gamble
DESCRIPTION:Eileen Cleary (Poetry\, June 2016) and Robbie Gamble (Poetry/Nonfiction\, January 2017/June 2020) are featured readers at MAC.  All readings are free and open to the public with an Open Mic before the featured speakers. Space is limited at the Open Mic\, signup starts at 645 pm the night of the reading.
URL:https://cambridgecommonwriters.org/calendar/2nd-thursday-poetry-reading-with-eileen-cleary-robbie-gamble/
LOCATION:Menino Arts Center\, 26 Central Avenue\, Hyde Park\, Massachusetts\, 02136\, United States
CATEGORIES:Alum Event
ATTACH;FMTTYPE=image/jpeg:https://cambridgecommonwriters.org/wp-content/uploads/2022/11/Eileen-Cleary.jpg
ORGANIZER;CN="Linda Carney-Goodrich":MAILTO:poetry@hpaa-mac.org
END:VEVENT
END:VCALENDAR